PDS_VERSION_ID = PDS3
/* FILE DATA ELEMENTS */
RECORD_TYPE = UNDEFINED
/* POINTERS TO DATA OBJECTS */
^IMAGE = ("HQ466_0000_ND4.TIF")
/* IDENTIFICATION DATA ELEMENTS */
DATA_SET_ID = "MEX-M-HRSC-4-REFDR-MAPPROJECT-EXT9-V4.0"
DATA_SET_NAME = "MARS EXPRESS HRSC MAP PROJECTED REFDR EXTENSION9 V4.0"
DETECTOR_ID = MEX_HRSC_NADIR
EVENT_TYPE = "MARS-TERMINATOR-CALIBRATION-Tc"
INSTRUMENT_HOST_ID = MEX
INSTRUMENT_HOST_NAME = "MARS EXPRESS"
INSTRUMENT_ID = HRSC
INSTRUMENT_NAME = "HIGH RESOLUTION STEREO CAMERA"
MISSION_NAME = "MARS EXPRESS"
MISSION_PHASE_NAME = ME_Phase_50
PROCESSING_LEVEL_ID = 4
PRODUCT_CREATION_TIME = 2025-01-29T19:26:23.000Z
PRODUCT_ID = "HQ466_0000_ND4.TIF"
RELEASE_ID = 0022
REVISION_ID = 0000
/* QUALITY DATA ELEMENTS */
DATA_QUALITY_ID = 1
DATA_QUALITY_DESC = "Data calculated based on original SPICE kernels"
/* TIME DATA ELEMENTS */
SPACECRAFT_CLOCK_START_COUNT = "1/0682704319.64170"
SPACECRAFT_CLOCK_STOP_COUNT = "1/0682704764.57470"
START_TIME = 2024-12-19T16:07:57.652Z
STOP_TIME = 2024-12-19T16:11:52.644Z
/* ORBITAL DATA ELEMENTS */
ASCENDING_NODE_LONGITUDE = 84.47
MAXIMUM_RESOLUTION = 0.3262
FOOTPRINT_POINT_LATITUDE = (-7.94913,-7.75776,-8.70193,-7.67081, -7.66322,-7.29718,-6.43777,-7.39866, -5.01188,-6.37037,-4.4982,-6.82569, -4.15591,-6.81959,-6.07765,-3.41136, -5.30202,-4.00251,-7.03394,-10.5568, -15.4945,-19.2943,-23.5166,-25.8471, -29.4427,-32.0562,-35.5884,-38.455, -39.8567,-41.2009,-41.8008,-41.783, -41.4361,-40.473,-39.3086,-37.2719, -35.8284,-33.4323,-31.6637,-29.335, -26.2572,-22.9649,-20.4707,-17.2949, -15.6656,-17.8409,-16.3847,-17.6961, -19.3524,-20.6327,-21.1437,-21.4427, -22.5929,-21.7145,-22.4854,-23.6886, -24.2029,-24.111,-26.4303,-28.7486, -31.196,-36.8504,-40.3378,-45.1862, -48.4882,-50.7881,-52.9742,-56.1872, -59.3901,-63.685,-66.3212,-69.8377, -71.8141,-73.2943,-74.8197,-76.1754, -76.3945,-75.963,-74.9169,-73.232, -71.7157,-69.1097,-66.7072,-62.6185, -58.6683,-56.2982,-53.6526,-50.9181, -46.8479,-43.4886,-38.3591,-34.7446, -31.5506,-29.2264,-26.2837,-23.864, -20.1903,-16.5069,-13.1368,-7.94913)
FOOTPRINT_POINT_LONGITUDE = (340.559,340.588,340.121,336.915, 332.648,329.055,325.091,322.678,322.808 ,319.318,316.455,313.751,310.886, 308.828,306.231,304.045,300.451,296.939 ,296.539,296.08,294.921,293.575,291.537 ,290.113,287.353,284.837,280.118, 274.782,271.053,265.785,260.996,253.327 ,250.097,245.386,241.624,236.939, 234.434,231.103,229.098,226.889,224.54, 222.57,221.39,220.194,215.669,213.07, 209.827,206.956,204.336,199.995,197.042 ,193.583,190.337,186.829,183.302, 179.855,174.601,173.754,173.495,174.054 ,174.683,176.344,177.539,179.493, 181.079,182.343,183.688,185.993,188.795 ,193.738,197.808,205.349,211.437, 217.608,226.778,242.395,259.184,269.338 ,280.465,290.717,296.973,304.621, 309.713,315.994,320.375,322.486,324.533 ,326.368,328.696,330.337,332.485, 333.794,334.84,335.546,336.381,337.027, 337.938,338.79,339.517,340.559)
ORBIT_NUMBER = 26466
ORBITAL_ECCENTRICITY = 0.567
ORBITAL_INCLINATION = 87.13
ORBITAL_SEMIMAJOR_AXIS = 8764.43
PERIAPSIS_ALTITUDE = 419.37
PERIAPSIS_ARGUMENT_ANGLE = 108.76
PERIAPSIS_TIME = 2024-12-19T14:19:08.000Z
SPACECRAFT_ORIENTATION = (0.0,-1.0,0.0)
^MEX_ORIENTATION_DESC = "MEX_ORIENTATION_DESC.TXT"
SPACECRAFT_POINTING_MODE = FIXED
^MEX_POINTING_DESC = "MEX_POINTING_DESC.TXT"
RIGHT_ASCENSION = -1e+32
DECLINATION = -1e+32
OFFSET_ANGLE = -1e+32
SPACECRAFT_SOLAR_DISTANCE = 2.39379e+08
TARGET_NAME = MARS
/* CAMERA DATA ELEMENTS */
DETECTOR_TEMPERATURE = 17.9627
FOCAL_PLANE_TEMPERATURE = 9.195
INST_CMPRS_NAME = "DISCRETE COSINE TRANSFORMATION (DCT)"
INST_CMPRS_RATIO = 8.34706
INST_CMPRS_QUALITY = 0
INST_CMPRS_QUANTZ_TBL_ID = 0
INSTRUMENT_TEMPERATURE = 11.234
LENS_TEMPERATURE = 9.195
MACROPIXEL_SIZE = 1
MISSING_FRAMES = 0
PIXEL_SUBSAMPLING_FLAG = N
SIGNAL_CHAIN_ID = 0
/* RADIOMETRIC DATA ELEMENTS */
BANDWIDTH = 177.0
CENTER_FILTER_WAVELENGTH = 677.5
RADIANCE_OFFSET = 0.0
RADIANCE_SCALING_FACTOR = 0.0411785
REFLECTANCE_SCALING_FACTOR = 0.00125363
MEX:REFLECTANCE_OFFSET = 0.0
/* IMAGE OBJECT DEFINITIONS */
OBJECT = IMAGE
  INTERCHANGE_FORMAT = BINARY
  LINES = 9699
  LINE_SAMPLES = 15513
  SAMPLE_TYPE = UNSIGNED_INTEGER
  SAMPLE_BITS = 8
  BANDS = 1
  BAND_STORAGE_TYPE = BAND_SEQUENTIAL
  MAXIMUM = 255
  MEAN = 95.8842
  MINIMUM = 11
  STANDARD_DEVIATION = 44.6191
END_OBJECT = IMAGE
/* MAP OBJECT DEFINITIONS */
OBJECT = IMAGE_MAP_PROJECTION
  ^DATA_SET_MAP_PROJECTION_CATALOG= "DSMAP.CAT"
  A_AXIS_RADIUS = 3396.0
  B_AXIS_RADIUS = 3396.0
  C_AXIS_RADIUS = 3396.0
  CENTER_LATITUDE = -59.8104
  CENTER_LONGITUDE = 273.443
  COORDINATE_SYSTEM_NAME = PLANETOGRAPHIC
  COORDINATE_SYSTEM_TYPE = "BODY-FIXED ROTATING"
  EASTERNMOST_LONGITUDE = 340.588
  FIRST_STANDARD_PARALLEL = "N/A"
  LINE_FIRST_PIXEL = 1
  LINE_LAST_PIXEL = 9699
  LINE_PROJECTION_OFFSET = 6297.0
  MAP_PROJECTION_ROTATION = 0.0
  MAP_PROJECTION_TYPE = ORTHOGRAPHIC
  MAP_RESOLUTION = 148.178450966667
  MAP_SCALE = 0.4
  MAXIMUM_LATITUDE = -3.41136
  MINIMUM_LATITUDE = -76.39449999999999
  POSITIVE_LONGITUDE_DIRECTION = EAST
  REFERENCE_LATITUDE = "N/A"
  REFERENCE_LONGITUDE = "N/A"
  SAMPLE_FIRST_PIXEL = 1
  SAMPLE_LAST_PIXEL = 15513
  SAMPLE_PROJECTION_OFFSET = 7770.0
  SECOND_STANDARD_PARALLEL = "N/A"
  WESTERNMOST_LONGITUDE = 173.495
END_OBJECT = IMAGE_MAP_PROJECTION
END
