PDS_VERSION_ID = PDS3
/* FILE DATA ELEMENTS */
RECORD_TYPE = UNDEFINED
/* POINTERS TO DATA OBJECTS */
^IMAGE = ("HQ475_0000_P24.TIF")
/* IDENTIFICATION DATA ELEMENTS */
DATA_SET_ID = "MEX-M-HRSC-4-REFDR-MAPPROJECT-EXT9-V4.0"
DATA_SET_NAME = "MARS EXPRESS HRSC MAP PROJECTED REFDR EXTENSION9 V4.0"
DETECTOR_ID = MEX_HRSC_P2
EVENT_TYPE = "MARS-REGIONAL-VARIABLE-Gl-La-At"
INSTRUMENT_HOST_ID = MEX
INSTRUMENT_HOST_NAME = "MARS EXPRESS"
INSTRUMENT_ID = HRSC
INSTRUMENT_NAME = "HIGH RESOLUTION STEREO CAMERA"
MISSION_NAME = "MARS EXPRESS"
MISSION_PHASE_NAME = ME_Phase_50
PROCESSING_LEVEL_ID = 4
PRODUCT_CREATION_TIME = 2025-01-29T19:26:23.000Z
PRODUCT_ID = "HQ475_0000_P24.TIF"
RELEASE_ID = 0022
REVISION_ID = 0000
/* QUALITY DATA ELEMENTS */
DATA_QUALITY_ID = 1
DATA_QUALITY_DESC = "Data calculated based on original SPICE kernels"
/* TIME DATA ELEMENTS */
SPACECRAFT_CLOCK_START_COUNT = "1/0682923970.65135"
SPACECRAFT_CLOCK_STOP_COUNT = "1/0682924188.64550"
START_TIME = 2024-12-22T05:08:07.283Z
STOP_TIME = 2024-12-22T05:10:27.836Z
/* ORBITAL DATA ELEMENTS */
ASCENDING_NODE_LONGITUDE = 84.31
MAXIMUM_RESOLUTION = 0.0353
FOOTPRINT_POINT_LATITUDE = (86.4798,86.337,86.1125,85.7817,85.5957 ,85.367,85.3547,85.4235,85.2232,85.0841 ,84.8651,84.713,84.5565,84.396,84.2319, 84.0645,83.8952,83.7247,83.5531,83.3799 ,83.1161,82.9372,82.6667,82.4847, 82.3012,82.1175,81.9317,81.7458,81.4724 ,81.2894,81.1033,80.9183,80.7315, 80.5445,80.357,80.1688,79.9801,79.6961, 79.5063,79.3162,79.0302,78.8391,78.6483 ,78.4616,78.0875,77.8065,77.4308, 77.0547,76.5838,76.4895,76.4838,76.5584 ,76.6276,76.6758,76.7409,76.8065,76.809 ,76.8104,77.2943,77.6823,78.07,78.5548, 78.8457,79.0396,79.238,79.4371,79.6361, 79.8351,80.0343,80.3329,80.5319,80.8302 ,81.0289,81.3256,81.5237,81.722,81.9192 ,82.1181,82.314,82.6164,82.8182,83.119, 83.321,83.6214,83.8219,84.1209,84.3197, 84.5177,84.8163,85.0161,85.2159,85.4148 ,85.6098,85.8033,85.9953,86.1846, 86.3714,86.5545,86.6445,86.4798)
FOOTPRINT_POINT_LONGITUDE = (75.5746,72.6018,68.6519,63.9552, 61.7378,59.3285,59.208,57.0418,60.3161, 62.3089,65.0877,66.8055,68.4238,69.9488 ,71.3839,72.7372,73.9995,75.1913, 76.3052,77.354,78.8268,79.7516,81.0446, 81.8522,82.6212,83.3459,84.0425,84.7049 ,85.6128,86.1836,86.7431,87.2688, 87.7787,88.2657,88.7324,89.1813,89.6126 ,90.2291,90.6203,90.9968,91.5363, 91.8798,92.2099,92.5215,93.1134,93.5316 ,94.0595,94.5539,95.1299,95.24,95.2466, 96.4585,97.6829,98.609,99.9787,101.551, 101.614,101.637,101.315,101.039,100.744 ,100.346,100.09,99.9113,99.7218,99.5243 ,99.3189,99.1052,98.8829,98.5315, 98.2845,97.8934,97.6177,97.1795,96.87, 96.5454,96.2044,95.8462,95.4687,94.8513 ,94.408,93.6936,93.1803,92.3492,91.7489 ,90.771,90.0607,89.2983,88.03,87.0862, 86.0599,84.9416,83.7276,82.3981,80.9359 ,79.3255,77.5432,75.5564,74.4747, 75.5746)
ORBIT_NUMBER = 26475
ORBITAL_ECCENTRICITY = 0.567
ORBITAL_INCLINATION = 87.13
ORBITAL_SEMIMAJOR_AXIS = 8765.5
PERIAPSIS_ALTITUDE = 419.09
PERIAPSIS_ARGUMENT_ANGLE = 107.2
PERIAPSIS_TIME = 2024-12-22T05:11:02.000Z
SPACECRAFT_ORIENTATION = (0.0,-1.0,0.0)
^MEX_ORIENTATION_DESC = "MEX_ORIENTATION_DESC.TXT"
SPACECRAFT_POINTING_MODE = INERT
^MEX_POINTING_DESC = "MEX_POINTING_DESC.TXT"
RIGHT_ASCENSION = 132.224
DECLINATION = -35.933
OFFSET_ANGLE = -1e+32
SPACECRAFT_SOLAR_DISTANCE = 2.39786e+08
TARGET_NAME = MARS
/* CAMERA DATA ELEMENTS */
DETECTOR_TEMPERATURE = 17.9627
FOCAL_PLANE_TEMPERATURE = 7.7677
INST_CMPRS_NAME = "DISCRETE COSINE TRANSFORMATION (DCT)"
INST_CMPRS_RATIO = 7.46493
INST_CMPRS_QUALITY = 0
INST_CMPRS_QUANTZ_TBL_ID = 0
INSTRUMENT_TEMPERATURE = 10.6223
LENS_TEMPERATURE = 8.5833
MACROPIXEL_SIZE = 2
MISSING_FRAMES = 0
PIXEL_SUBSAMPLING_FLAG = N
SIGNAL_CHAIN_ID = 3
/* RADIOMETRIC DATA ELEMENTS */
BANDWIDTH = 177.0
CENTER_FILTER_WAVELENGTH = 676.5
RADIANCE_OFFSET = 2.89603
RADIANCE_SCALING_FACTOR = 0.0119364
REFLECTANCE_SCALING_FACTOR = 0.000363895
MEX:REFLECTANCE_OFFSET = 0.0882886
/* IMAGE OBJECT DEFINITIONS */
OBJECT = IMAGE
  INTERCHANGE_FORMAT = BINARY
  LINES = 24093
  LINE_SAMPLES = 12138
  SAMPLE_TYPE = UNSIGNED_INTEGER
  SAMPLE_BITS = 8
  BANDS = 1
  BAND_STORAGE_TYPE = BAND_SEQUENTIAL
  MAXIMUM = 255
  MEAN = 110.354
  MINIMUM = 1
  STANDARD_DEVIATION = 46.9839
END_OBJECT = IMAGE
/* MAP OBJECT DEFINITIONS */
OBJECT = IMAGE_MAP_PROJECTION
  ^DATA_SET_MAP_PROJECTION_CATALOG= "DSMAP.CAT"
  A_AXIS_RADIUS = 3396.0
  B_AXIS_RADIUS = 3396.0
  C_AXIS_RADIUS = 3396.0
  CENTER_LATITUDE = 0.0
  CENTER_LONGITUDE = 91.0
  COORDINATE_SYSTEM_NAME = PLANETOGRAPHIC
  COORDINATE_SYSTEM_TYPE = "BODY-FIXED ROTATING"
  EASTERNMOST_LONGITUDE = 101.637
  FIRST_STANDARD_PARALLEL = "N/A"
  LINE_FIRST_PIXEL = 1
  LINE_LAST_PIXEL = 24093
  LINE_PROJECTION_OFFSET = 205400.25
  MAP_PROJECTION_ROTATION = 0.0
  MAP_PROJECTION_TYPE = SINUSOIDAL
  MAP_RESOLUTION = 2370.85521546667
  MAP_SCALE = 0.025
  MAXIMUM_LATITUDE = 86.64449999999999
  MINIMUM_LATITUDE = 76.4838
  POSITIVE_LONGITUDE_DIRECTION = EAST
  REFERENCE_LATITUDE = "N/A"
  REFERENCE_LONGITUDE = "N/A"
  SAMPLE_FIRST_PIXEL = 1
  SAMPLE_LAST_PIXEL = 12138
  SAMPLE_PROJECTION_OFFSET = 6335.25
  SECOND_STANDARD_PARALLEL = "N/A"
  WESTERNMOST_LONGITUDE = 57.0418
END_OBJECT = IMAGE_MAP_PROJECTION
END
