PDS_VERSION_ID = PDS3
/* FILE DATA ELEMENTS */
RECORD_TYPE = UNDEFINED
/* POINTERS TO DATA OBJECTS */
^IMAGE = ("HQ477_0000_BL4.TIF")
/* IDENTIFICATION DATA ELEMENTS */
DATA_SET_ID = "MEX-M-HRSC-4-REFDR-MAPPROJECT-EXT9-V4.0"
DATA_SET_NAME = "MARS EXPRESS HRSC MAP PROJECTED REFDR EXTENSION9 V4.0"
DETECTOR_ID = MEX_HRSC_BLUE
EVENT_TYPE = "MARS-REGIONAL-VARIABLE-Gl-La-At"
INSTRUMENT_HOST_ID = MEX
INSTRUMENT_HOST_NAME = "MARS EXPRESS"
INSTRUMENT_ID = HRSC
INSTRUMENT_NAME = "HIGH RESOLUTION STEREO CAMERA"
MISSION_NAME = "MARS EXPRESS"
MISSION_PHASE_NAME = ME_Phase_50
PROCESSING_LEVEL_ID = 4
PRODUCT_CREATION_TIME = 2025-01-29T19:26:23.000Z
PRODUCT_ID = "HQ477_0000_BL4.TIF"
RELEASE_ID = 0022
REVISION_ID = 0000
/* QUALITY DATA ELEMENTS */
DATA_QUALITY_ID = 1
DATA_QUALITY_DESC = "Data calculated based on original SPICE kernels"
/* TIME DATA ELEMENTS */
SPACECRAFT_CLOCK_START_COUNT = "1/0682974283.64195"
SPACECRAFT_CLOCK_STOP_COUNT = "1/0682974509.63356"
START_TIME = 2024-12-22T19:06:19.674Z
STOP_TIME = 2024-12-22T19:08:52.026Z
/* ORBITAL DATA ELEMENTS */
ASCENDING_NODE_LONGITUDE = 84.28
MAXIMUM_RESOLUTION = 0.068
FOOTPRINT_POINT_LATITUDE = (85.6651,85.4329,85.2588,85.1182,84.905 ,84.7594,84.7496,84.7928,84.5407, 84.3706,84.1965,84.0188,83.8396,83.6552 ,83.4684,83.2794,83.0877,82.8968, 82.7061,82.4164,82.2214,82.0252,81.8286 ,81.63,81.3299,81.1288,80.8268,80.6287, 80.4302,80.1306,79.9301,79.7291,79.5275 ,79.3254,79.123,78.8186,78.6151,78.4113 ,78.207,77.9,77.695,77.4941,77.0933, 76.7921,76.4906,75.9867,75.4819,75.0773 ,74.9761,74.8973,74.9728,75.0607, 75.1394,75.1805,75.1826,75.1844,75.5974 ,75.9072,76.3204,76.7333,76.9397, 77.1461,77.3527,77.5591,77.7654,77.9717 ,78.2879,78.6053,78.8167,79.0283, 79.3455,79.5567,79.7677,79.9787,80.1898 ,80.4006,80.611,80.8202,81.0304,81.2404 ,81.5598,81.882,82.0964,82.3106,82.5247 ,82.7388,83.0559,83.2678,83.4796, 83.6912,83.9072,84.1228,84.4422,84.6535 ,84.8651,85.0753,85.2821,85.5928,85.697 ,85.6651)
FOOTPRINT_POINT_LONGITUDE = (238.106,233.21,230.176,228.014,225.115 ,223.35,223.236,222.063,224.672,226.244 ,227.722,229.112,230.39,231.628,232.789 ,233.88,234.916,235.878,236.779,238.049 ,238.841,239.592,240.297,240.976, 241.935,242.536,243.383,243.905,244.402 ,245.113,245.563,245.995,246.409, 246.807,247.189,247.735,248.082,248.416 ,248.738,249.2,249.495,249.773,250.3, 250.674,251.028,251.584,252.099,252.484 ,252.576,252.647,253.888,255.51,257.204 ,258.219,258.272,258.29,258.072,257.901 ,257.66,257.403,257.269,257.13,256.986, 256.838,256.684,256.525,256.269,255.998 ,255.808,255.611,255.301,255.083, 254.856,254.618,254.371,254.113,253.842 ,253.556,253.26,252.948,252.444,251.894 ,251.501,251.087,250.648,250.184,249.43 ,248.888,248.311,247.695,247.019, 246.293,245.097,244.219,243.268,242.235 ,241.111,239.208,238.5,238.106)
ORBIT_NUMBER = 26477
ORBITAL_ECCENTRICITY = 0.567
ORBITAL_INCLINATION = 87.12
ORBITAL_SEMIMAJOR_AXIS = 8762.93
PERIAPSIS_ALTITUDE = 419.58
PERIAPSIS_ARGUMENT_ANGLE = 106.86
PERIAPSIS_TIME = 2024-12-22T19:09:16.000Z
SPACECRAFT_ORIENTATION = (0.0,-1.0,0.0)
^MEX_ORIENTATION_DESC = "MEX_ORIENTATION_DESC.TXT"
SPACECRAFT_POINTING_MODE = INERT
^MEX_POINTING_DESC = "MEX_POINTING_DESC.TXT"
RIGHT_ASCENSION = 132.215
DECLINATION = -36.314
OFFSET_ANGLE = -1e+32
SPACECRAFT_SOLAR_DISTANCE = 2.39875e+08
TARGET_NAME = MARS
/* CAMERA DATA ELEMENTS */
DETECTOR_TEMPERATURE = 17.351
FOCAL_PLANE_TEMPERATURE = 8.1755
INST_CMPRS_NAME = "DISCRETE COSINE TRANSFORMATION (DCT)"
INST_CMPRS_RATIO = 14.2955
INST_CMPRS_QUALITY = 0
INST_CMPRS_QUANTZ_TBL_ID = 0
INSTRUMENT_TEMPERATURE = 11.0301
LENS_TEMPERATURE = 8.3794
MACROPIXEL_SIZE = 4
MISSING_FRAMES = 0
PIXEL_SUBSAMPLING_FLAG = N
SIGNAL_CHAIN_ID = 2
/* RADIOMETRIC DATA ELEMENTS */
BANDWIDTH = 76.0
CENTER_FILTER_WAVELENGTH = 444.0
RADIANCE_OFFSET = 0.622712
RADIANCE_SCALING_FACTOR = 0.0035661
REFLECTANCE_SCALING_FACTOR = 0.000210823
MEX:REFLECTANCE_OFFSET = 0.0368139
/* IMAGE OBJECT DEFINITIONS */
OBJECT = IMAGE
  INTERCHANGE_FORMAT = BINARY
  LINES = 12897
  LINE_SAMPLES = 5528
  SAMPLE_TYPE = UNSIGNED_INTEGER
  SAMPLE_BITS = 8
  BANDS = 1
  BAND_STORAGE_TYPE = BAND_SEQUENTIAL
  MAXIMUM = 255
  MEAN = 85.1027
  MINIMUM = 1
  STANDARD_DEVIATION = 42.5787
END_OBJECT = IMAGE
/* MAP OBJECT DEFINITIONS */
OBJECT = IMAGE_MAP_PROJECTION
  ^DATA_SET_MAP_PROJECTION_CATALOG= "DSMAP.CAT"
  A_AXIS_RADIUS = 3396.0
  B_AXIS_RADIUS = 3396.0
  C_AXIS_RADIUS = 3396.0
  CENTER_LATITUDE = 0.0
  CENTER_LONGITUDE = 250.0
  COORDINATE_SYSTEM_NAME = PLANETOGRAPHIC
  COORDINATE_SYSTEM_TYPE = "BODY-FIXED ROTATING"
  EASTERNMOST_LONGITUDE = 258.29
  FIRST_STANDARD_PARALLEL = "N/A"
  LINE_FIRST_PIXEL = 1
  LINE_LAST_PIXEL = 12897
  LINE_PROJECTION_OFFSET = 101672.625
  MAP_PROJECTION_ROTATION = 0.0
  MAP_PROJECTION_TYPE = SINUSOIDAL
  MAP_RESOLUTION = 1185.42760773333
  MAP_SCALE = 0.05
  MAXIMUM_LATITUDE = 85.697
  MINIMUM_LATITUDE = 74.8973
  POSITIVE_LONGITUDE_DIRECTION = EAST
  REFERENCE_LATITUDE = "N/A"
  REFERENCE_LONGITUDE = "N/A"
  SAMPLE_FIRST_PIXEL = 1
  SAMPLE_LAST_PIXEL = 5528
  SAMPLE_PROJECTION_OFFSET = 3005.875
  SECOND_STANDARD_PARALLEL = "N/A"
  WESTERNMOST_LONGITUDE = 222.063
END_OBJECT = IMAGE_MAP_PROJECTION
END
