PDS_VERSION_ID = PDS3
/* FILE DATA ELEMENTS */
RECORD_TYPE = UNDEFINED
/* POINTERS TO DATA OBJECTS */
^IMAGE = ("HQ478_0000_RE4.TIF")
/* IDENTIFICATION DATA ELEMENTS */
DATA_SET_ID = "MEX-M-HRSC-4-REFDR-MAPPROJECT-EXT9-V4.0"
DATA_SET_NAME = "MARS EXPRESS HRSC MAP PROJECTED REFDR EXTENSION9 V4.0"
DETECTOR_ID = MEX_HRSC_RED
EVENT_TYPE = "MARS-TERMINATOR-CALIBRATION-Tc"
INSTRUMENT_HOST_ID = MEX
INSTRUMENT_HOST_NAME = "MARS EXPRESS"
INSTRUMENT_ID = HRSC
INSTRUMENT_NAME = "HIGH RESOLUTION STEREO CAMERA"
MISSION_NAME = "MARS EXPRESS"
MISSION_PHASE_NAME = ME_Phase_50
PROCESSING_LEVEL_ID = 4
PRODUCT_CREATION_TIME = 2025-01-29T19:26:23.000Z
PRODUCT_ID = "HQ478_0000_RE4.TIF"
RELEASE_ID = 0022
REVISION_ID = 0000
/* QUALITY DATA ELEMENTS */
DATA_QUALITY_ID = 1
DATA_QUALITY_DESC = "Data calculated based on original SPICE kernels"
/* TIME DATA ELEMENTS */
SPACECRAFT_CLOCK_START_COUNT = "1/0683003706.65090"
SPACECRAFT_CLOCK_STOP_COUNT = "1/0683004209.63217"
START_TIME = 2024-12-23T03:19:31.699Z
STOP_TIME = 2024-12-23T03:24:20.697Z
/* ORBITAL DATA ELEMENTS */
ASCENDING_NODE_LONGITUDE = 84.26
MAXIMUM_RESOLUTION = 0.4748
FOOTPRINT_POINT_LATITUDE = (-3.40373,-3.3602,-2.84265,-1.22428, 0.170325,0.380927,1.91009,2.61516, 4.7977,3.76791,6.12142,5.45821,7.79343, 4.93306,2.13554,-1.97714,-4.88941, -7.22563,-11.0203,-13.9186,-17.7626, -20.5862,-23.8304,-25.8009,-28.1946, -30.8525,-32.5297,-34.0151,-35.4216, -38.1863,-40.7124,-42.234,-42.9712, -43.7997,-44.2209,-44.445,-44.4359, -43.9332,-43.2746,-42.347,-41.5484, -40.1529,-38.2797,-36.7589,-34.2911, -31.3804,-29.4575,-27.79,-24.3196,-23.8 ,-23.2088,-26.4363,-27.9121,-29.5794, -30.4292,-32.164,-32.942,-34.8616, -37.1836,-39.0084,-42.3785,-46.2429, -48.1238,-50.3914,-53.4924,-56.3154, -59.5248,-61.6578,-63.1737,-65.1492, -66.0832,-66.3266,-65.7035,-64.9016, -63.4939,-62.353,-60.6076,-59.1855, -56.7645,-55.0352,-51.9599,-50.0097, -48.0542,-44.9803,-42.4656,-39.0937, -37.0535,-34.0387,-32.1262,-29.7362, -27.6817,-25.719,-23.5912,-20.6767, -18.7246,-15.9365,-13.0763,-10.9145, -7.67015,-3.40373)
FOOTPRINT_POINT_LONGITUDE = (206.773,206.787,205.092,201.58,199.729 ,197.505,195.415,191.805,190.616, 188.244,185.794,183.588,181.792,180.064 ,178.98,177.259,175.924,174.784,172.748 ,171.047,168.542,166.483,163.831, 162.038,159.639,156.616,154.476,152.386 ,150.209,145.121,138.996,134.004, 130.842,125.923,122.118,117.604,114.482 ,107.576,103.25,99.0066,96.159,92.0875, 87.7028,84.7412,80.6851,76.7008,74.4545 ,72.6414,69.3791,66.5122,63.8619, 60.8385,58.0626,55.9826,51.9476,49.5362 ,47.9731,45.1447,40.5225,38.2377, 41.1845,45.0423,47.163,49.9769,54.455, 59.406,66.6028,72.9248,78.7428,89.9045, 99.8632,113.232,124.084,130.905,138.916 ,143.771,149.694,153.665,159.29,162.677 ,167.826,170.657,173.24,176.889,179.581 ,182.87,184.716,187.28,188.825,190.674, 192.208,193.628,195.127,197.119,198.42, 200.24,202.07,203.439,205.472,206.773)
ORBIT_NUMBER = 26478
ORBITAL_ECCENTRICITY = 0.567
ORBITAL_INCLINATION = 87.12
ORBITAL_SEMIMAJOR_AXIS = 8763.51
PERIAPSIS_ALTITUDE = 420.82
PERIAPSIS_ARGUMENT_ANGLE = 106.7
PERIAPSIS_TIME = 2024-12-23T02:08:23.000Z
SPACECRAFT_ORIENTATION = (0.0,-1.0,0.0)
^MEX_ORIENTATION_DESC = "MEX_ORIENTATION_DESC.TXT"
SPACECRAFT_POINTING_MODE = FIXED
^MEX_POINTING_DESC = "MEX_POINTING_DESC.TXT"
RIGHT_ASCENSION = -1e+32
DECLINATION = -1e+32
OFFSET_ANGLE = -1e+32
SPACECRAFT_SOLAR_DISTANCE = 2.3992e+08
TARGET_NAME = MARS
/* CAMERA DATA ELEMENTS */
DETECTOR_TEMPERATURE = 18.5744
FOCAL_PLANE_TEMPERATURE = 8.9911
INST_CMPRS_NAME = "DISCRETE COSINE TRANSFORMATION (DCT)"
INST_CMPRS_RATIO = 8.20625
INST_CMPRS_QUALITY = 0
INST_CMPRS_QUANTZ_TBL_ID = 0
INSTRUMENT_TEMPERATURE = 10.8262
LENS_TEMPERATURE = 9.6028
MACROPIXEL_SIZE = 2
MISSING_FRAMES = 0
PIXEL_SUBSAMPLING_FLAG = N
SIGNAL_CHAIN_ID = 3
/* RADIOMETRIC DATA ELEMENTS */
BANDWIDTH = 48.0
CENTER_FILTER_WAVELENGTH = 748.0
RADIANCE_OFFSET = 0.0
RADIANCE_SCALING_FACTOR = 0.0094628
REFLECTANCE_SCALING_FACTOR = 0.00124309
MEX:REFLECTANCE_OFFSET = 0.0
/* IMAGE OBJECT DEFINITIONS */
OBJECT = IMAGE
  INTERCHANGE_FORMAT = BINARY
  LINES = 10953
  LINE_SAMPLES = 14954
  SAMPLE_TYPE = UNSIGNED_INTEGER
  SAMPLE_BITS = 8
  BANDS = 1
  BAND_STORAGE_TYPE = BAND_SEQUENTIAL
  MAXIMUM = 255
  MEAN = 123.718
  MINIMUM = 28
  STANDARD_DEVIATION = 44.1635
END_OBJECT = IMAGE
/* MAP OBJECT DEFINITIONS */
OBJECT = IMAGE_MAP_PROJECTION
  ^DATA_SET_MAP_PROJECTION_CATALOG= "DSMAP.CAT"
  A_AXIS_RADIUS = 3396.0
  B_AXIS_RADIUS = 3396.0
  C_AXIS_RADIUS = 3396.0
  CENTER_LATITUDE = -47.3231
  CENTER_LONGITUDE = 145.977
  COORDINATE_SYSTEM_NAME = PLANETOGRAPHIC
  COORDINATE_SYSTEM_TYPE = "BODY-FIXED ROTATING"
  EASTERNMOST_LONGITUDE = 206.787
  FIRST_STANDARD_PARALLEL = "N/A"
  LINE_FIRST_PIXEL = 1
  LINE_LAST_PIXEL = 10953
  LINE_PROJECTION_OFFSET = 6176.25
  MAP_PROJECTION_ROTATION = 0.0
  MAP_PROJECTION_TYPE = ORTHOGRAPHIC
  MAP_RESOLUTION = 148.178450966667
  MAP_SCALE = 0.4
  MAXIMUM_LATITUDE = 7.79343
  MINIMUM_LATITUDE = -66.3266
  POSITIVE_LONGITUDE_DIRECTION = EAST
  REFERENCE_LATITUDE = "N/A"
  REFERENCE_LONGITUDE = "N/A"
  SAMPLE_FIRST_PIXEL = 1
  SAMPLE_LAST_PIXEL = 14954
  SAMPLE_PROJECTION_OFFSET = 7587.25
  SECOND_STANDARD_PARALLEL = "N/A"
  WESTERNMOST_LONGITUDE = 38.2377
END_OBJECT = IMAGE_MAP_PROJECTION
END
