PDS_VERSION_ID = PDS3
/* FILE DATA ELEMENTS */
RECORD_TYPE = UNDEFINED
/* POINTERS TO DATA OBJECTS */
^IMAGE = ("HQ479_0000_P14.TIF")
/* IDENTIFICATION DATA ELEMENTS */
DATA_SET_ID = "MEX-M-HRSC-4-REFDR-MAPPROJECT-EXT9-V4.0"
DATA_SET_NAME = "MARS EXPRESS HRSC MAP PROJECTED REFDR EXTENSION9 V4.0"
DETECTOR_ID = MEX_HRSC_P1
EVENT_TYPE = "MARS-REGIONAL-VARIABLE-Gl-La-At"
INSTRUMENT_HOST_ID = MEX
INSTRUMENT_HOST_NAME = "MARS EXPRESS"
INSTRUMENT_ID = HRSC
INSTRUMENT_NAME = "HIGH RESOLUTION STEREO CAMERA"
MISSION_NAME = "MARS EXPRESS"
MISSION_PHASE_NAME = ME_Phase_50
PROCESSING_LEVEL_ID = 4
PRODUCT_CREATION_TIME = 2025-01-29T19:26:23.000Z
PRODUCT_ID = "HQ479_0000_P14.TIF"
RELEASE_ID = 0022
REVISION_ID = 0000
/* QUALITY DATA ELEMENTS */
DATA_QUALITY_ID = 1
DATA_QUALITY_DESC = "Data calculated based on original SPICE kernels"
/* TIME DATA ELEMENTS */
SPACECRAFT_CLOCK_START_COUNT = "1/0683024606.65108"
SPACECRAFT_CLOCK_STOP_COUNT = "1/0683024818.57860"
START_TIME = 2024-12-23T09:04:31.586Z
STOP_TIME = 2024-12-23T09:06:52.938Z
/* ORBITAL DATA ELEMENTS */
ASCENDING_NODE_LONGITUDE = 84.24
MAXIMUM_RESOLUTION = 0.0345
FOOTPRINT_POINT_LATITUDE = (84.0417,83.9068,83.8053,83.7096, 83.6015,83.3901,83.3825,83.3501,83.1724 ,82.994,82.817,82.6384,82.4584,82.2764, 82.0935,81.9101,81.7251,81.5379,81.351, 81.167,80.8906,80.7046,80.5189,80.2384, 79.9564,79.7678,79.5787,79.2941,79.1056 ,78.9196,78.7331,78.4527,78.2654, 77.9836,77.7954,77.6067,77.4178,77.1338 ,76.9441,76.7544,76.5642,76.2781, 76.0871,75.8963,75.6165,75.3362,74.9618 ,74.5865,74.1164,74.0223,73.9806, 74.0751,74.1191,74.1792,74.2108,74.2457 ,74.2476,74.2489,74.6317,75.1097, 75.4917,75.8731,76.159,76.4508,76.646, 76.8413,77.0362,77.2312,77.426,77.7181, 77.9121,78.107,78.3011,78.5921,78.8829, 79.1732,79.3666,79.56,79.7574,79.9553, 80.1529,80.4489,80.646,80.8427,81.0396, 81.3342,81.5304,81.7258,81.9222,82.122, 82.3214,82.6197,82.818,83.0159,83.3116, 83.508,83.7037,83.9034,84.003,84.0417)
FOOTPRINT_POINT_LONGITUDE = (41.7647,38.6588,36.6274,34.8925, 33.1012,30.0053,29.9021,29.6272,30.5961 ,31.509,32.3612,33.1715,33.9426,34.6738 ,35.3728,36.043,36.6808,37.284,37.8639, 38.4052,39.1799,39.6671,40.1386,40.8087 ,41.44,41.8417,42.2282,42.7819,43.1309, 43.4628,43.7831,44.2437,44.5383,44.962, 45.2333,45.4959,45.7502,46.1171,46.3526 ,46.5813,46.8029,47.1228,47.3286, 47.5283,47.8104,48.0813,48.4258,48.7525 ,49.1379,49.212,49.2446,50.8179,51.6369 ,52.8744,53.6001,54.4861,54.5383, 54.5569,54.3777,54.1403,53.9389,53.7267 ,53.5595,53.3812,53.2578,53.1299, 52.9991,52.8633,52.7237,52.5053,52.3565 ,52.1973,52.0365,51.7841,51.5176, 51.2374,51.0417,50.8374,50.6215,50.396, 50.1622,49.7926,49.5328,49.2648,48.9785 ,48.5263,48.2033,47.8748,47.5222, 47.1456,46.7515,46.1205,45.6706,45.1884 ,44.4201,43.8679,43.2826,42.6439, 42.3085,41.7647)
ORBIT_NUMBER = 26479
ORBITAL_ECCENTRICITY = 0.567
ORBITAL_INCLINATION = 87.13
ORBITAL_SEMIMAJOR_AXIS = 8764.98
PERIAPSIS_ALTITUDE = 419.7
PERIAPSIS_ARGUMENT_ANGLE = 106.53
PERIAPSIS_TIME = 2024-12-23T09:07:28.000Z
SPACECRAFT_ORIENTATION = (0.0,-1.0,0.0)
^MEX_ORIENTATION_DESC = "MEX_ORIENTATION_DESC.TXT"
SPACECRAFT_POINTING_MODE = INERT
^MEX_POINTING_DESC = "MEX_POINTING_DESC.TXT"
RIGHT_ASCENSION = 132.219
DECLINATION = -36.61
OFFSET_ANGLE = -1e+32
SPACECRAFT_SOLAR_DISTANCE = 2.39964e+08
TARGET_NAME = MARS
/* CAMERA DATA ELEMENTS */
DETECTOR_TEMPERATURE = 18.1666
FOCAL_PLANE_TEMPERATURE = 8.7872
INST_CMPRS_NAME = "DISCRETE COSINE TRANSFORMATION (DCT)"
INST_CMPRS_RATIO = 10.1175
INST_CMPRS_QUALITY = 0
INST_CMPRS_QUANTZ_TBL_ID = 0
INSTRUMENT_TEMPERATURE = 10.4184
LENS_TEMPERATURE = 8.7872
MACROPIXEL_SIZE = 2
MISSING_FRAMES = 0
PIXEL_SUBSAMPLING_FLAG = N
SIGNAL_CHAIN_ID = 3
/* RADIOMETRIC DATA ELEMENTS */
BANDWIDTH = 174.0
CENTER_FILTER_WAVELENGTH = 675.0
RADIANCE_OFFSET = 3.94597
RADIANCE_SCALING_FACTOR = 0.0152381
REFLECTANCE_SCALING_FACTOR = 0.000471964
MEX:REFLECTANCE_OFFSET = 0.122217
/* IMAGE OBJECT DEFINITIONS */
OBJECT = IMAGE
  INTERCHANGE_FORMAT = BINARY
  LINES = 23855
  LINE_SAMPLES = 9653
  SAMPLE_TYPE = UNSIGNED_INTEGER
  SAMPLE_BITS = 8
  BANDS = 1
  BAND_STORAGE_TYPE = BAND_SEQUENTIAL
  MAXIMUM = 255
  MEAN = 115.765
  MINIMUM = 1
  STANDARD_DEVIATION = 55.1997
END_OBJECT = IMAGE
/* MAP OBJECT DEFINITIONS */
OBJECT = IMAGE_MAP_PROJECTION
  ^DATA_SET_MAP_PROJECTION_CATALOG= "DSMAP.CAT"
  A_AXIS_RADIUS = 3396.0
  B_AXIS_RADIUS = 3396.0
  C_AXIS_RADIUS = 3396.0
  CENTER_LATITUDE = 0.0
  CENTER_LONGITUDE = 47.0
  COORDINATE_SYSTEM_NAME = PLANETOGRAPHIC
  COORDINATE_SYSTEM_TYPE = "BODY-FIXED ROTATING"
  EASTERNMOST_LONGITUDE = 54.5569
  FIRST_STANDARD_PARALLEL = "N/A"
  LINE_FIRST_PIXEL = 1
  LINE_LAST_PIXEL = 23855
  LINE_PROJECTION_OFFSET = 199290.75
  MAP_PROJECTION_ROTATION = 0.0
  MAP_PROJECTION_TYPE = SINUSOIDAL
  MAP_RESOLUTION = 2370.85521546667
  MAP_SCALE = 0.025
  MAXIMUM_LATITUDE = 84.04170000000001
  MINIMUM_LATITUDE = 73.9806
  POSITIVE_LONGITUDE_DIRECTION = EAST
  REFERENCE_LATITUDE = "N/A"
  REFERENCE_LONGITUDE = "N/A"
  SAMPLE_FIRST_PIXEL = 1
  SAMPLE_LAST_PIXEL = 9653
  SAMPLE_PROJECTION_OFFSET = 4850.75
  SECOND_STANDARD_PARALLEL = "N/A"
  WESTERNMOST_LONGITUDE = 29.6272
END_OBJECT = IMAGE_MAP_PROJECTION
END
