PDS_VERSION_ID = PDS3
/* FILE DATA ELEMENTS */
RECORD_TYPE = UNDEFINED
/* POINTERS TO DATA OBJECTS */
^IMAGE = ("HQ479_0000_P24.TIF")
/* IDENTIFICATION DATA ELEMENTS */
DATA_SET_ID = "MEX-M-HRSC-4-REFDR-MAPPROJECT-EXT9-V4.0"
DATA_SET_NAME = "MARS EXPRESS HRSC MAP PROJECTED REFDR EXTENSION9 V4.0"
DETECTOR_ID = MEX_HRSC_P2
EVENT_TYPE = "MARS-REGIONAL-VARIABLE-Gl-La-At"
INSTRUMENT_HOST_ID = MEX
INSTRUMENT_HOST_NAME = "MARS EXPRESS"
INSTRUMENT_ID = HRSC
INSTRUMENT_NAME = "HIGH RESOLUTION STEREO CAMERA"
MISSION_NAME = "MARS EXPRESS"
MISSION_PHASE_NAME = ME_Phase_50
PROCESSING_LEVEL_ID = 4
PRODUCT_CREATION_TIME = 2025-01-29T19:26:23.000Z
PRODUCT_ID = "HQ479_0000_P24.TIF"
RELEASE_ID = 0022
REVISION_ID = 0000
/* QUALITY DATA ELEMENTS */
DATA_QUALITY_ID = 1
DATA_QUALITY_DESC = "Data calculated based on original SPICE kernels"
/* TIME DATA ELEMENTS */
SPACECRAFT_CLOCK_START_COUNT = "1/0683024606.65108"
SPACECRAFT_CLOCK_STOP_COUNT = "1/0683024818.57860"
START_TIME = 2024-12-23T09:05:20.207Z
STOP_TIME = 2024-12-23T09:07:37.948Z
/* ORBITAL DATA ELEMENTS */
ASCENDING_NODE_LONGITUDE = 84.24
MAXIMUM_RESOLUTION = 0.0348
FOOTPRINT_POINT_LATITUDE = (83.9145,83.8333,83.7028,83.504,83.3889 ,83.2441,83.2362,83.3397,83.0749, 82.8962,82.716,82.5343,82.3513,82.1725, 81.9903,81.8084,81.626,81.354,81.0778, 80.893,80.6146,80.4271,80.2404,80.0517, 79.7688,79.5796,79.39,79.1047,78.918, 78.7321,78.546,78.3595,78.1727,77.9857, 77.7986,77.6113,77.33,77.1423,76.9544, 76.7661,76.5781,76.2956,76.1073,75.8245 ,75.3526,74.9746,74.5965,74.1235, 74.0288,74.0096,74.0654,74.1423,74.1866 ,74.2776,74.2796,74.281,74.8593,75.2449 ,75.4378,75.6308,75.8239,76.1135, 76.4032,76.5964,76.7895,77.0797,77.3695 ,77.5626,77.7559,77.9503,78.1427, 78.3365,78.6269,78.8203,79.0139,79.2075 ,79.4009,79.6962,79.8946,80.093,80.2921 ,80.49,80.6881,80.8872,81.0844,81.2826, 81.4757,81.6747,81.9702,82.1669,82.3644 ,82.6605,82.8565,83.0548,83.2557, 83.4558,83.6558,83.9551,84.0546, 83.9145)
FOOTPRINT_POINT_LONGITUDE = (42.3874,40.4459,37.6963,34.1297, 32.3158,30.2381,30.131,29.0699,30.5221, 31.4275,32.2866,33.1026,33.878,34.587, 35.284,35.9405,36.5647,37.4302,38.2546, 38.7745,39.5143,39.9885,40.4369,40.8749 ,41.4954,41.8898,42.2695,42.8138, 43.1534,43.4791,43.7934,44.0973,44.3915 ,44.6758,44.9505,45.2165,45.5995, 45.8451,46.0829,46.3145,46.5377,46.861, 47.0682,47.3684,47.8409,48.1959,48.5317 ,48.927,49.0029,49.0182,49.9372,51.327, 52.2084,54.3005,54.3532,54.3719,54.1042 ,53.9132,53.8138,53.7116,53.6066, 53.4431,53.2724,53.1544,53.0326,52.8432 ,52.6443,52.5062,52.3638,52.2175, 52.0645,51.9075,51.6612,51.4895,51.3116 ,51.1272,50.9356,50.6282,50.4115,50.186 ,49.9514,49.7059,49.45,49.1831,48.9031, 48.6106,48.3023,47.9814,47.4689,47.1052 ,46.7226,46.1091,45.6714,45.1993, 44.6955,44.1603,43.5907,42.6641,42.3342 ,42.3874)
ORBIT_NUMBER = 26479
ORBITAL_ECCENTRICITY = 0.567
ORBITAL_INCLINATION = 87.13
ORBITAL_SEMIMAJOR_AXIS = 8764.98
PERIAPSIS_ALTITUDE = 419.7
PERIAPSIS_ARGUMENT_ANGLE = 106.53
PERIAPSIS_TIME = 2024-12-23T09:07:28.000Z
SPACECRAFT_ORIENTATION = (0.0,-1.0,0.0)
^MEX_ORIENTATION_DESC = "MEX_ORIENTATION_DESC.TXT"
SPACECRAFT_POINTING_MODE = INERT
^MEX_POINTING_DESC = "MEX_POINTING_DESC.TXT"
RIGHT_ASCENSION = 132.219
DECLINATION = -36.61
OFFSET_ANGLE = -1e+32
SPACECRAFT_SOLAR_DISTANCE = 2.39964e+08
TARGET_NAME = MARS
/* CAMERA DATA ELEMENTS */
DETECTOR_TEMPERATURE = 18.3705
FOCAL_PLANE_TEMPERATURE = 8.7872
INST_CMPRS_NAME = "DISCRETE COSINE TRANSFORMATION (DCT)"
INST_CMPRS_RATIO = 7.42137
INST_CMPRS_QUALITY = 0
INST_CMPRS_QUANTZ_TBL_ID = 0
INSTRUMENT_TEMPERATURE = 10.4184
LENS_TEMPERATURE = 8.7872
MACROPIXEL_SIZE = 2
MISSING_FRAMES = 0
PIXEL_SUBSAMPLING_FLAG = N
SIGNAL_CHAIN_ID = 3
/* RADIOMETRIC DATA ELEMENTS */
BANDWIDTH = 177.0
CENTER_FILTER_WAVELENGTH = 676.5
RADIANCE_OFFSET = 3.7855
RADIANCE_SCALING_FACTOR = 0.0147234
REFLECTANCE_SCALING_FACTOR = 0.000449529
MEX:REFLECTANCE_OFFSET = 0.115577
/* IMAGE OBJECT DEFINITIONS */
OBJECT = IMAGE
  INTERCHANGE_FORMAT = BINARY
  LINES = 23855
  LINE_SAMPLES = 9653
  SAMPLE_TYPE = UNSIGNED_INTEGER
  SAMPLE_BITS = 8
  BANDS = 1
  BAND_STORAGE_TYPE = BAND_SEQUENTIAL
  MAXIMUM = 255
  MEAN = 118.044
  MINIMUM = 1
  STANDARD_DEVIATION = 53.3786
END_OBJECT = IMAGE
/* MAP OBJECT DEFINITIONS */
OBJECT = IMAGE_MAP_PROJECTION
  ^DATA_SET_MAP_PROJECTION_CATALOG= "DSMAP.CAT"
  A_AXIS_RADIUS = 3396.0
  B_AXIS_RADIUS = 3396.0
  C_AXIS_RADIUS = 3396.0
  CENTER_LATITUDE = 0.0
  CENTER_LONGITUDE = 47.0
  COORDINATE_SYSTEM_NAME = PLANETOGRAPHIC
  COORDINATE_SYSTEM_TYPE = "BODY-FIXED ROTATING"
  EASTERNMOST_LONGITUDE = 54.3719
  FIRST_STANDARD_PARALLEL = "N/A"
  LINE_FIRST_PIXEL = 1
  LINE_LAST_PIXEL = 23855
  LINE_PROJECTION_OFFSET = 199290.75
  MAP_PROJECTION_ROTATION = 0.0
  MAP_PROJECTION_TYPE = SINUSOIDAL
  MAP_RESOLUTION = 2370.85521546667
  MAP_SCALE = 0.025
  MAXIMUM_LATITUDE = 84.05459999999999
  MINIMUM_LATITUDE = 74.00960000000001
  POSITIVE_LONGITUDE_DIRECTION = EAST
  REFERENCE_LATITUDE = "N/A"
  REFERENCE_LONGITUDE = "N/A"
  SAMPLE_FIRST_PIXEL = 1
  SAMPLE_LAST_PIXEL = 9653
  SAMPLE_PROJECTION_OFFSET = 4850.75
  SECOND_STANDARD_PARALLEL = "N/A"
  WESTERNMOST_LONGITUDE = 29.0699
END_OBJECT = IMAGE_MAP_PROJECTION
END
