PDS_VERSION_ID = PDS3
/* FILE DATA ELEMENTS */
RECORD_TYPE = UNDEFINED
/* POINTERS TO DATA OBJECTS */
^IMAGE = ("HQ479_0000_S14.TIF")
/* IDENTIFICATION DATA ELEMENTS */
DATA_SET_ID = "MEX-M-HRSC-4-REFDR-MAPPROJECT-EXT9-V4.0"
DATA_SET_NAME = "MARS EXPRESS HRSC MAP PROJECTED REFDR EXTENSION9 V4.0"
DETECTOR_ID = MEX_HRSC_S1
EVENT_TYPE = "MARS-REGIONAL-VARIABLE-Gl-La-At"
INSTRUMENT_HOST_ID = MEX
INSTRUMENT_HOST_NAME = "MARS EXPRESS"
INSTRUMENT_ID = HRSC
INSTRUMENT_NAME = "HIGH RESOLUTION STEREO CAMERA"
MISSION_NAME = "MARS EXPRESS"
MISSION_PHASE_NAME = ME_Phase_50
PROCESSING_LEVEL_ID = 4
PRODUCT_CREATION_TIME = 2025-01-29T19:26:23.000Z
PRODUCT_ID = "HQ479_0000_S14.TIF"
RELEASE_ID = 0022
REVISION_ID = 0000
/* QUALITY DATA ELEMENTS */
DATA_QUALITY_ID = 1
DATA_QUALITY_DESC = "Data calculated based on original SPICE kernels"
/* TIME DATA ELEMENTS */
SPACECRAFT_CLOCK_START_COUNT = "1/0683024606.65108"
SPACECRAFT_CLOCK_STOP_COUNT = "1/0683024818.57860"
START_TIME = 2024-12-23T09:04:19.687Z
STOP_TIME = 2024-12-23T09:06:41.329Z
/* ORBITAL DATA ELEMENTS */
ASCENDING_NODE_LONGITUDE = 84.24
MAXIMUM_RESOLUTION = 0.0354
FOOTPRINT_POINT_LATITUDE = (84.0796,83.9738,83.8815,83.7502, 83.6431,83.4336,83.4261,83.3624,83.1868 ,83.0092,82.8299,82.649,82.4665,82.1921 ,82.0114,81.8289,81.6452,81.4578, 81.2715,80.9915,80.8026,80.6138,80.4296 ,80.2437,80.0574,79.8703,79.6831, 79.4952,79.2126,79.0235,78.7389,78.5487 ,78.3593,77.9864,77.612,77.3302,77.1419 ,76.7648,76.4808,76.196,76.0059,75.8155 ,75.5295,75.3385,74.9598,74.5859, 74.1174,74.0235,73.9839,74.04,74.1006, 74.1428,74.1887,74.2194,74.2476,74.2495 ,74.2507,74.537,75.0132,75.3938,75.5888 ,75.8808,76.0755,76.27,76.4644,76.6585, 76.8527,77.0464,77.2402,77.4338,77.724, 78.1101,78.3028,78.4954,78.6879,78.8829 ,79.0798,79.2766,79.4734,79.7681, 79.9642,80.16,80.4533,80.6486,80.843, 81.0384,81.3367,81.5365,81.8337,82.0316 ,82.3276,82.6224,82.8183,83.0169, 83.3161,83.5149,83.7128,83.9099,84.0081 ,84.0796)
FOOTPRINT_POINT_LONGITUDE = (41.5512,39.0801,37.1678,34.7475, 32.9749,29.9109,29.8088,29.7181,30.6745 ,31.582,32.444,33.2632,34.0425,35.1275, 35.8027,36.4469,37.0623,37.6482,38.2109 ,39.0114,39.5164,40.0012,40.4563, 40.8929,41.3131,41.7173,42.107,42.4822, 43.0201,43.3629,43.8548,44.1688,44.4704 ,45.0336,45.5618,45.9366,46.1771, 46.6369,46.964,47.277,47.4783,47.674, 47.9575,48.14,48.4869,48.8109,49.1933, 49.2669,49.2977,50.2047,51.2719,52.0898 ,53.0674,53.7912,54.5181,54.5701, 54.5886,54.4541,54.2188,54.0189,53.9122 ,53.7472,53.633,53.5157,53.3946,53.2706 ,53.142,53.0106,52.8742,52.7341,52.5149 ,52.2068,52.0451,51.8781,51.705,51.5231 ,51.3331,51.1357,50.9301,50.6071, 50.3813,50.1469,49.7771,49.5171,49.2499 ,48.9633,48.5012,48.1692,47.6535, 47.2866,46.7016,46.0713,45.6227,45.1341 ,44.3486,43.7833,43.1842,42.5462, 42.2114,41.5512)
ORBIT_NUMBER = 26479
ORBITAL_ECCENTRICITY = 0.567
ORBITAL_INCLINATION = 87.13
ORBITAL_SEMIMAJOR_AXIS = 8764.98
PERIAPSIS_ALTITUDE = 419.7
PERIAPSIS_ARGUMENT_ANGLE = 106.53
PERIAPSIS_TIME = 2024-12-23T09:07:28.000Z
SPACECRAFT_ORIENTATION = (0.0,-1.0,0.0)
^MEX_ORIENTATION_DESC = "MEX_ORIENTATION_DESC.TXT"
SPACECRAFT_POINTING_MODE = INERT
^MEX_POINTING_DESC = "MEX_POINTING_DESC.TXT"
RIGHT_ASCENSION = 132.219
DECLINATION = -36.61
OFFSET_ANGLE = -1e+32
SPACECRAFT_SOLAR_DISTANCE = 2.39964e+08
TARGET_NAME = MARS
/* CAMERA DATA ELEMENTS */
DETECTOR_TEMPERATURE = 18.1666
FOCAL_PLANE_TEMPERATURE = 8.7872
INST_CMPRS_NAME = "DISCRETE COSINE TRANSFORMATION (DCT)"
INST_CMPRS_RATIO = 10.7223
INST_CMPRS_QUALITY = 0
INST_CMPRS_QUANTZ_TBL_ID = 0
INSTRUMENT_TEMPERATURE = 10.4184
LENS_TEMPERATURE = 8.7872
MACROPIXEL_SIZE = 2
MISSING_FRAMES = 0
PIXEL_SUBSAMPLING_FLAG = N
SIGNAL_CHAIN_ID = 1
/* RADIOMETRIC DATA ELEMENTS */
BANDWIDTH = 180.0
CENTER_FILTER_WAVELENGTH = 677.0
RADIANCE_OFFSET = 4.20874
RADIANCE_SCALING_FACTOR = 0.0166413
REFLECTANCE_SCALING_FACTOR = 0.000499942
MEX:REFLECTANCE_OFFSET = 0.12644
/* IMAGE OBJECT DEFINITIONS */
OBJECT = IMAGE
  INTERCHANGE_FORMAT = BINARY
  LINES = 23855
  LINE_SAMPLES = 9653
  SAMPLE_TYPE = UNSIGNED_INTEGER
  SAMPLE_BITS = 8
  BANDS = 1
  BAND_STORAGE_TYPE = BAND_SEQUENTIAL
  MAXIMUM = 255
  MEAN = 118.789
  MINIMUM = 1
  STANDARD_DEVIATION = 53.0758
END_OBJECT = IMAGE
/* MAP OBJECT DEFINITIONS */
OBJECT = IMAGE_MAP_PROJECTION
  ^DATA_SET_MAP_PROJECTION_CATALOG= "DSMAP.CAT"
  A_AXIS_RADIUS = 3396.0
  B_AXIS_RADIUS = 3396.0
  C_AXIS_RADIUS = 3396.0
  CENTER_LATITUDE = 0.0
  CENTER_LONGITUDE = 47.0
  COORDINATE_SYSTEM_NAME = PLANETOGRAPHIC
  COORDINATE_SYSTEM_TYPE = "BODY-FIXED ROTATING"
  EASTERNMOST_LONGITUDE = 54.5886
  FIRST_STANDARD_PARALLEL = "N/A"
  LINE_FIRST_PIXEL = 1
  LINE_LAST_PIXEL = 23855
  LINE_PROJECTION_OFFSET = 199290.75
  MAP_PROJECTION_ROTATION = 0.0
  MAP_PROJECTION_TYPE = SINUSOIDAL
  MAP_RESOLUTION = 2370.85521546667
  MAP_SCALE = 0.025
  MAXIMUM_LATITUDE = 84.0796
  MINIMUM_LATITUDE = 73.98390000000001
  POSITIVE_LONGITUDE_DIRECTION = EAST
  REFERENCE_LATITUDE = "N/A"
  REFERENCE_LONGITUDE = "N/A"
  SAMPLE_FIRST_PIXEL = 1
  SAMPLE_LAST_PIXEL = 9653
  SAMPLE_PROJECTION_OFFSET = 4850.75
  SECOND_STANDARD_PARALLEL = "N/A"
  WESTERNMOST_LONGITUDE = 29.7181
END_OBJECT = IMAGE_MAP_PROJECTION
END
