PDS_VERSION_ID = PDS3
/* FILE DATA ELEMENTS */
RECORD_TYPE = UNDEFINED
/* POINTERS TO DATA OBJECTS */
^IMAGE = ("HQ481_0000_P14.TIF")
/* IDENTIFICATION DATA ELEMENTS */
DATA_SET_ID = "MEX-M-HRSC-4-REFDR-MAPPROJECT-EXT9-V4.0"
DATA_SET_NAME = "MARS EXPRESS HRSC MAP PROJECTED REFDR EXTENSION9 V4.0"
DETECTOR_ID = MEX_HRSC_P1
EVENT_TYPE = "MARS-REGIONAL-VARIABLE-Gl-Eo-At"
INSTRUMENT_HOST_ID = MEX
INSTRUMENT_HOST_NAME = "MARS EXPRESS"
INSTRUMENT_ID = HRSC
INSTRUMENT_NAME = "HIGH RESOLUTION STEREO CAMERA"
MISSION_NAME = "MARS EXPRESS"
MISSION_PHASE_NAME = ME_Phase_50
PROCESSING_LEVEL_ID = 4
PRODUCT_CREATION_TIME = 2025-01-29T19:26:23.000Z
PRODUCT_ID = "HQ481_0000_P14.TIF"
RELEASE_ID = 0022
REVISION_ID = 0000
/* QUALITY DATA ELEMENTS */
DATA_QUALITY_ID = 1
DATA_QUALITY_DESC = "Data calculated based on original SPICE kernels"
/* TIME DATA ELEMENTS */
SPACECRAFT_CLOCK_START_COUNT = "1/0683074949.65281"
SPACECRAFT_CLOCK_STOP_COUNT = "1/0683075166.22506"
START_TIME = 2024-12-23T23:03:34.358Z
STOP_TIME = 2024-12-23T23:06:00.466Z
/* ORBITAL DATA ELEMENTS */
ASCENDING_NODE_LONGITUDE = 84.21
MAXIMUM_RESOLUTION = 0.0346
FOOTPRINT_POINT_LATITUDE = (80.7397,80.6544,80.5897,80.5283, 80.4583,80.3199,80.3148,80.265,80.0648, 79.7632,79.5614,79.364,79.166,78.9675, 78.669,78.4694,78.2695,78.07,77.8684, 77.5665,77.2638,77.0616,76.7578,76.5545 ,76.252,75.8555,75.4576,75.1578,74.9576 ,74.6574,74.457,74.2563,74.0557,73.8546 ,73.6532,73.4519,73.1492,72.9473, 72.5438,72.239,71.9347,71.7318,71.5288, 71.3254,71.0198,70.8159,70.5102,70.3055 ,70.2033,70.1998,70.3075,70.3459, 70.3835,70.4174,70.4189,70.4201,70.6263 ,70.9357,71.2449,71.4507,71.6565, 71.8623,72.1704,72.3763,72.5812,72.7867 ,73.0943,73.2989,73.5037,73.8107, 74.1175,74.3219,74.5263,74.7302,74.9341 ,75.3415,75.5453,75.7488,76.1557, 76.5615,76.767,76.9753,77.1833,77.495, 77.7027,77.9102,78.221,78.428,78.635, 78.8417,79.1517,79.3581,79.5642,79.7701 ,79.9758,80.1865,80.397,80.6073,80.7123 ,80.7397)
FOOTPRINT_POINT_LONGITUDE = (204.873,202.82,201.447,200.251,198.995 ,196.762,196.686,196.506,196.96,197.607 ,198.017,198.401,198.771,199.127, 199.637,199.962,200.276,200.58,200.871, 201.291,201.69,201.946,202.314,202.549, 202.886,203.305,203.7,203.981,204.161, 204.423,204.592,204.756,204.916,205.071 ,205.222,205.37,205.584,205.722,205.989 ,206.179,206.362,206.481,206.598, 206.711,206.876,206.982,207.138,207.238 ,207.288,207.29,209.149,209.915,210.771 ,211.63,211.673,211.688,211.628,211.535 ,211.439,211.373,211.306,211.237,211.13 ,211.056,210.982,210.905,210.786, 210.705,210.621,210.492,210.357,210.264 ,210.168,210.071,209.97,209.761,209.651 ,209.539,209.303,209.054,208.922, 208.783,208.639,208.415,208.259,208.098 ,207.846,207.671,207.488,207.299,207.0, 206.791,206.574,206.349,206.114,205.863 ,205.6,205.326,205.184,204.873)
ORBIT_NUMBER = 26481
ORBITAL_ECCENTRICITY = 0.567
ORBITAL_INCLINATION = 87.14
ORBITAL_SEMIMAJOR_AXIS = 8760.82
PERIAPSIS_ALTITUDE = 419.52
PERIAPSIS_ARGUMENT_ANGLE = 106.18
PERIAPSIS_TIME = 2024-12-23T23:05:37.000Z
SPACECRAFT_ORIENTATION = (0.0,-1.0,0.0)
^MEX_ORIENTATION_DESC = "MEX_ORIENTATION_DESC.TXT"
SPACECRAFT_POINTING_MODE = INERT
^MEX_POINTING_DESC = "MEX_POINTING_DESC.TXT"
RIGHT_ASCENSION = 132.227
DECLINATION = -36.939
OFFSET_ANGLE = -1e+32
SPACECRAFT_SOLAR_DISTANCE = 2.40053e+08
TARGET_NAME = MARS
/* CAMERA DATA ELEMENTS */
DETECTOR_TEMPERATURE = 16.9432
FOCAL_PLANE_TEMPERATURE = 7.9716
INST_CMPRS_NAME = "DISCRETE COSINE TRANSFORMATION (DCT)"
INST_CMPRS_RATIO = 9.52661
INST_CMPRS_QUALITY = 0
INST_CMPRS_QUANTZ_TBL_ID = 0
INSTRUMENT_TEMPERATURE = 10.6223
LENS_TEMPERATURE = 8.3794
MACROPIXEL_SIZE = 2
MISSING_FRAMES = 0
PIXEL_SUBSAMPLING_FLAG = N
SIGNAL_CHAIN_ID = 3
/* RADIOMETRIC DATA ELEMENTS */
BANDWIDTH = 174.0
CENTER_FILTER_WAVELENGTH = 675.0
RADIANCE_OFFSET = 3.8586
RADIANCE_SCALING_FACTOR = 0.0182326
REFLECTANCE_SCALING_FACTOR = 0.000565126
MEX:REFLECTANCE_OFFSET = 0.119599
/* IMAGE OBJECT DEFINITIONS */
OBJECT = IMAGE
  INTERCHANGE_FORMAT = BINARY
  LINES = 24947
  LINE_SAMPLES = 7924
  SAMPLE_TYPE = UNSIGNED_INTEGER
  SAMPLE_BITS = 8
  BANDS = 1
  BAND_STORAGE_TYPE = BAND_SEQUENTIAL
  MAXIMUM = 255
  MEAN = 141.65
  MINIMUM = 1
  STANDARD_DEVIATION = 62.9994
END_OBJECT = IMAGE
/* MAP OBJECT DEFINITIONS */
OBJECT = IMAGE_MAP_PROJECTION
  ^DATA_SET_MAP_PROJECTION_CATALOG= "DSMAP.CAT"
  A_AXIS_RADIUS = 3396.0
  B_AXIS_RADIUS = 3396.0
  C_AXIS_RADIUS = 3396.0
  CENTER_LATITUDE = 0.0
  CENTER_LONGITUDE = 207.0
  COORDINATE_SYSTEM_NAME = PLANETOGRAPHIC
  COORDINATE_SYSTEM_TYPE = "BODY-FIXED ROTATING"
  EASTERNMOST_LONGITUDE = 211.688
  FIRST_STANDARD_PARALLEL = "N/A"
  LINE_FIRST_PIXEL = 1
  LINE_LAST_PIXEL = 24947
  LINE_PROJECTION_OFFSET = 191393.75
  MAP_PROJECTION_ROTATION = 0.0
  MAP_PROJECTION_TYPE = SINUSOIDAL
  MAP_RESOLUTION = 2370.85521546667
  MAP_SCALE = 0.025
  MAXIMUM_LATITUDE = 80.7397
  MINIMUM_LATITUDE = 70.1998
  POSITIVE_LONGITUDE_DIRECTION = EAST
  REFERENCE_LATITUDE = "N/A"
  REFERENCE_LONGITUDE = "N/A"
  SAMPLE_FIRST_PIXEL = 1
  SAMPLE_LAST_PIXEL = 7924
  SAMPLE_PROJECTION_OFFSET = 4283.25
  SECOND_STANDARD_PARALLEL = "N/A"
  WESTERNMOST_LONGITUDE = 196.506
END_OBJECT = IMAGE_MAP_PROJECTION
END
