PDS_VERSION_ID = PDS3
/* FILE DATA ELEMENTS */
RECORD_TYPE = UNDEFINED
/* POINTERS TO DATA OBJECTS */
^IMAGE = ("HQ481_0000_RE4.TIF")
/* IDENTIFICATION DATA ELEMENTS */
DATA_SET_ID = "MEX-M-HRSC-4-REFDR-MAPPROJECT-EXT9-V4.0"
DATA_SET_NAME = "MARS EXPRESS HRSC MAP PROJECTED REFDR EXTENSION9 V4.0"
DETECTOR_ID = MEX_HRSC_RED
EVENT_TYPE = "MARS-REGIONAL-VARIABLE-Gl-Eo-At"
INSTRUMENT_HOST_ID = MEX
INSTRUMENT_HOST_NAME = "MARS EXPRESS"
INSTRUMENT_ID = HRSC
INSTRUMENT_NAME = "HIGH RESOLUTION STEREO CAMERA"
MISSION_NAME = "MARS EXPRESS"
MISSION_PHASE_NAME = ME_Phase_50
PROCESSING_LEVEL_ID = 4
PRODUCT_CREATION_TIME = 2025-01-29T19:26:23.000Z
PRODUCT_ID = "HQ481_0000_RE4.TIF"
RELEASE_ID = 0022
REVISION_ID = 0000
/* QUALITY DATA ELEMENTS */
DATA_QUALITY_ID = 1
DATA_QUALITY_DESC = "Data calculated based on original SPICE kernels"
/* TIME DATA ELEMENTS */
SPACECRAFT_CLOCK_START_COUNT = "1/0683074949.65281"
SPACECRAFT_CLOCK_STOP_COUNT = "1/0683075166.22506"
START_TIME = 2024-12-23T23:04:27.346Z
STOP_TIME = 2024-12-23T23:06:51.568Z
/* ORBITAL DATA ELEMENTS */
ASCENDING_NODE_LONGITUDE = 84.21
MAXIMUM_RESOLUTION = 0.0699
FOOTPRINT_POINT_LATITUDE = (80.5732,80.4819,80.4064,80.3372, 80.1465,80.1416,80.2711,80.0719,79.8738 ,79.6789,79.4836,79.288,79.0921,78.7977 ,78.6008,78.4036,78.1062,77.8104, 77.6122,77.4143,77.216,76.9179,76.6196, 76.4211,76.2218,76.0214,75.8225,75.5228 ,75.3231,75.124,74.9248,74.725,74.5253, 74.3255,74.1253,73.9253,73.7256,73.5257 ,73.3256,73.1257,72.9257,72.7254, 72.5249,71.9252,71.5248,71.1245,70.8246 ,70.4243,70.3244,70.2267,70.29,70.327, 70.3594,70.4028,70.4411,70.4427,70.4443 ,70.9501,71.355,71.76,71.9629,72.2662, 72.4695,72.875,73.0785,73.2818,73.4847, 73.688,73.8912,74.0946,74.2978,74.5009, 74.7049,74.9085,75.1129,75.3166,75.5201 ,75.7242,75.9278,76.1317,76.3362, 76.5406,76.8471,77.0512,77.3573,77.6639 ,77.8684,78.0728,78.278,78.5847,78.7896 ,78.994,79.3,79.607,79.8116,80.0162, 80.2207,80.5315,80.6365,80.5732)
FOOTPRINT_POINT_LONGITUDE = (205.05,202.883,201.306,199.985,196.799 ,196.724,196.118,196.58,197.019,197.433 ,197.831,198.214,198.581,199.107, 199.442,199.766,200.233,200.67,200.951, 201.221,201.483,201.861,202.22,202.449, 202.673,202.892,203.101,203.405,203.599 ,203.787,203.969,204.147,204.319, 204.488,204.652,204.811,204.965,205.115 ,205.262,205.404,205.543,205.679, 205.812,206.187,206.422,206.647,206.807 ,207.014,207.063,207.111,208.189,208.87 ,209.514,210.444,211.378,211.419, 211.432,211.287,211.164,211.036,210.969 ,210.865,210.795,210.648,210.572, 210.494,210.414,210.331,210.247,210.16, 210.07,209.978,209.884,209.787,209.687, 209.585,209.478,209.369,209.257,209.141 ,209.022,208.899,208.706,208.572, 208.363,208.143,207.99,207.832,207.668, 207.41,207.23,207.043,206.749,206.436, 206.217,205.989,205.751,205.369,205.234 ,205.05)
ORBIT_NUMBER = 26481
ORBITAL_ECCENTRICITY = 0.567
ORBITAL_INCLINATION = 87.14
ORBITAL_SEMIMAJOR_AXIS = 8760.82
PERIAPSIS_ALTITUDE = 419.52
PERIAPSIS_ARGUMENT_ANGLE = 106.18
PERIAPSIS_TIME = 2024-12-23T23:05:37.000Z
SPACECRAFT_ORIENTATION = (0.0,-1.0,0.0)
^MEX_ORIENTATION_DESC = "MEX_ORIENTATION_DESC.TXT"
SPACECRAFT_POINTING_MODE = INERT
^MEX_POINTING_DESC = "MEX_POINTING_DESC.TXT"
RIGHT_ASCENSION = 132.227
DECLINATION = -36.939
OFFSET_ANGLE = -1e+32
SPACECRAFT_SOLAR_DISTANCE = 2.40053e+08
TARGET_NAME = MARS
/* CAMERA DATA ELEMENTS */
DETECTOR_TEMPERATURE = 18.3705
FOCAL_PLANE_TEMPERATURE = 7.9716
INST_CMPRS_NAME = "DISCRETE COSINE TRANSFORMATION (DCT)"
INST_CMPRS_RATIO = 17.5651
INST_CMPRS_QUALITY = 0
INST_CMPRS_QUANTZ_TBL_ID = 0
INSTRUMENT_TEMPERATURE = 10.6223
LENS_TEMPERATURE = 8.3794
MACROPIXEL_SIZE = 4
MISSING_FRAMES = 0
PIXEL_SUBSAMPLING_FLAG = N
SIGNAL_CHAIN_ID = 2
/* RADIOMETRIC DATA ELEMENTS */
BANDWIDTH = 48.0
CENTER_FILTER_WAVELENGTH = 748.0
RADIANCE_OFFSET = 1.04651
RADIANCE_SCALING_FACTOR = 0.00482323
REFLECTANCE_SCALING_FACTOR = 0.000634278
MEX:REFLECTANCE_OFFSET = 0.137622
/* IMAGE OBJECT DEFINITIONS */
OBJECT = IMAGE
  INTERCHANGE_FORMAT = BINARY
  LINES = 12474
  LINE_SAMPLES = 3962
  SAMPLE_TYPE = UNSIGNED_INTEGER
  SAMPLE_BITS = 8
  BANDS = 1
  BAND_STORAGE_TYPE = BAND_SEQUENTIAL
  MAXIMUM = 255
  MEAN = 138.797
  MINIMUM = 1
  STANDARD_DEVIATION = 62.5976
END_OBJECT = IMAGE
/* MAP OBJECT DEFINITIONS */
OBJECT = IMAGE_MAP_PROJECTION
  ^DATA_SET_MAP_PROJECTION_CATALOG= "DSMAP.CAT"
  A_AXIS_RADIUS = 3396.0
  B_AXIS_RADIUS = 3396.0
  C_AXIS_RADIUS = 3396.0
  CENTER_LATITUDE = 0.0
  CENTER_LONGITUDE = 207.0
  COORDINATE_SYSTEM_NAME = PLANETOGRAPHIC
  COORDINATE_SYSTEM_TYPE = "BODY-FIXED ROTATING"
  EASTERNMOST_LONGITUDE = 211.432
  FIRST_STANDARD_PARALLEL = "N/A"
  LINE_FIRST_PIXEL = 1
  LINE_LAST_PIXEL = 12474
  LINE_PROJECTION_OFFSET = 95696.625
  MAP_PROJECTION_ROTATION = 0.0
  MAP_PROJECTION_TYPE = SINUSOIDAL
  MAP_RESOLUTION = 1185.42760773333
  MAP_SCALE = 0.05
  MAXIMUM_LATITUDE = 80.6365
  MINIMUM_LATITUDE = 70.22669999999999
  POSITIVE_LONGITUDE_DIRECTION = EAST
  REFERENCE_LATITUDE = "N/A"
  REFERENCE_LONGITUDE = "N/A"
  SAMPLE_FIRST_PIXEL = 1
  SAMPLE_LAST_PIXEL = 3962
  SAMPLE_PROJECTION_OFFSET = 2141.375
  SECOND_STANDARD_PARALLEL = "N/A"
  WESTERNMOST_LONGITUDE = 196.118
END_OBJECT = IMAGE_MAP_PROJECTION
END
