PDS_VERSION_ID = PDS3
/* FILE DATA ELEMENTS */
RECORD_TYPE = UNDEFINED
/* POINTERS TO DATA OBJECTS */
^IMAGE = ("HQ482_0000_GR4.TIF")
/* IDENTIFICATION DATA ELEMENTS */
DATA_SET_ID = "MEX-M-HRSC-4-REFDR-MAPPROJECT-EXT9-V4.0"
DATA_SET_NAME = "MARS EXPRESS HRSC MAP PROJECTED REFDR EXTENSION9 V4.0"
DETECTOR_ID = MEX_HRSC_GREEN
EVENT_TYPE = "MARS-REGIONAL-VARIABLE-Gl-La-At"
INSTRUMENT_HOST_ID = MEX
INSTRUMENT_HOST_NAME = "MARS EXPRESS"
INSTRUMENT_ID = HRSC
INSTRUMENT_NAME = "HIGH RESOLUTION STEREO CAMERA"
MISSION_NAME = "MARS EXPRESS"
MISSION_PHASE_NAME = ME_Phase_50
PROCESSING_LEVEL_ID = 4
PRODUCT_CREATION_TIME = 2025-01-29T19:26:23.000Z
PRODUCT_ID = "HQ482_0000_GR4.TIF"
RELEASE_ID = 0022
REVISION_ID = 0000
/* QUALITY DATA ELEMENTS */
DATA_QUALITY_ID = 1
DATA_QUALITY_DESC = "Data calculated based on original SPICE kernels"
/* TIME DATA ELEMENTS */
SPACECRAFT_CLOCK_START_COUNT = "1/0683100006.65100"
SPACECRAFT_CLOCK_STOP_COUNT = "1/0683100225.21103"
START_TIME = 2024-12-24T06:01:29.701Z
STOP_TIME = 2024-12-24T06:03:55.400Z
/* ORBITAL DATA ELEMENTS */
ASCENDING_NODE_LONGITUDE = 84.2
MAXIMUM_RESOLUTION = 0.0679
FOOTPRINT_POINT_LATITUDE = (86.8131,86.5483,86.3385,86.1752, 85.9617,85.6706,85.6588,85.6563,85.5353 ,85.4079,85.2738,85.1336,84.9878, 84.8369,84.6812,84.4424,84.2808,84.1159 ,83.8631,83.6912,83.5169,83.2515, 82.9813,82.7139,82.5338,82.2613,82.078, 81.8011,81.5217,81.3343,81.0517,80.8623 ,80.6768,80.4906,80.3038,80.0226, 79.8344,79.6457,79.4565,79.2669,79.0768 ,78.7909,78.4085,78.0246,77.6405, 77.2642,76.8869,76.7924,76.7458,76.8247 ,76.891,76.9372,76.9914,77.0667,77.0689 ,77.0709,77.4586,77.7492,78.1394, 78.4372,78.6356,78.9331,79.1313,79.3294 ,79.5273,79.824,80.0216,80.3178,80.5151 ,80.7122,80.9091,81.1058,81.3023, 81.5019,81.7027,82.0035,82.2036,82.4033 ,82.7022,83.0002,83.198,83.396,83.5927, 83.793,83.9936,84.1937,84.3922,84.5903, 84.8848,85.0796,85.2731,85.4654,85.6596 ,85.8515,86.1347,86.3193,86.4987, 86.7609,86.8459,86.8131)
FOOTPRINT_POINT_LONGITUDE = (75.2952,70.4683,67.3534,65.2463, 62.8227,59.9953,59.89,58.8623,61.2551, 63.5011,65.6197,67.6171,69.4993,71.2715 ,72.9401,75.2402,76.6451,77.9702, 79.8201,80.97,82.0569,83.5751,84.9832, 86.248,87.0424,88.1602,88.8614,89.8507, 90.7756,91.3579,92.183,92.7061,93.1946, 93.6634,94.1143,94.7577,95.1661,95.5591 ,95.9373,96.3021,96.6534,97.1573,97.789 ,98.3785,98.9285,99.4319,99.9047, 100.018,100.074,101.356,102.536,103.428 ,104.568,106.386,106.447,106.467, 106.193,105.976,105.668,105.418,105.243 ,104.971,104.78,104.582,104.377,104.054 ,103.827,103.47,103.219,102.958,102.685 ,102.399,102.101,101.781,101.444, 100.905,100.523,100.121,99.4753,98.7745 ,98.2716,97.7418,97.1753,96.561,95.9033 ,95.2013,94.4462,93.6376,92.3047, 91.3279,90.2707,89.1197,87.838,86.4361, 84.0737,82.2975,80.3356,76.9873,75.7437 ,75.2952)
ORBIT_NUMBER = 26482
ORBITAL_ECCENTRICITY = 0.567
ORBITAL_INCLINATION = 87.13
ORBITAL_SEMIMAJOR_AXIS = 8764.31
PERIAPSIS_ALTITUDE = 419.65
PERIAPSIS_ARGUMENT_ANGLE = 106.0
PERIAPSIS_TIME = 2024-12-24T06:04:46.000Z
SPACECRAFT_ORIENTATION = (0.0,-1.0,0.0)
^MEX_ORIENTATION_DESC = "MEX_ORIENTATION_DESC.TXT"
SPACECRAFT_POINTING_MODE = INERT
^MEX_POINTING_DESC = "MEX_POINTING_DESC.TXT"
RIGHT_ASCENSION = 132.219
DECLINATION = -37.146
OFFSET_ANGLE = -1e+32
SPACECRAFT_SOLAR_DISTANCE = 2.40097e+08
TARGET_NAME = MARS
/* CAMERA DATA ELEMENTS */
DETECTOR_TEMPERATURE = 17.9627
FOCAL_PLANE_TEMPERATURE = 9.3989
INST_CMPRS_NAME = "DISCRETE COSINE TRANSFORMATION (DCT)"
INST_CMPRS_RATIO = 12.7651
INST_CMPRS_QUALITY = 0
INST_CMPRS_QUANTZ_TBL_ID = 0
INSTRUMENT_TEMPERATURE = 11.4379
LENS_TEMPERATURE = 9.3989
MACROPIXEL_SIZE = 4
MISSING_FRAMES = 0
PIXEL_SUBSAMPLING_FLAG = N
SIGNAL_CHAIN_ID = 2
/* RADIOMETRIC DATA ELEMENTS */
BANDWIDTH = 88.0
CENTER_FILTER_WAVELENGTH = 538.0
RADIANCE_OFFSET = 1.17025
RADIANCE_SCALING_FACTOR = 0.00588361
REFLECTANCE_SCALING_FACTOR = 0.000292015
MEX:REFLECTANCE_OFFSET = 0.0580817
/* IMAGE OBJECT DEFINITIONS */
OBJECT = IMAGE
  INTERCHANGE_FORMAT = BINARY
  LINES = 12026
  LINE_SAMPLES = 6126
  SAMPLE_TYPE = UNSIGNED_INTEGER
  SAMPLE_BITS = 8
  BANDS = 1
  BAND_STORAGE_TYPE = BAND_SEQUENTIAL
  MAXIMUM = 255
  MEAN = 100.093
  MINIMUM = 1
  STANDARD_DEVIATION = 52.5771
END_OBJECT = IMAGE
/* MAP OBJECT DEFINITIONS */
OBJECT = IMAGE_MAP_PROJECTION
  ^DATA_SET_MAP_PROJECTION_CATALOG= "DSMAP.CAT"
  A_AXIS_RADIUS = 3396.0
  B_AXIS_RADIUS = 3396.0
  C_AXIS_RADIUS = 3396.0
  CENTER_LATITUDE = 0.0
  CENTER_LONGITUDE = 96.0
  COORDINATE_SYSTEM_NAME = PLANETOGRAPHIC
  COORDINATE_SYSTEM_TYPE = "BODY-FIXED ROTATING"
  EASTERNMOST_LONGITUDE = 106.467
  FIRST_STANDARD_PARALLEL = "N/A"
  LINE_FIRST_PIXEL = 1
  LINE_LAST_PIXEL = 12026
  LINE_PROJECTION_OFFSET = 103002.375
  MAP_PROJECTION_ROTATION = 0.0
  MAP_PROJECTION_TYPE = SINUSOIDAL
  MAP_RESOLUTION = 1185.42760773333
  MAP_SCALE = 0.05
  MAXIMUM_LATITUDE = 86.8459
  MINIMUM_LATITUDE = 76.7458
  POSITIVE_LONGITUDE_DIRECTION = EAST
  REFERENCE_LATITUDE = "N/A"
  REFERENCE_LONGITUDE = "N/A"
  SAMPLE_FIRST_PIXEL = 1
  SAMPLE_LAST_PIXEL = 6126
  SAMPLE_PROJECTION_OFFSET = 3354.125
  SECOND_STANDARD_PARALLEL = "N/A"
  WESTERNMOST_LONGITUDE = 58.8623
END_OBJECT = IMAGE_MAP_PROJECTION
END
