PDS_VERSION_ID = PDS3
/* FILE DATA ELEMENTS */
RECORD_TYPE = UNDEFINED
/* POINTERS TO DATA OBJECTS */
^IMAGE = ("HQ482_0000_S14.TIF")
/* IDENTIFICATION DATA ELEMENTS */
DATA_SET_ID = "MEX-M-HRSC-4-REFDR-MAPPROJECT-EXT9-V4.0"
DATA_SET_NAME = "MARS EXPRESS HRSC MAP PROJECTED REFDR EXTENSION9 V4.0"
DETECTOR_ID = MEX_HRSC_S1
EVENT_TYPE = "MARS-REGIONAL-VARIABLE-Gl-La-At"
INSTRUMENT_HOST_ID = MEX
INSTRUMENT_HOST_NAME = "MARS EXPRESS"
INSTRUMENT_ID = HRSC
INSTRUMENT_NAME = "HIGH RESOLUTION STEREO CAMERA"
MISSION_NAME = "MARS EXPRESS"
MISSION_PHASE_NAME = ME_Phase_50
PROCESSING_LEVEL_ID = 4
PRODUCT_CREATION_TIME = 2025-01-29T19:26:23.000Z
PRODUCT_ID = "HQ482_0000_S14.TIF"
RELEASE_ID = 0022
REVISION_ID = 0000
/* QUALITY DATA ELEMENTS */
DATA_QUALITY_ID = 1
DATA_QUALITY_DESC = "Data calculated based on original SPICE kernels"
/* TIME DATA ELEMENTS */
SPACECRAFT_CLOCK_START_COUNT = "1/0683100006.65100"
SPACECRAFT_CLOCK_STOP_COUNT = "1/0683100225.21103"
START_TIME = 2024-12-24T06:00:59.731Z
STOP_TIME = 2024-12-24T06:03:27.340Z
/* ORBITAL DATA ELEMENTS */
ASCENDING_NODE_LONGITUDE = 84.2
MAXIMUM_RESOLUTION = 0.0354
FOOTPRINT_POINT_LATITUDE = (86.8514,86.6528,86.4853,86.2558, 86.0747,85.7345,85.7225,85.6691,85.4809 ,85.3463,85.2055,85.0616,84.9125, 84.7585,84.6001,84.4376,84.1873,84.02, 83.7638,83.5898,83.4135,83.2344,83.0541 ,82.8713,82.6915,82.5105,82.3276, 82.1435,81.9572,81.6767,81.4885,81.2044 ,81.0165,80.83,80.6424,80.3599,80.0758, 79.8857,79.6948,79.4078,79.1191,78.7388 ,78.4552,78.0755,77.6943,77.4074, 77.0234,76.8309,76.7346,76.7289,76.7929 ,76.8495,76.8983,76.9557,76.9973, 77.0471,77.0495,77.0509,77.4455,77.6426 ,77.9379,78.1346,78.6255,79.0173, 79.3105,79.6093,79.8093,80.1088,80.3081 ,80.5071,80.7058,81.0034,81.2015, 81.3992,81.5971,81.8989,82.1005,82.3013 ,82.6026,82.9018,83.1011,83.2993, 83.5977,83.799,83.9994,84.2979,84.4959, 84.7903,84.9848,85.1817,85.4744,85.6669 ,85.8568,86.0438,86.2275,86.4111, 86.5906,86.7648,86.8496,86.8514)
FOOTPRINT_POINT_LONGITUDE = (74.0246,70.4108,67.8218,64.7841, 62.7147,59.4163,59.3119,59.3472,62.9019 ,65.1058,67.177,69.0892,70.8908,72.5877 ,74.186,75.6916,77.7861,79.0557,80.8301 ,81.933,82.9768,83.965,84.9022,85.7904, 86.6146,87.399,88.1453,88.8565,89.534, 90.4934,91.0974,91.9541,92.4846,92.9904 ,93.4755,94.1671,94.8184,95.2319, 95.6297,96.1991,96.7373,97.4006,97.8644 ,98.4475,98.9934,99.3804,99.8687, 100.102,100.216,100.222,101.239,102.205 ,103.118,104.285,105.214,106.461, 106.523,106.545,106.262,106.114,105.882 ,105.721,105.293,104.924,104.63,104.312 ,104.088,103.735,103.488,103.231, 102.962,102.537,102.237,101.924,101.592 ,101.055,100.673,100.274,99.6248, 98.9285,98.4255,97.8985,97.0357,96.405, 95.7323,94.6375,93.8367,92.5283,91.5701 ,90.5136,88.7525,87.4459,86.0169, 84.4555,82.7445,80.8043,78.6544,76.2761 ,74.99,74.0246)
ORBIT_NUMBER = 26482
ORBITAL_ECCENTRICITY = 0.567
ORBITAL_INCLINATION = 87.13
ORBITAL_SEMIMAJOR_AXIS = 8764.31
PERIAPSIS_ALTITUDE = 419.65
PERIAPSIS_ARGUMENT_ANGLE = 106.0
PERIAPSIS_TIME = 2024-12-24T06:04:46.000Z
SPACECRAFT_ORIENTATION = (0.0,-1.0,0.0)
^MEX_ORIENTATION_DESC = "MEX_ORIENTATION_DESC.TXT"
SPACECRAFT_POINTING_MODE = INERT
^MEX_POINTING_DESC = "MEX_POINTING_DESC.TXT"
RIGHT_ASCENSION = 132.219
DECLINATION = -37.146
OFFSET_ANGLE = -1e+32
SPACECRAFT_SOLAR_DISTANCE = 2.40097e+08
TARGET_NAME = MARS
/* CAMERA DATA ELEMENTS */
DETECTOR_TEMPERATURE = 17.5549
FOCAL_PLANE_TEMPERATURE = 9.3989
INST_CMPRS_NAME = "DISCRETE COSINE TRANSFORMATION (DCT)"
INST_CMPRS_RATIO = 9.66772
INST_CMPRS_QUALITY = 0
INST_CMPRS_QUANTZ_TBL_ID = 0
INSTRUMENT_TEMPERATURE = 11.4379
LENS_TEMPERATURE = 9.3989
MACROPIXEL_SIZE = 2
MISSING_FRAMES = 0
PIXEL_SUBSAMPLING_FLAG = N
SIGNAL_CHAIN_ID = 1
/* RADIOMETRIC DATA ELEMENTS */
BANDWIDTH = 180.0
CENTER_FILTER_WAVELENGTH = 677.0
RADIANCE_OFFSET = 3.25381
RADIANCE_SCALING_FACTOR = 0.0154943
REFLECTANCE_SCALING_FACTOR = 0.000466
MEX:REFLECTANCE_OFFSET = 0.0978601
/* IMAGE OBJECT DEFINITIONS */
OBJECT = IMAGE
  INTERCHANGE_FORMAT = BINARY
  LINES = 24051
  LINE_SAMPLES = 12251
  SAMPLE_TYPE = UNSIGNED_INTEGER
  SAMPLE_BITS = 8
  BANDS = 1
  BAND_STORAGE_TYPE = BAND_SEQUENTIAL
  MAXIMUM = 255
  MEAN = 101.471
  MINIMUM = 1
  STANDARD_DEVIATION = 47.6314
END_OBJECT = IMAGE
/* MAP OBJECT DEFINITIONS */
OBJECT = IMAGE_MAP_PROJECTION
  ^DATA_SET_MAP_PROJECTION_CATALOG= "DSMAP.CAT"
  A_AXIS_RADIUS = 3396.0
  B_AXIS_RADIUS = 3396.0
  C_AXIS_RADIUS = 3396.0
  CENTER_LATITUDE = 0.0
  CENTER_LONGITUDE = 96.0
  COORDINATE_SYSTEM_NAME = PLANETOGRAPHIC
  COORDINATE_SYSTEM_TYPE = "BODY-FIXED ROTATING"
  EASTERNMOST_LONGITUDE = 106.545
  FIRST_STANDARD_PARALLEL = "N/A"
  LINE_FIRST_PIXEL = 1
  LINE_LAST_PIXEL = 24051
  LINE_PROJECTION_OFFSET = 206005.25
  MAP_PROJECTION_ROTATION = 0.0
  MAP_PROJECTION_TYPE = SINUSOIDAL
  MAP_RESOLUTION = 2370.85521546667
  MAP_SCALE = 0.025
  MAXIMUM_LATITUDE = 86.8514
  MINIMUM_LATITUDE = 76.7289
  POSITIVE_LONGITUDE_DIRECTION = EAST
  REFERENCE_LATITUDE = "N/A"
  REFERENCE_LONGITUDE = "N/A"
  SAMPLE_FIRST_PIXEL = 1
  SAMPLE_LAST_PIXEL = 12251
  SAMPLE_PROJECTION_OFFSET = 6708.75
  SECOND_STANDARD_PARALLEL = "N/A"
  WESTERNMOST_LONGITUDE = 59.3119
END_OBJECT = IMAGE_MAP_PROJECTION
END
