PDS_VERSION_ID = PDS3
/* FILE DATA ELEMENTS */
RECORD_TYPE = UNDEFINED
/* POINTERS TO DATA OBJECTS */
^IMAGE = ("HQ483_0000_BL4.TIF")
/* IDENTIFICATION DATA ELEMENTS */
DATA_SET_ID = "MEX-M-HRSC-4-REFDR-MAPPROJECT-EXT9-V4.0"
DATA_SET_NAME = "MARS EXPRESS HRSC MAP PROJECTED REFDR EXTENSION9 V4.0"
DETECTOR_ID = MEX_HRSC_BLUE
EVENT_TYPE = "MARS-REGIONAL-VARIABLE-Gl-La-At"
INSTRUMENT_HOST_ID = MEX
INSTRUMENT_HOST_NAME = "MARS EXPRESS"
INSTRUMENT_ID = HRSC
INSTRUMENT_NAME = "HIGH RESOLUTION STEREO CAMERA"
MISSION_NAME = "MARS EXPRESS"
MISSION_PHASE_NAME = ME_Phase_50
PROCESSING_LEVEL_ID = 4
PRODUCT_CREATION_TIME = 2025-01-29T19:26:23.000Z
PRODUCT_ID = "HQ483_0000_BL4.TIF"
RELEASE_ID = 0022
REVISION_ID = 0000
/* QUALITY DATA ELEMENTS */
DATA_QUALITY_ID = 1
DATA_QUALITY_DESC = "Data calculated based on original SPICE kernels"
/* TIME DATA ELEMENTS */
SPACECRAFT_CLOCK_START_COUNT = "1/0683125097.00339"
SPACECRAFT_CLOCK_STOP_COUNT = "1/0683125396.08892"
START_TIME = 2024-12-24T12:59:55.659Z
STOP_TIME = 2024-12-24T13:03:38.281Z
/* ORBITAL DATA ELEMENTS */
ASCENDING_NODE_LONGITUDE = 84.17
MAXIMUM_RESOLUTION = 0.0613
FOOTPRINT_POINT_LATITUDE = (87.4978,87.098,86.5943,86.0573,86.043, 85.949,86.1373,86.2248,86.2785,86.2997, 86.287,86.2421,86.1661,86.0001,85.8599, 85.6983,85.5166,85.3179,85.1078,84.7729 ,84.5371,84.2913,84.0376,83.7759, 83.5152,83.2503,82.9811,82.7082,82.4322 ,82.1526,81.8707,81.5873,81.3081, 80.8859,80.6034,80.3183,80.032,79.7443, 79.456,79.1666,78.8778,78.5863,78.1512, 77.5796,77.0058,76.43,75.8527,75.274, 75.1291,75.0549,75.1952,75.2685,75.3405 ,75.3426,75.3444,75.9358,76.527,76.9702 ,77.2655,77.5609,78.0036,78.2988, 78.5935,79.0458,79.3456,79.6475,79.9492 ,80.4009,80.7018,81.0025,81.4528, 81.7525,82.0518,82.3554,82.6611,82.9662 ,83.2704,83.5734,84.0262,84.3258, 84.6263,84.9307,85.3716,85.664,85.9512, 86.2322,86.5111,86.7799,87.1554,87.3828 ,87.5861,87.7587,87.889,87.9861,87.9778 ,87.9086,87.7831,87.6105,87.5093, 87.4978)
FOOTPRINT_POINT_LONGITUDE = (248.427,253.965,258.79,262.413,262.494 ,261.0,268.3,273.495,278.844,284.289, 289.644,294.907,299.987,307.109,311.413 ,315.376,319.087,322.473,325.508, 329.549,331.944,334.163,336.192,338.072 ,339.74,341.272,342.683,343.986,345.188 ,346.308,347.346,348.309,349.187, 350.399,351.137,351.839,352.498,353.121 ,353.705,354.258,354.769,355.266, 355.956,356.783,357.533,358.216,358.84, 359.412,359.547,359.616,362.029,363.521 ,365.242,365.297,365.314,364.991, 364.637,364.351,364.148,363.936,363.597 ,363.357,363.103,362.686,362.381, 362.064,361.728,361.183,360.79,360.37, 359.683,359.184,358.646,358.056,357.411 ,356.708,355.941,355.101,353.679, 352.604,351.396,350.022,347.624,345.751 ,343.608,341.139,338.215,334.774, 328.433,323.221,317.032,309.667,301.218 ,287.013,277.069,267.325,258.39,250.631 ,247.175,248.427)
ORBIT_NUMBER = 26483
ORBITAL_ECCENTRICITY = 0.567
ORBITAL_INCLINATION = 87.12
ORBITAL_SEMIMAJOR_AXIS = 8763.18
PERIAPSIS_ALTITUDE = 420.62
PERIAPSIS_ARGUMENT_ANGLE = 105.83
PERIAPSIS_TIME = 2024-12-24T13:03:50.000Z
SPACECRAFT_ORIENTATION = (0.0,-1.0,0.0)
^MEX_ORIENTATION_DESC = "MEX_ORIENTATION_DESC.TXT"
SPACECRAFT_POINTING_MODE = INERT
^MEX_POINTING_DESC = "MEX_POINTING_DESC.TXT"
RIGHT_ASCENSION = 132.214
DECLINATION = -37.326
OFFSET_ANGLE = -1e+32
SPACECRAFT_SOLAR_DISTANCE = 2.40141e+08
TARGET_NAME = MARS
/* CAMERA DATA ELEMENTS */
DETECTOR_TEMPERATURE = 17.7588
FOCAL_PLANE_TEMPERATURE = 8.1755
INST_CMPRS_NAME = "DISCRETE COSINE TRANSFORMATION (DCT)"
INST_CMPRS_RATIO = 23.3636
INST_CMPRS_QUALITY = 0
INST_CMPRS_QUANTZ_TBL_ID = 0
INSTRUMENT_TEMPERATURE = 10.4184
LENS_TEMPERATURE = 8.7872
MACROPIXEL_SIZE = 4
MISSING_FRAMES = 0
PIXEL_SUBSAMPLING_FLAG = N
SIGNAL_CHAIN_ID = 2
/* RADIOMETRIC DATA ELEMENTS */
BANDWIDTH = 76.0
CENTER_FILTER_WAVELENGTH = 444.0
RADIANCE_OFFSET = 0.383206
RADIANCE_SCALING_FACTOR = 0.00751383
REFLECTANCE_SCALING_FACTOR = 0.000445193
MEX:REFLECTANCE_OFFSET = 0.0227048
/* IMAGE OBJECT DEFINITIONS */
OBJECT = IMAGE
  INTERCHANGE_FORMAT = BINARY
  LINES = 15346
  LINE_SAMPLES = 11844
  SAMPLE_TYPE = UNSIGNED_INTEGER
  SAMPLE_BITS = 8
  BANDS = 1
  BAND_STORAGE_TYPE = BAND_SEQUENTIAL
  MAXIMUM = 255
  MEAN = 66.296
  MINIMUM = 1
  STANDARD_DEVIATION = 36.4924
END_OBJECT = IMAGE
/* MAP OBJECT DEFINITIONS */
OBJECT = IMAGE_MAP_PROJECTION
  ^DATA_SET_MAP_PROJECTION_CATALOG= "DSMAP.CAT"
  A_AXIS_RADIUS = 3396.0
  B_AXIS_RADIUS = 3396.0
  C_AXIS_RADIUS = 3396.0
  CENTER_LATITUDE = 0.0
  CENTER_LONGITUDE = 351.0
  COORDINATE_SYSTEM_NAME = PLANETOGRAPHIC
  COORDINATE_SYSTEM_TYPE = "BODY-FIXED ROTATING"
  EASTERNMOST_LONGITUDE = 5.314
  FIRST_STANDARD_PARALLEL = "N/A"
  LINE_FIRST_PIXEL = 1
  LINE_LAST_PIXEL = 15346
  LINE_PROJECTION_OFFSET = 104295.875
  MAP_PROJECTION_ROTATION = 0.0
  MAP_PROJECTION_TYPE = SINUSOIDAL
  MAP_RESOLUTION = 1185.42760773333
  MAP_SCALE = 0.05
  MAXIMUM_LATITUDE = 87.98609999999999
  MINIMUM_LATITUDE = 75.0549
  POSITIVE_LONGITUDE_DIRECTION = EAST
  REFERENCE_LATITUDE = "N/A"
  REFERENCE_LONGITUDE = "N/A"
  SAMPLE_FIRST_PIXEL = 1
  SAMPLE_LAST_PIXEL = 11844
  SAMPLE_PROJECTION_OFFSET = 7536.125
  SECOND_STANDARD_PARALLEL = "N/A"
  WESTERNMOST_LONGITUDE = -112.825
END_OBJECT = IMAGE_MAP_PROJECTION
END
