PDS_VERSION_ID = PDS3
/* FILE DATA ELEMENTS */
RECORD_TYPE = UNDEFINED
/* POINTERS TO DATA OBJECTS */
^IMAGE = ("HQ483_0000_ND4.TIF")
/* IDENTIFICATION DATA ELEMENTS */
DATA_SET_ID = "MEX-M-HRSC-4-REFDR-MAPPROJECT-EXT9-V4.0"
DATA_SET_NAME = "MARS EXPRESS HRSC MAP PROJECTED REFDR EXTENSION9 V4.0"
DETECTOR_ID = MEX_HRSC_NADIR
EVENT_TYPE = "MARS-REGIONAL-VARIABLE-Gl-La-At"
INSTRUMENT_HOST_ID = MEX
INSTRUMENT_HOST_NAME = "MARS EXPRESS"
INSTRUMENT_ID = HRSC
INSTRUMENT_NAME = "HIGH RESOLUTION STEREO CAMERA"
MISSION_NAME = "MARS EXPRESS"
MISSION_PHASE_NAME = ME_Phase_50
PROCESSING_LEVEL_ID = 4
PRODUCT_CREATION_TIME = 2025-01-29T19:26:23.000Z
PRODUCT_ID = "HQ483_0000_ND4.TIF"
RELEASE_ID = 0022
REVISION_ID = 0000
/* QUALITY DATA ELEMENTS */
DATA_QUALITY_ID = 1
DATA_QUALITY_DESC = "Data calculated based on original SPICE kernels"
/* TIME DATA ELEMENTS */
SPACECRAFT_CLOCK_START_COUNT = "1/0683125097.00339"
SPACECRAFT_CLOCK_STOP_COUNT = "1/0683125396.08892"
START_TIME = 2024-12-24T12:59:48.624Z
STOP_TIME = 2024-12-24T13:03:32.613Z
/* ORBITAL DATA ELEMENTS */
ASCENDING_NODE_LONGITUDE = 84.17
MAXIMUM_RESOLUTION = 0.0153
FOOTPRINT_POINT_LATITUDE = (87.4791,87.0305,86.5422,86.0514, 86.0363,85.9468,86.137,86.2235,86.2906, 86.2932,86.2627,86.2006,86.1089,85.9894 ,85.8452,85.6822,85.4996,85.3003, 85.0866,84.7458,84.509,84.2625,84.0083, 83.7468,83.4799,83.2119,82.9423,82.6689 ,82.3922,81.9715,81.6878,81.4018, 81.1165,80.8339,80.5503,80.2645,79.9775 ,79.6891,79.3998,79.1095,78.819,78.5266 ,78.2337,77.9399,77.3634,76.7868,76.353 ,75.9182,75.1916,75.046,75.0364,75.1737 ,75.2467,75.3237,75.3259,75.3272, 75.9213,76.5149,76.9599,77.5527,77.997, 78.5986,78.9011,79.3549,79.6575,79.9599 ,80.4127,80.7142,81.1655,81.6165, 81.9209,82.2279,82.5342,82.8397,83.1442 ,83.4477,83.75,84.0512,84.3572,84.6616, 84.9653,85.258,85.5517,85.8405,86.1287, 86.4114,86.684,86.9423,87.1859,87.4142, 87.6143,87.8451,87.9406,87.9812,87.9607 ,87.8801,87.745,87.561,87.4543,87.4791)
FOOTPRINT_POINT_LONGITUDE = (248.187,254.294,258.852,262.161, 262.248,261.061,268.472,273.668,281.734 ,287.198,292.561,297.706,302.664, 307.352,311.708,315.647,319.324,322.682 ,325.727,329.788,332.165,334.363, 336.373,338.229,339.919,341.449,342.845 ,344.134,345.327,346.959,347.952, 348.875,349.731,350.518,351.25,351.945, 352.598,353.216,353.797,354.345,354.853 ,355.347,355.813,356.256,357.059, 357.786,358.289,358.759,359.476,359.611 ,359.62,361.962,363.431,365.258,365.316 ,365.344,365.018,364.663,364.375, 363.958,363.617,363.111,362.831,362.382 ,362.062,361.724,361.173,360.777, 360.129,359.414,358.883,358.304,357.677 ,356.996,356.254,355.442,354.551, 353.569,352.455,351.21,349.815,348.233, 346.446,344.407,342.017,339.229,335.97, 332.149,327.634,322.176,315.714,304.015 ,294.994,285.127,275.126,265.588, 256.904,249.266,245.878,248.187)
ORBIT_NUMBER = 26483
ORBITAL_ECCENTRICITY = 0.567
ORBITAL_INCLINATION = 87.12
ORBITAL_SEMIMAJOR_AXIS = 8763.18
PERIAPSIS_ALTITUDE = 420.62
PERIAPSIS_ARGUMENT_ANGLE = 105.83
PERIAPSIS_TIME = 2024-12-24T13:03:50.000Z
SPACECRAFT_ORIENTATION = (0.0,-1.0,0.0)
^MEX_ORIENTATION_DESC = "MEX_ORIENTATION_DESC.TXT"
SPACECRAFT_POINTING_MODE = INERT
^MEX_POINTING_DESC = "MEX_POINTING_DESC.TXT"
RIGHT_ASCENSION = 132.214
DECLINATION = -37.326
OFFSET_ANGLE = -1e+32
SPACECRAFT_SOLAR_DISTANCE = 2.40141e+08
TARGET_NAME = MARS
/* CAMERA DATA ELEMENTS */
DETECTOR_TEMPERATURE = 17.7588
FOCAL_PLANE_TEMPERATURE = 8.1755
INST_CMPRS_NAME = "DISCRETE COSINE TRANSFORMATION (DCT)"
INST_CMPRS_RATIO = 6.55819
INST_CMPRS_QUALITY = 0
INST_CMPRS_QUANTZ_TBL_ID = 0
INSTRUMENT_TEMPERATURE = 10.4184
LENS_TEMPERATURE = 8.7872
MACROPIXEL_SIZE = 1
MISSING_FRAMES = 0
PIXEL_SUBSAMPLING_FLAG = N
SIGNAL_CHAIN_ID = 0
/* RADIOMETRIC DATA ELEMENTS */
BANDWIDTH = 177.0
CENTER_FILTER_WAVELENGTH = 677.5
RADIANCE_OFFSET = 1.58323
RADIANCE_SCALING_FACTOR = 0.0270081
REFLECTANCE_SCALING_FACTOR = 0.000827389
MEX:REFLECTANCE_OFFSET = 0.0485021
/* IMAGE OBJECT DEFINITIONS */
OBJECT = IMAGE
  INTERCHANGE_FORMAT = BINARY
  LINES = 61384
  LINE_SAMPLES = 47375
  SAMPLE_TYPE = UNSIGNED_INTEGER
  SAMPLE_BITS = 8
  BANDS = 1
  BAND_STORAGE_TYPE = BAND_SEQUENTIAL
  MAXIMUM = 255
  MEAN = 95.1549
  MINIMUM = 1
  STANDARD_DEVIATION = 53.6037
END_OBJECT = IMAGE
/* MAP OBJECT DEFINITIONS */
OBJECT = IMAGE_MAP_PROJECTION
  ^DATA_SET_MAP_PROJECTION_CATALOG= "DSMAP.CAT"
  A_AXIS_RADIUS = 3396.0
  B_AXIS_RADIUS = 3396.0
  C_AXIS_RADIUS = 3396.0
  CENTER_LATITUDE = 0.0
  CENTER_LONGITUDE = 351.0
  COORDINATE_SYSTEM_NAME = PLANETOGRAPHIC
  COORDINATE_SYSTEM_TYPE = "BODY-FIXED ROTATING"
  EASTERNMOST_LONGITUDE = 5.344
  FIRST_STANDARD_PARALLEL = "N/A"
  LINE_FIRST_PIXEL = 1
  LINE_LAST_PIXEL = 61384
  LINE_PROJECTION_OFFSET = 417185.0
  MAP_PROJECTION_ROTATION = 0.0
  MAP_PROJECTION_TYPE = SINUSOIDAL
  MAP_RESOLUTION = 4741.71043093333
  MAP_SCALE = 0.0125
  MAXIMUM_LATITUDE = 87.9812
  MINIMUM_LATITUDE = 75.0364
  POSITIVE_LONGITUDE_DIRECTION = EAST
  REFERENCE_LATITUDE = "N/A"
  REFERENCE_LONGITUDE = "N/A"
  SAMPLE_FIRST_PIXEL = 1
  SAMPLE_LAST_PIXEL = 47375
  SAMPLE_PROJECTION_OFFSET = 30146.0
  SECOND_STANDARD_PARALLEL = "N/A"
  WESTERNMOST_LONGITUDE = -114.122
END_OBJECT = IMAGE_MAP_PROJECTION
END
