PDS_VERSION_ID = PDS3
/* FILE DATA ELEMENTS */
RECORD_TYPE = UNDEFINED
/* POINTERS TO DATA OBJECTS */
^IMAGE = ("HQ483_0000_P24.TIF")
/* IDENTIFICATION DATA ELEMENTS */
DATA_SET_ID = "MEX-M-HRSC-4-REFDR-MAPPROJECT-EXT9-V4.0"
DATA_SET_NAME = "MARS EXPRESS HRSC MAP PROJECTED REFDR EXTENSION9 V4.0"
DETECTOR_ID = MEX_HRSC_P2
EVENT_TYPE = "MARS-REGIONAL-VARIABLE-Gl-La-At"
INSTRUMENT_HOST_ID = MEX
INSTRUMENT_HOST_NAME = "MARS EXPRESS"
INSTRUMENT_ID = HRSC
INSTRUMENT_NAME = "HIGH RESOLUTION STEREO CAMERA"
MISSION_NAME = "MARS EXPRESS"
MISSION_PHASE_NAME = ME_Phase_50
PROCESSING_LEVEL_ID = 4
PRODUCT_CREATION_TIME = 2025-01-29T19:26:23.000Z
PRODUCT_ID = "HQ483_0000_P24.TIF"
RELEASE_ID = 0022
REVISION_ID = 0000
/* QUALITY DATA ELEMENTS */
DATA_QUALITY_ID = 1
DATA_QUALITY_DESC = "Data calculated based on original SPICE kernels"
/* TIME DATA ELEMENTS */
SPACECRAFT_CLOCK_START_COUNT = "1/0683125097.00339"
SPACECRAFT_CLOCK_STOP_COUNT = "1/0683125396.08892"
START_TIME = 2024-12-24T13:00:16.614Z
STOP_TIME = 2024-12-24T13:03:55.343Z
/* ORBITAL DATA ELEMENTS */
ASCENDING_NODE_LONGITUDE = 84.17
MAXIMUM_RESOLUTION = 0.0315
FOOTPRINT_POINT_LATITUDE = (87.5517,87.0316,86.7518,86.0515, 86.0359,85.9118,86.102,86.2221,86.26, 86.2644,86.2357,86.1751,86.0845,85.9659 ,85.8252,85.6645,85.4826,85.2844, 84.9626,84.7329,84.4989,84.2533,84.0008 ,83.7389,83.4734,83.2032,82.9287, 82.6537,82.2412,81.9627,81.6821,81.3996 ,81.1152,80.8293,80.5438,80.2549, 79.9641,79.673,79.3828,78.8155,78.5277, 78.0967,77.8084,77.5196,77.2304,76.9408 ,76.3605,75.9245,75.1967,75.051,75.0477 ,75.1936,75.2541,75.3361,75.3383, 75.3397,75.9349,76.5304,76.8282,77.1262 ,77.4241,77.7222,78.02,78.3183,78.912, 79.3559,79.6535,80.1061,80.4106,80.7155 ,81.1721,81.6299,81.9343,82.2386, 82.5425,82.8457,83.1486,83.4508,83.9141 ,84.3751,84.6795,84.9851,85.2728, 85.5666,85.8581,86.1484,86.4329,86.8399 ,87.0914,87.3271,87.6425,87.8079, 87.9308,87.9984,88.0075,87.9539,87.8405 ,87.5777,87.4702,87.5517)
FOOTPRINT_POINT_LONGITUDE = (249.226,256.041,258.649,263.347,263.43 ,261.003,268.292,276.149,281.563, 286.949,292.271,297.413,302.387,307.088 ,311.381,315.302,319.003,322.371, 326.834,329.499,331.867,334.078,336.092 ,337.971,339.667,341.223,342.654,343.96 ,345.712,346.777,347.766,348.687, 349.547,350.35,351.093,351.801,352.469, 353.095,353.681,354.719,355.21,355.892, 356.32,356.727,357.114,357.482,358.17, 358.646,359.371,359.507,359.51,362.037, 363.261,365.172,365.228,365.248,364.926 ,364.573,364.385,364.187,363.979, 363.761,363.532,363.29,362.765,362.33, 362.02,361.512,361.141,360.745,360.099, 359.38,358.855,358.288,357.673,357.005, 356.277,355.479,354.095,352.479,351.245 ,349.853,348.311,346.541,344.503, 342.114,339.327,334.224,330.075,325.134 ,315.721,308.097,299.294,289.721, 279.671,269.58,260.227,248.37,245.011, 249.226)
ORBIT_NUMBER = 26483
ORBITAL_ECCENTRICITY = 0.567
ORBITAL_INCLINATION = 87.12
ORBITAL_SEMIMAJOR_AXIS = 8763.18
PERIAPSIS_ALTITUDE = 420.62
PERIAPSIS_ARGUMENT_ANGLE = 105.83
PERIAPSIS_TIME = 2024-12-24T13:03:50.000Z
SPACECRAFT_ORIENTATION = (0.0,-1.0,0.0)
^MEX_ORIENTATION_DESC = "MEX_ORIENTATION_DESC.TXT"
SPACECRAFT_POINTING_MODE = INERT
^MEX_POINTING_DESC = "MEX_POINTING_DESC.TXT"
RIGHT_ASCENSION = 132.214
DECLINATION = -37.326
OFFSET_ANGLE = -1e+32
SPACECRAFT_SOLAR_DISTANCE = 2.40141e+08
TARGET_NAME = MARS
/* CAMERA DATA ELEMENTS */
DETECTOR_TEMPERATURE = 18.1666
FOCAL_PLANE_TEMPERATURE = 8.1755
INST_CMPRS_NAME = "DISCRETE COSINE TRANSFORMATION (DCT)"
INST_CMPRS_RATIO = 9.55192
INST_CMPRS_QUALITY = 0
INST_CMPRS_QUANTZ_TBL_ID = 0
INSTRUMENT_TEMPERATURE = 10.4184
LENS_TEMPERATURE = 8.7872
MACROPIXEL_SIZE = 2
MISSING_FRAMES = 0
PIXEL_SUBSAMPLING_FLAG = N
SIGNAL_CHAIN_ID = 3
/* RADIOMETRIC DATA ELEMENTS */
BANDWIDTH = 177.0
CENTER_FILTER_WAVELENGTH = 676.5
RADIANCE_OFFSET = 1.81398
RADIANCE_SCALING_FACTOR = 0.0259586
REFLECTANCE_SCALING_FACTOR = 0.000793725
MEX:REFLECTANCE_OFFSET = 0.0554654
/* IMAGE OBJECT DEFINITIONS */
OBJECT = IMAGE
  INTERCHANGE_FORMAT = BINARY
  LINES = 30692
  LINE_SAMPLES = 23688
  SAMPLE_TYPE = UNSIGNED_INTEGER
  SAMPLE_BITS = 8
  BANDS = 1
  BAND_STORAGE_TYPE = BAND_SEQUENTIAL
  MAXIMUM = 255
  MEAN = 97.8129
  MINIMUM = 1
  STANDARD_DEVIATION = 55.6871
END_OBJECT = IMAGE
/* MAP OBJECT DEFINITIONS */
OBJECT = IMAGE_MAP_PROJECTION
  ^DATA_SET_MAP_PROJECTION_CATALOG= "DSMAP.CAT"
  A_AXIS_RADIUS = 3396.0
  B_AXIS_RADIUS = 3396.0
  C_AXIS_RADIUS = 3396.0
  CENTER_LATITUDE = 0.0
  CENTER_LONGITUDE = 351.0
  COORDINATE_SYSTEM_NAME = PLANETOGRAPHIC
  COORDINATE_SYSTEM_TYPE = "BODY-FIXED ROTATING"
  EASTERNMOST_LONGITUDE = 5.248
  FIRST_STANDARD_PARALLEL = "N/A"
  LINE_FIRST_PIXEL = 1
  LINE_LAST_PIXEL = 30692
  LINE_PROJECTION_OFFSET = 208592.25
  MAP_PROJECTION_ROTATION = 0.0
  MAP_PROJECTION_TYPE = SINUSOIDAL
  MAP_RESOLUTION = 2370.85521546667
  MAP_SCALE = 0.025
  MAXIMUM_LATITUDE = 88.00749999999999
  MINIMUM_LATITUDE = 75.04770000000001
  POSITIVE_LONGITUDE_DIRECTION = EAST
  REFERENCE_LATITUDE = "N/A"
  REFERENCE_LONGITUDE = "N/A"
  SAMPLE_FIRST_PIXEL = 1
  SAMPLE_LAST_PIXEL = 23688
  SAMPLE_PROJECTION_OFFSET = 15072.75
  SECOND_STANDARD_PARALLEL = "N/A"
  WESTERNMOST_LONGITUDE = -114.989
END_OBJECT = IMAGE_MAP_PROJECTION
END
