PDS_VERSION_ID = PDS3
/* FILE DATA ELEMENTS */
RECORD_TYPE = UNDEFINED
/* POINTERS TO DATA OBJECTS */
^IMAGE = ("HQ484_0000_BL4.TIF")
/* IDENTIFICATION DATA ELEMENTS */
DATA_SET_ID = "MEX-M-HRSC-4-REFDR-MAPPROJECT-EXT9-V4.0"
DATA_SET_NAME = "MARS EXPRESS HRSC MAP PROJECTED REFDR EXTENSION9 V4.0"
DETECTOR_ID = MEX_HRSC_BLUE
EVENT_TYPE = "MARS-REGIONAL-VARIABLE-Gl-La-At"
INSTRUMENT_HOST_ID = MEX
INSTRUMENT_HOST_NAME = "MARS EXPRESS"
INSTRUMENT_ID = HRSC
INSTRUMENT_NAME = "HIGH RESOLUTION STEREO CAMERA"
MISSION_NAME = "MARS EXPRESS"
MISSION_PHASE_NAME = ME_Phase_50
PROCESSING_LEVEL_ID = 4
PRODUCT_CREATION_TIME = 2025-01-29T19:26:23.000Z
PRODUCT_ID = "HQ484_0000_BL4.TIF"
RELEASE_ID = 0022
REVISION_ID = 0000
/* QUALITY DATA ELEMENTS */
DATA_QUALITY_ID = 1
DATA_QUALITY_DESC = "Data calculated based on original SPICE kernels"
/* TIME DATA ELEMENTS */
SPACECRAFT_CLOCK_START_COUNT = "1/0683150321.00344"
SPACECRAFT_CLOCK_STOP_COUNT = "1/0683150546.16544"
START_TIME = 2024-12-24T20:00:16.034Z
STOP_TIME = 2024-12-24T20:02:48.598Z
/* ORBITAL DATA ELEMENTS */
ASCENDING_NODE_LONGITUDE = 84.16
MAXIMUM_RESOLUTION = 0.0679
FOOTPRINT_POINT_LATITUDE = (85.9618,85.7155,85.5322,85.3848, 85.1623,85.011,85.0007,85.0364,84.7987, 84.6334,84.4633,84.2893,84.1114,83.8401 ,83.6601,83.3818,83.1936,83.0039, 82.8124,82.5226,82.3263,82.1289,81.9307 ,81.7345,81.5386,81.2429,81.0445, 80.7457,80.5454,80.3443,80.1427,79.9404 ,79.6358,79.432,79.1255,78.8181,78.6126 ,78.412,78.2111,77.9091,77.5053,77.2018 ,76.7964,76.593,76.2881,75.7789,75.3707 ,75.2686,75.2304,75.2857,75.3639, 75.4316,75.4732,75.5198,75.5219,75.5237 ,75.9408,76.3579,76.6706,77.0873, 77.2958,77.7124,77.9207,78.1288,78.4409 ,78.7531,78.961,79.1732,79.3863,79.706, 79.919,80.1318,80.3442,80.5571,80.7679, 80.9798,81.1916,81.4032,81.7203,81.9314 ,82.1417,82.3522,82.6732,82.888,83.1023 ,83.3162,83.5294,83.7424,83.9544, 84.1662,84.4814,84.6881,84.8983,85.1095 ,85.3182,85.5247,85.7293,85.9314, 86.0313,85.9618)
FOOTPRINT_POINT_LONGITUDE = (240.557,235.522,232.438,230.257, 227.355,225.6,225.487,224.249,227.08, 228.83,230.472,232.011,233.454,235.447, 236.633,238.338,239.391,240.378,241.31, 242.606,243.427,244.202,244.932,245.617 ,246.265,247.182,247.759,248.574, 249.089,249.582,250.054,250.506,251.151 ,251.56,252.142,252.692,253.04,253.368, 253.684,254.136,254.705,255.107,255.611 ,255.853,256.199,256.739,257.143,257.24 ,257.276,258.169,259.553,260.897, 261.817,262.961,263.016,263.034,262.802 ,262.555,262.359,262.083,261.939, 261.633,261.473,261.306,261.044,260.769 ,260.576,260.37,260.156,259.817,259.579 ,259.33,259.07,258.798,258.51,258.211, 257.898,257.569,257.044,256.67,256.276, 255.86,255.177,254.684,254.16,253.602, 253.006,252.37,251.689,250.958,249.754, 248.871,247.896,246.832,245.671,244.402 ,243.009,241.475,240.65,240.557)
ORBIT_NUMBER = 26484
ORBITAL_ECCENTRICITY = 0.567
ORBITAL_INCLINATION = 87.12
ORBITAL_SEMIMAJOR_AXIS = 8762.03
PERIAPSIS_ALTITUDE = 420.09
PERIAPSIS_ARGUMENT_ANGLE = 105.67
PERIAPSIS_TIME = 2024-12-24T20:03:01.000Z
SPACECRAFT_ORIENTATION = (0.0,-1.0,0.0)
^MEX_ORIENTATION_DESC = "MEX_ORIENTATION_DESC.TXT"
SPACECRAFT_POINTING_MODE = INERT
^MEX_POINTING_DESC = "MEX_POINTING_DESC.TXT"
RIGHT_ASCENSION = 132.209
DECLINATION = -37.453
OFFSET_ANGLE = -1e+32
SPACECRAFT_SOLAR_DISTANCE = 2.40185e+08
TARGET_NAME = MARS
/* CAMERA DATA ELEMENTS */
DETECTOR_TEMPERATURE = 17.9627
FOCAL_PLANE_TEMPERATURE = 8.5833
INST_CMPRS_NAME = "DISCRETE COSINE TRANSFORMATION (DCT)"
INST_CMPRS_RATIO = 14.7477
INST_CMPRS_QUALITY = 0
INST_CMPRS_QUANTZ_TBL_ID = 0
INSTRUMENT_TEMPERATURE = 11.0301
LENS_TEMPERATURE = 9.195
MACROPIXEL_SIZE = 4
MISSING_FRAMES = 0
PIXEL_SUBSAMPLING_FLAG = N
SIGNAL_CHAIN_ID = 2
/* RADIOMETRIC DATA ELEMENTS */
BANDWIDTH = 76.0
CENTER_FILTER_WAVELENGTH = 444.0
RADIANCE_OFFSET = 0.607524
RADIANCE_SCALING_FACTOR = 0.00313689
REFLECTANCE_SCALING_FACTOR = 0.000185928
MEX:REFLECTANCE_OFFSET = 0.0360089
/* IMAGE OBJECT DEFINITIONS */
OBJECT = IMAGE
  INTERCHANGE_FORMAT = BINARY
  LINES = 12838
  LINE_SAMPLES = 5733
  SAMPLE_TYPE = UNSIGNED_INTEGER
  SAMPLE_BITS = 8
  BANDS = 1
  BAND_STORAGE_TYPE = BAND_SEQUENTIAL
  MAXIMUM = 255
  MEAN = 93.7203
  MINIMUM = 1
  STANDARD_DEVIATION = 37.7159
END_OBJECT = IMAGE
/* MAP OBJECT DEFINITIONS */
OBJECT = IMAGE_MAP_PROJECTION
  ^DATA_SET_MAP_PROJECTION_CATALOG= "DSMAP.CAT"
  A_AXIS_RADIUS = 3396.0
  B_AXIS_RADIUS = 3396.0
  C_AXIS_RADIUS = 3396.0
  CENTER_LATITUDE = 0.0
  CENTER_LONGITUDE = 254.0
  COORDINATE_SYSTEM_NAME = PLANETOGRAPHIC
  COORDINATE_SYSTEM_TYPE = "BODY-FIXED ROTATING"
  EASTERNMOST_LONGITUDE = 263.034
  FIRST_STANDARD_PARALLEL = "N/A"
  LINE_FIRST_PIXEL = 1
  LINE_LAST_PIXEL = 12838
  LINE_PROJECTION_OFFSET = 102009.625
  MAP_PROJECTION_ROTATION = 0.0
  MAP_PROJECTION_TYPE = SINUSOIDAL
  MAP_RESOLUTION = 1185.42760773333
  MAP_SCALE = 0.05
  MAXIMUM_LATITUDE = 86.0313
  MINIMUM_LATITUDE = 75.2304
  POSITIVE_LONGITUDE_DIRECTION = EAST
  REFERENCE_LATITUDE = "N/A"
  REFERENCE_LONGITUDE = "N/A"
  SAMPLE_FIRST_PIXEL = 1
  SAMPLE_LAST_PIXEL = 5733
  SAMPLE_PROJECTION_OFFSET = 3046.875
  SECOND_STANDARD_PARALLEL = "N/A"
  WESTERNMOST_LONGITUDE = 224.249
END_OBJECT = IMAGE_MAP_PROJECTION
END
