PDS_VERSION_ID = PDS3
/* FILE DATA ELEMENTS */
RECORD_TYPE = UNDEFINED
/* POINTERS TO DATA OBJECTS */
^IMAGE = ("HQ489_0000_P24.TIF")
/* IDENTIFICATION DATA ELEMENTS */
DATA_SET_ID = "MEX-M-HRSC-4-REFDR-MAPPROJECT-EXT9-V4.0"
DATA_SET_NAME = "MARS EXPRESS HRSC MAP PROJECTED REFDR EXTENSION9 V4.0"
DETECTOR_ID = MEX_HRSC_P2
EVENT_TYPE = "MARS-REGIONAL-VARIABLE-Gl-La-At"
INSTRUMENT_HOST_ID = MEX
INSTRUMENT_HOST_NAME = "MARS EXPRESS"
INSTRUMENT_ID = HRSC
INSTRUMENT_NAME = "HIGH RESOLUTION STEREO CAMERA"
MISSION_NAME = "MARS EXPRESS"
MISSION_PHASE_NAME = ME_Phase_50
PROCESSING_LEVEL_ID = 4
PRODUCT_CREATION_TIME = 2025-01-29T19:26:23.000Z
PRODUCT_ID = "HQ489_0000_P24.TIF"
RELEASE_ID = 0022
REVISION_ID = 0000
/* QUALITY DATA ELEMENTS */
DATA_QUALITY_ID = 1
DATA_QUALITY_DESC = "Data calculated based on original SPICE kernels"
/* TIME DATA ELEMENTS */
SPACECRAFT_CLOCK_START_COUNT = "1/0683276045.00354"
SPACECRAFT_CLOCK_STOP_COUNT = "1/0683276263.46827"
START_TIME = 2024-12-26T06:55:59.620Z
STOP_TIME = 2024-12-26T06:58:22.887Z
/* ORBITAL DATA ELEMENTS */
ASCENDING_NODE_LONGITUDE = 84.08
MAXIMUM_RESOLUTION = 0.035
FOOTPRINT_POINT_LATITUDE = (86.8932,86.7355,86.4912,86.1373, 85.9408,85.7011,85.6883,85.7329,85.5581 ,85.4319,85.3014,85.1647,85.0223, 84.8748,84.7225,84.5665,84.4054,84.2413 ,84.074,83.8178,83.6443,83.4721,83.2978 ,83.1229,82.9444,82.6754,82.4932, 82.3105,82.0353,81.8487,81.5686,81.3805 ,81.1923,81.0026,80.8122,80.6208, 80.4316,80.2442,80.0561,79.8676,79.6787 ,79.4895,79.2998,79.0147,78.6334, 78.1552,77.7717,77.3872,77.002,76.9056, 76.8799,76.9705,77.0465,77.0976,77.1424 ,77.2094,77.2119,77.2134,77.7089, 78.1053,78.6006,78.997,79.3932,79.5913, 79.7895,79.9877,80.1857,80.3838,80.5817 ,80.7795,80.9773,81.2807,81.4834, 81.6858,81.988,82.1892,82.4907,82.693, 82.8912,83.1912,83.3906,83.5913,83.7881 ,83.9871,84.1857,84.3806,84.5811, 84.8789,85.0771,85.2741,85.4692,85.7586 ,85.9486,86.1381,86.3193,86.4999, 86.7658,86.9388,87.0227,86.8932)
FOOTPRINT_POINT_LONGITUDE = (79.1899,76.2226,72.3665,67.9023, 65.8373,63.6227,63.5127,61.2834,65.0258 ,67.3598,69.5152,71.5453,73.4598, 75.2638,76.9623,78.5525,80.0682,81.4891 ,82.8272,84.6899,85.8435,86.911,87.9226 ,88.8684,89.7834,91.0536,91.8571,92.615 ,93.6761,94.3546,95.3031,95.9013, 96.4691,97.0161,97.5401,98.0431,98.518, 98.9682,99.4013,99.8176,100.218,100.602 ,100.973,101.504,102.167,102.933,103.5, 104.031,104.528,104.648,104.679,106.162 ,107.537,108.547,109.5,111.104,111.169, 111.192,110.833,110.524,110.107,109.744 ,109.354,109.148,108.933,108.71,108.477 ,108.234,107.981,107.717,107.441, 106.991,106.673,106.339,105.804,105.424 ,104.816,104.382,103.923,103.183, 102.651,102.086,101.485,100.842,100.155 ,99.4207,98.6164,97.2828,96.3011,95.236 ,94.0779,92.1388,90.6918,89.0918, 87.3532,85.4163,82.0661,79.4715,78.0615 ,79.1899)
ORBIT_NUMBER = 26489
ORBITAL_ECCENTRICITY = 0.567
ORBITAL_INCLINATION = 87.13
ORBITAL_SEMIMAJOR_AXIS = 8763.22
PERIAPSIS_ALTITUDE = 420.22
PERIAPSIS_ARGUMENT_ANGLE = 104.81
PERIAPSIS_TIME = 2024-12-26T06:58:30.000Z
SPACECRAFT_ORIENTATION = (0.0,-1.0,0.0)
^MEX_ORIENTATION_DESC = "MEX_ORIENTATION_DESC.TXT"
SPACECRAFT_POINTING_MODE = INERT
^MEX_POINTING_DESC = "MEX_POINTING_DESC.TXT"
RIGHT_ASCENSION = 132.22
DECLINATION = -38.367
OFFSET_ANGLE = -1e+32
SPACECRAFT_SOLAR_DISTANCE = 2.40404e+08
TARGET_NAME = MARS
/* CAMERA DATA ELEMENTS */
DETECTOR_TEMPERATURE = 18.1666
FOCAL_PLANE_TEMPERATURE = 7.9716
INST_CMPRS_NAME = "DISCRETE COSINE TRANSFORMATION (DCT)"
INST_CMPRS_RATIO = 6.4831
INST_CMPRS_QUALITY = 0
INST_CMPRS_QUANTZ_TBL_ID = 0
INSTRUMENT_TEMPERATURE = 10.8262
LENS_TEMPERATURE = 10.0106
MACROPIXEL_SIZE = 2
MISSING_FRAMES = 0
PIXEL_SUBSAMPLING_FLAG = N
SIGNAL_CHAIN_ID = 3
/* RADIOMETRIC DATA ELEMENTS */
BANDWIDTH = 177.0
CENTER_FILTER_WAVELENGTH = 676.5
RADIANCE_OFFSET = 2.96666
RADIANCE_SCALING_FACTOR = 0.0124649
REFLECTANCE_SCALING_FACTOR = 0.000381972
MEX:REFLECTANCE_OFFSET = 0.0909092
/* IMAGE OBJECT DEFINITIONS */
OBJECT = IMAGE
  INTERCHANGE_FORMAT = BINARY
  LINES = 24064
  LINE_SAMPLES = 12671
  SAMPLE_TYPE = UNSIGNED_INTEGER
  SAMPLE_BITS = 8
  BANDS = 1
  BAND_STORAGE_TYPE = BAND_SEQUENTIAL
  MAXIMUM = 255
  MEAN = 106.976
  MINIMUM = 1
  STANDARD_DEVIATION = 49.9322
END_OBJECT = IMAGE
/* MAP OBJECT DEFINITIONS */
OBJECT = IMAGE_MAP_PROJECTION
  ^DATA_SET_MAP_PROJECTION_CATALOG= "DSMAP.CAT"
  A_AXIS_RADIUS = 3396.0
  B_AXIS_RADIUS = 3396.0
  C_AXIS_RADIUS = 3396.0
  CENTER_LATITUDE = 0.0
  CENTER_LONGITUDE = 100.0
  COORDINATE_SYSTEM_NAME = PLANETOGRAPHIC
  COORDINATE_SYSTEM_TYPE = "BODY-FIXED ROTATING"
  EASTERNMOST_LONGITUDE = 111.192
  FIRST_STANDARD_PARALLEL = "N/A"
  LINE_FIRST_PIXEL = 1
  LINE_LAST_PIXEL = 24064
  LINE_PROJECTION_OFFSET = 206324.75
  MAP_PROJECTION_ROTATION = 0.0
  MAP_PROJECTION_TYPE = SINUSOIDAL
  MAP_RESOLUTION = 2370.85521546667
  MAP_SCALE = 0.025
  MAXIMUM_LATITUDE = 87.0227
  MINIMUM_LATITUDE = 76.87990000000001
  POSITIVE_LONGITUDE_DIRECTION = EAST
  REFERENCE_LATITUDE = "N/A"
  REFERENCE_LONGITUDE = "N/A"
  SAMPLE_FIRST_PIXEL = 1
  SAMPLE_LAST_PIXEL = 12671
  SAMPLE_PROJECTION_OFFSET = 6749.25
  SECOND_STANDARD_PARALLEL = "N/A"
  WESTERNMOST_LONGITUDE = 61.2834
END_OBJECT = IMAGE_MAP_PROJECTION
END
