PDS_VERSION_ID = PDS3
/* FILE DATA ELEMENTS */
RECORD_TYPE = UNDEFINED
/* POINTERS TO DATA OBJECTS */
^IMAGE = ("HQ491_0000_IR4.TIF")
/* IDENTIFICATION DATA ELEMENTS */
DATA_SET_ID = "MEX-M-HRSC-4-REFDR-MAPPROJECT-EXT9-V4.0"
DATA_SET_NAME = "MARS EXPRESS HRSC MAP PROJECTED REFDR EXTENSION9 V4.0"
DETECTOR_ID = MEX_HRSC_IR
EVENT_TYPE = "MARS-REGIONAL-VARIABLE-Gl-La-At"
INSTRUMENT_HOST_ID = MEX
INSTRUMENT_HOST_NAME = "MARS EXPRESS"
INSTRUMENT_ID = HRSC
INSTRUMENT_NAME = "HIGH RESOLUTION STEREO CAMERA"
MISSION_NAME = "MARS EXPRESS"
MISSION_PHASE_NAME = ME_Phase_50
PROCESSING_LEVEL_ID = 4
PRODUCT_CREATION_TIME = 2025-01-29T19:26:23.000Z
PRODUCT_ID = "HQ491_0000_IR4.TIF"
RELEASE_ID = 0022
REVISION_ID = 0000
/* QUALITY DATA ELEMENTS */
DATA_QUALITY_ID = 1
DATA_QUALITY_DESC = "Data calculated based on original SPICE kernels"
/* TIME DATA ELEMENTS */
SPACECRAFT_CLOCK_START_COUNT = "1/0683326518.65164"
SPACECRAFT_CLOCK_STOP_COUNT = "1/0683326832.05117"
START_TIME = 2024-12-26T20:56:17.461Z
STOP_TIME = 2024-12-26T21:00:09.818Z
/* ORBITAL DATA ELEMENTS */
ASCENDING_NODE_LONGITUDE = 84.04
MAXIMUM_RESOLUTION = 0.0704
FOOTPRINT_POINT_LATITUDE = (75.4794,75.3951,75.2988,75.2091, 75.2059,75.0948,74.3092,73.6778,73.2026 ,72.5676,71.7703,71.4506,71.1304, 70.8099,70.1681,69.8445,69.5215,69.1981 ,68.8743,68.5501,68.2256,67.8974, 67.5625,67.2274,66.8917,66.5554,66.2185 ,65.8808,65.3746,64.8648,64.5252, 64.0064,63.6565,63.3058,62.9544,62.6023 ,62.2495,61.8959,61.5354,61.1719, 60.8072,60.2586,59.8927,59.3312,58.9553 ,58.3873,58.1982,58.1955,58.2396, 58.2856,58.316,58.3546,58.3555,58.3572, 58.7375,59.1169,59.496,59.8738,60.2429, 60.6102,60.9763,61.3421,61.7072,62.0685 ,62.4231,62.7772,63.1307,63.4837, 63.8354,64.187,64.5369,64.8786,65.2197, 65.5603,65.9003,66.24,66.5792,66.9178, 67.2559,67.5936,67.9308,68.2656,68.5932 ,69.0839,69.573,69.899,70.2245,70.5497, 70.8745,71.1989,71.5228,71.8464,72.1698 ,72.815,73.459,74.1014,74.7425,75.2224, 75.3822,75.4794)
FOOTPRINT_POINT_LONGITUDE = (267.931,265.942,264.079,262.586, 262.537,262.462,263.137,263.626,263.968 ,264.392,264.878,265.06,265.235,265.404 ,265.724,265.874,266.02,266.161,266.298 ,266.429,266.557,266.68,266.802,266.92, 267.034,267.144,267.251,267.354,267.503 ,267.645,267.735,267.868,267.954, 268.037,268.118,268.196,268.272,268.345 ,268.417,268.488,268.556,268.655, 268.718,268.811,268.871,268.957,268.985 ,268.985,269.699,270.54,271.229,272.296 ,272.328,272.338,272.295,272.251, 272.206,272.161,272.115,272.068,272.02, 271.971,271.921,271.87,271.819,271.767, 271.713,271.658,271.602,271.544,271.484 ,271.425,271.363,271.301,271.236,271.17 ,271.101,271.031,270.959,270.884, 270.807,270.729,270.649,270.525,270.397 ,270.306,270.214,270.117,270.018, 269.915,269.809,269.699,269.584,269.343 ,269.082,268.801,268.494,268.247, 268.161,267.931)
ORBIT_NUMBER = 26491
ORBITAL_ECCENTRICITY = 0.566
ORBITAL_INCLINATION = 87.12
ORBITAL_SEMIMAJOR_AXIS = 8761.19
PERIAPSIS_ALTITUDE = 420.59
PERIAPSIS_ARGUMENT_ANGLE = 104.48
PERIAPSIS_TIME = 2024-12-26T20:56:46.000Z
SPACECRAFT_ORIENTATION = (0.0,-1.0,0.0)
^MEX_ORIENTATION_DESC = "MEX_ORIENTATION_DESC.TXT"
SPACECRAFT_POINTING_MODE = INERT
^MEX_POINTING_DESC = "MEX_POINTING_DESC.TXT"
RIGHT_ASCENSION = 132.211
DECLINATION = -38.656
OFFSET_ANGLE = -1e+32
SPACECRAFT_SOLAR_DISTANCE = 2.40491e+08
TARGET_NAME = MARS
/* CAMERA DATA ELEMENTS */
DETECTOR_TEMPERATURE = 16.7393
FOCAL_PLANE_TEMPERATURE = 8.3794
INST_CMPRS_NAME = "DISCRETE COSINE TRANSFORMATION (DCT)"
INST_CMPRS_RATIO = 14.6516
INST_CMPRS_QUALITY = 0
INST_CMPRS_QUANTZ_TBL_ID = 0
INSTRUMENT_TEMPERATURE = 10.4184
LENS_TEMPERATURE = 8.7872
MACROPIXEL_SIZE = 4
MISSING_FRAMES = 0
PIXEL_SUBSAMPLING_FLAG = N
SIGNAL_CHAIN_ID = 2
/* RADIOMETRIC DATA ELEMENTS */
BANDWIDTH = 81.0
CENTER_FILTER_WAVELENGTH = 955.5
RADIANCE_OFFSET = 1.08657
RADIANCE_SCALING_FACTOR = 0.00693063
REFLECTANCE_SCALING_FACTOR = 0.000864773
MEX:REFLECTANCE_OFFSET = 0.135577
/* IMAGE OBJECT DEFINITIONS */
OBJECT = IMAGE
  INTERCHANGE_FORMAT = BINARY
  LINES = 20383
  LINE_SAMPLES = 3960
  SAMPLE_TYPE = UNSIGNED_INTEGER
  SAMPLE_BITS = 8
  BANDS = 1
  BAND_STORAGE_TYPE = BAND_SEQUENTIAL
  MAXIMUM = 255
  MEAN = 94.5834
  MINIMUM = 1
  STANDARD_DEVIATION = 44.2782
END_OBJECT = IMAGE
/* MAP OBJECT DEFINITIONS */
OBJECT = IMAGE_MAP_PROJECTION
  ^DATA_SET_MAP_PROJECTION_CATALOG= "DSMAP.CAT"
  A_AXIS_RADIUS = 3396.0
  B_AXIS_RADIUS = 3396.0
  C_AXIS_RADIUS = 3396.0
  CENTER_LATITUDE = 0.0
  CENTER_LONGITUDE = 269.0
  COORDINATE_SYSTEM_NAME = PLANETOGRAPHIC
  COORDINATE_SYSTEM_TYPE = "BODY-FIXED ROTATING"
  EASTERNMOST_LONGITUDE = 272.338
  FIRST_STANDARD_PARALLEL = "N/A"
  LINE_FIRST_PIXEL = 1
  LINE_LAST_PIXEL = 20383
  LINE_PROJECTION_OFFSET = 89381.125
  MAP_PROJECTION_ROTATION = 0.0
  MAP_PROJECTION_TYPE = SINUSOIDAL
  MAP_RESOLUTION = 1185.42760773333
  MAP_SCALE = 0.05
  MAXIMUM_LATITUDE = 75.4794
  MINIMUM_LATITUDE = 58.1955
  POSITIVE_LONGITUDE_DIRECTION = EAST
  REFERENCE_LATITUDE = "N/A"
  REFERENCE_LONGITUDE = "N/A"
  SAMPLE_FIRST_PIXEL = 1
  SAMPLE_LAST_PIXEL = 3960
  SAMPLE_PROJECTION_OFFSET = 2022.375
  SECOND_STANDARD_PARALLEL = "N/A"
  WESTERNMOST_LONGITUDE = 262.462
END_OBJECT = IMAGE_MAP_PROJECTION
END
