PDS_VERSION_ID = PDS3
/* FILE DATA ELEMENTS */
RECORD_TYPE = UNDEFINED
/* POINTERS TO DATA OBJECTS */
^IMAGE = ("HQ491_0000_S24.TIF")
/* IDENTIFICATION DATA ELEMENTS */
DATA_SET_ID = "MEX-M-HRSC-4-REFDR-MAPPROJECT-EXT9-V4.0"
DATA_SET_NAME = "MARS EXPRESS HRSC MAP PROJECTED REFDR EXTENSION9 V4.0"
DETECTOR_ID = MEX_HRSC_S2
EVENT_TYPE = "MARS-REGIONAL-VARIABLE-Gl-La-At"
INSTRUMENT_HOST_ID = MEX
INSTRUMENT_HOST_NAME = "MARS EXPRESS"
INSTRUMENT_ID = HRSC
INSTRUMENT_NAME = "HIGH RESOLUTION STEREO CAMERA"
MISSION_NAME = "MARS EXPRESS"
MISSION_PHASE_NAME = ME_Phase_50
PROCESSING_LEVEL_ID = 4
PRODUCT_CREATION_TIME = 2025-01-29T19:26:23.000Z
PRODUCT_ID = "HQ491_0000_S24.TIF"
RELEASE_ID = 0022
REVISION_ID = 0000
/* QUALITY DATA ELEMENTS */
DATA_QUALITY_ID = 1
DATA_QUALITY_DESC = "Data calculated based on original SPICE kernels"
/* TIME DATA ELEMENTS */
SPACECRAFT_CLOCK_START_COUNT = "1/0683326518.65164"
SPACECRAFT_CLOCK_STOP_COUNT = "1/0683326832.05117"
START_TIME = 2024-12-26T20:57:20.042Z
STOP_TIME = 2024-12-26T21:01:22.869Z
/* ORBITAL DATA ELEMENTS */
ASCENDING_NODE_LONGITUDE = 84.04
MAXIMUM_RESOLUTION = 0.0355
FOOTPRINT_POINT_LATITUDE = (75.2951,75.1746,75.0268,75.0236, 75.1355,74.5058,73.876,73.246,72.6155, 72.1332,71.8097,71.4864,71.1626,70.8394 ,70.3543,69.8693,69.5463,69.2232,68.732 ,68.4007,68.0695,67.7386,67.4077, 67.0767,66.7459,66.4103,66.0714,65.7325 ,65.2242,64.8857,64.5429,64.1961, 63.8494,63.5027,63.156,62.8031,62.4484, 62.0937,61.739,61.197,60.8343,60.4715, 59.9179,59.5471,59.1762,58.7976,58.4186 ,58.2292,58.2087,58.295,58.3282,58.3588 ,58.3599,58.361,58.741,59.121,59.6829, 60.0547,60.6106,60.9745,61.3385,61.883, 62.2391,62.5952,62.9515,63.3065,63.6547 ,64.003,64.3516,64.7002,65.0452,65.3859 ,65.7267,66.0676,66.4087,66.9174, 67.2506,67.5839,67.9174,68.2511,68.585, 68.9193,69.2521,69.5782,69.9045,70.2311 ,70.5577,70.8845,71.2115,71.5388, 71.8663,72.1939,72.5218,72.8473,73.487, 74.1277,74.7687,75.2501,75.4106, 75.2951)
FOOTPRINT_POINT_LONGITUDE = (267.792,265.122,262.496,262.445,262.15 ,262.712,263.225,263.695,264.128, 264.437,264.633,264.821,265.003,265.177 ,265.427,265.662,265.811,265.956, 266.165,266.301,266.431,266.556,266.677 ,266.794,266.907,267.017,267.125, 267.229,267.379,267.474,267.568,267.659 ,267.748,267.833,267.916,267.997, 268.076,268.152,268.226,268.335,268.404 ,268.471,268.569,268.632,268.693, 268.754,268.812,268.84,268.843,270.392, 271.097,271.833,271.862,271.873,271.835 ,271.796,271.736,271.694,271.631, 271.588,271.543,271.475,271.428,271.38, 271.331,271.28,271.229,271.176,271.122, 271.066,271.009,270.95,270.89,270.828, 270.764,270.665,270.598,270.528,270.456 ,270.381,270.304,270.225,270.143, 270.059,269.973,269.884,269.791,269.695 ,269.595,269.492,269.385,269.273, 269.157,269.037,268.786,268.514,268.217 ,267.977,267.893,267.792)
ORBIT_NUMBER = 26491
ORBITAL_ECCENTRICITY = 0.566
ORBITAL_INCLINATION = 87.12
ORBITAL_SEMIMAJOR_AXIS = 8761.19
PERIAPSIS_ALTITUDE = 420.59
PERIAPSIS_ARGUMENT_ANGLE = 104.48
PERIAPSIS_TIME = 2024-12-26T20:56:46.000Z
SPACECRAFT_ORIENTATION = (0.0,-1.0,0.0)
^MEX_ORIENTATION_DESC = "MEX_ORIENTATION_DESC.TXT"
SPACECRAFT_POINTING_MODE = INERT
^MEX_POINTING_DESC = "MEX_POINTING_DESC.TXT"
RIGHT_ASCENSION = 132.211
DECLINATION = -38.656
OFFSET_ANGLE = -1e+32
SPACECRAFT_SOLAR_DISTANCE = 2.40491e+08
TARGET_NAME = MARS
/* CAMERA DATA ELEMENTS */
DETECTOR_TEMPERATURE = 18.3705
FOCAL_PLANE_TEMPERATURE = 8.3794
INST_CMPRS_NAME = "DISCRETE COSINE TRANSFORMATION (DCT)"
INST_CMPRS_RATIO = 11.9116
INST_CMPRS_QUALITY = 0
INST_CMPRS_QUANTZ_TBL_ID = 0
INSTRUMENT_TEMPERATURE = 10.4184
LENS_TEMPERATURE = 8.7872
MACROPIXEL_SIZE = 2
MISSING_FRAMES = 0
PIXEL_SUBSAMPLING_FLAG = N
SIGNAL_CHAIN_ID = 1
/* RADIOMETRIC DATA ELEMENTS */
BANDWIDTH = 178.0
CENTER_FILTER_WAVELENGTH = 679.0
RADIANCE_OFFSET = 4.45129
RADIANCE_SCALING_FACTOR = 0.0263698
REFLECTANCE_SCALING_FACTOR = 0.000807674
MEX:REFLECTANCE_OFFSET = 0.136338
/* IMAGE OBJECT DEFINITIONS */
OBJECT = IMAGE
  INTERCHANGE_FORMAT = BINARY
  LINES = 40766
  LINE_SAMPLES = 7920
  SAMPLE_TYPE = UNSIGNED_INTEGER
  SAMPLE_BITS = 8
  BANDS = 1
  BAND_STORAGE_TYPE = BAND_SEQUENTIAL
  MAXIMUM = 255
  MEAN = 93.4312
  MINIMUM = 1
  STANDARD_DEVIATION = 44.7456
END_OBJECT = IMAGE
/* MAP OBJECT DEFINITIONS */
OBJECT = IMAGE_MAP_PROJECTION
  ^DATA_SET_MAP_PROJECTION_CATALOG= "DSMAP.CAT"
  A_AXIS_RADIUS = 3396.0
  B_AXIS_RADIUS = 3396.0
  C_AXIS_RADIUS = 3396.0
  CENTER_LATITUDE = 0.0
  CENTER_LONGITUDE = 269.0
  COORDINATE_SYSTEM_NAME = PLANETOGRAPHIC
  COORDINATE_SYSTEM_TYPE = "BODY-FIXED ROTATING"
  EASTERNMOST_LONGITUDE = 271.873
  FIRST_STANDARD_PARALLEL = "N/A"
  LINE_FIRST_PIXEL = 1
  LINE_LAST_PIXEL = 40766
  LINE_PROJECTION_OFFSET = 178762.75
  MAP_PROJECTION_ROTATION = 0.0
  MAP_PROJECTION_TYPE = SINUSOIDAL
  MAP_RESOLUTION = 2370.85521546667
  MAP_SCALE = 0.025
  MAXIMUM_LATITUDE = 75.4106
  MINIMUM_LATITUDE = 58.2087
  POSITIVE_LONGITUDE_DIRECTION = EAST
  REFERENCE_LATITUDE = "N/A"
  REFERENCE_LONGITUDE = "N/A"
  SAMPLE_FIRST_PIXEL = 1
  SAMPLE_LAST_PIXEL = 7920
  SAMPLE_PROJECTION_OFFSET = 4045.25
  SECOND_STANDARD_PARALLEL = "N/A"
  WESTERNMOST_LONGITUDE = 262.15
END_OBJECT = IMAGE_MAP_PROJECTION
END
