PDS_VERSION_ID = PDS3
/* FILE DATA ELEMENTS */
RECORD_TYPE = UNDEFINED
/* POINTERS TO DATA OBJECTS */
^IMAGE = ("HQ493_0000_GR4.TIF")
/* IDENTIFICATION DATA ELEMENTS */
DATA_SET_ID = "MEX-M-HRSC-4-REFDR-MAPPROJECT-EXT9-V4.0"
DATA_SET_NAME = "MARS EXPRESS HRSC MAP PROJECTED REFDR EXTENSION9 V4.0"
DETECTOR_ID = MEX_HRSC_GREEN
EVENT_TYPE = "MARS-REGIONAL-VARIABLE-Gl-La-At"
INSTRUMENT_HOST_ID = MEX
INSTRUMENT_HOST_NAME = "MARS EXPRESS"
INSTRUMENT_ID = HRSC
INSTRUMENT_NAME = "HIGH RESOLUTION STEREO CAMERA"
MISSION_NAME = "MARS EXPRESS"
MISSION_PHASE_NAME = ME_Phase_50
PROCESSING_LEVEL_ID = 4
PRODUCT_CREATION_TIME = 2025-01-29T19:26:23.000Z
PRODUCT_ID = "HQ493_0000_GR4.TIF"
RELEASE_ID = 0022
REVISION_ID = 0000
/* QUALITY DATA ELEMENTS */
DATA_QUALITY_ID = 1
DATA_QUALITY_DESC = "Data calculated based on original SPICE kernels"
/* TIME DATA ELEMENTS */
SPACECRAFT_CLOCK_START_COUNT = "1/0683377043.64184"
SPACECRAFT_CLOCK_STOP_COUNT = "1/0683377317.07556"
START_TIME = 2024-12-27T10:58:51.994Z
STOP_TIME = 2024-12-27T11:01:48.649Z
/* ORBITAL DATA ELEMENTS */
ASCENDING_NODE_LONGITUDE = 84.0
MAXIMUM_RESOLUTION = 0.0785
FOOTPRINT_POINT_LATITUDE = (58.5922,58.5598,58.5146,58.4846, 58.4406,58.4388,58.3303,57.9881,57.6455 ,57.1846,56.7162,56.1285,55.649,55.1548 ,54.9133,54.6663,54.4192,54.1711, 53.9235,53.6725,53.4189,53.1648,52.9103 ,52.6535,52.3934,52.1324,51.8711, 51.6062,51.3395,51.0715,50.8029,50.5291 ,50.2551,49.9811,49.7018,49.4207, 49.1394,48.8537,48.566,48.278,47.985, 47.6908,47.3945,47.0927,46.7908,46.4855 ,46.1769,45.7101,45.2369,45.077,44.9954 ,45.047,45.0768,45.0997,45.1259,45.1475 ,45.1483,45.1505,45.4692,45.7846, 46.0988,46.4076,46.7161,47.0195,47.3217 ,47.6218,47.9171,48.2119,48.5034, 48.7919,49.0784,49.5029,49.9242,50.3394 ,50.7505,51.1573,51.425,51.6921,51.958, 52.2195,52.4806,52.741,52.9994,53.3812, 53.6359,53.8898,54.1397,54.3878,54.6356 ,54.8831,55.129,55.3708,55.745,56.2267, 56.6978,57.1672,57.7477,58.3203,58.434, 58.5922)
FOOTPRINT_POINT_LONGITUDE = (67.7961,66.9453,65.9801,65.4261, 64.6974,64.6682,64.6193,64.6684,64.7161 ,64.7778,64.8381,64.9098,64.9661,65.021 ,65.047,65.073,65.0985,65.1232,65.1477, 65.1718,65.1956,65.2189,65.2416,65.264, 65.2862,65.3078,65.3288,65.3497,65.3704 ,65.3903,65.4098,65.4292,65.4482, 65.4668,65.4851,65.5029,65.5203,65.5374 ,65.5542,65.5706,65.5866,65.6024, 65.6176,65.6325,65.6471,65.6613,65.6752 ,65.6954,65.7149,65.721,65.7242,66.5202 ,67.0523,67.4959,68.1487,68.8622,68.892 ,68.9018,68.8833,68.8649,68.8461, 68.8276,68.8089,68.7904,68.7716,68.7529 ,68.7342,68.7153,68.6966,68.6777, 68.6593,68.6311,68.6026,68.5739,68.5452 ,68.5162,68.4968,68.4774,68.4579, 68.4382,68.4183,68.3984,68.3782,68.3481 ,68.3274,68.3068,68.2861,68.2654, 68.2444,68.2232,68.2017,68.1804,68.1467 ,68.1026,68.0581,68.0128,67.9545, 67.8946,67.8828,67.7961)
ORBIT_NUMBER = 26493
ORBITAL_ECCENTRICITY = 0.567
ORBITAL_INCLINATION = 87.13
ORBITAL_SEMIMAJOR_AXIS = 8762.62
PERIAPSIS_ALTITUDE = 420.15
PERIAPSIS_ARGUMENT_ANGLE = 104.14
PERIAPSIS_TIME = 2024-12-27T10:54:57.000Z
SPACECRAFT_ORIENTATION = (0.0,-1.0,0.0)
^MEX_ORIENTATION_DESC = "MEX_ORIENTATION_DESC.TXT"
SPACECRAFT_POINTING_MODE = INERT
^MEX_POINTING_DESC = "MEX_POINTING_DESC.TXT"
RIGHT_ASCENSION = 132.229
DECLINATION = -39.011
OFFSET_ANGLE = -1e+32
SPACECRAFT_SOLAR_DISTANCE = 2.40578e+08
TARGET_NAME = MARS
/* CAMERA DATA ELEMENTS */
DETECTOR_TEMPERATURE = 18.9822
FOCAL_PLANE_TEMPERATURE = 8.3794
INST_CMPRS_NAME = "DISCRETE COSINE TRANSFORMATION (DCT)"
INST_CMPRS_RATIO = 16.6839
INST_CMPRS_QUALITY = 0
INST_CMPRS_QUANTZ_TBL_ID = 0
INSTRUMENT_TEMPERATURE = 10.6223
LENS_TEMPERATURE = 8.5833
MACROPIXEL_SIZE = 4
MISSING_FRAMES = 1
PIXEL_SUBSAMPLING_FLAG = N
SIGNAL_CHAIN_ID = 2
/* RADIOMETRIC DATA ELEMENTS */
BANDWIDTH = 88.0
CENTER_FILTER_WAVELENGTH = 538.0
RADIANCE_OFFSET = 1.23868
RADIANCE_SCALING_FACTOR = 0.00480696
REFLECTANCE_SCALING_FACTOR = 0.000239537
MEX:REFLECTANCE_OFFSET = 0.0617249
/* IMAGE OBJECT DEFINITIONS */
OBJECT = IMAGE
  INTERCHANGE_FORMAT = BINARY
  LINES = 8030
  LINE_SAMPLES = 1521
  SAMPLE_TYPE = UNSIGNED_INTEGER
  SAMPLE_BITS = 8
  BANDS = 1
  BAND_STORAGE_TYPE = BAND_SEQUENTIAL
  MAXIMUM = 255
  MEAN = 146.683
  MINIMUM = 1
  STANDARD_DEVIATION = 69.9378
END_OBJECT = IMAGE
/* MAP OBJECT DEFINITIONS */
OBJECT = IMAGE_MAP_PROJECTION
  ^DATA_SET_MAP_PROJECTION_CATALOG= "DSMAP.CAT"
  A_AXIS_RADIUS = 3396.0
  B_AXIS_RADIUS = 3396.0
  C_AXIS_RADIUS = 3396.0
  CENTER_LATITUDE = 0.0
  CENTER_LONGITUDE = 67.0
  COORDINATE_SYSTEM_NAME = PLANETOGRAPHIC
  COORDINATE_SYSTEM_TYPE = "BODY-FIXED ROTATING"
  EASTERNMOST_LONGITUDE = 68.90179999999999
  FIRST_STANDARD_PARALLEL = "N/A"
  LINE_FIRST_PIXEL = 1
  LINE_LAST_PIXEL = 8030
  LINE_PROJECTION_OFFSET = 34694.375
  MAP_PROJECTION_ROTATION = 0.0
  MAP_PROJECTION_TYPE = SINUSOIDAL
  MAP_RESOLUTION = 592.713803866667
  MAP_SCALE = 0.1
  MAXIMUM_LATITUDE = 58.5922
  MINIMUM_LATITUDE = 44.9954
  POSITIVE_LONGITUDE_DIRECTION = EAST
  REFERENCE_LATITUDE = "N/A"
  REFERENCE_LONGITUDE = "N/A"
  SAMPLE_FIRST_PIXEL = 1
  SAMPLE_LAST_PIXEL = 1521
  SAMPLE_PROJECTION_OFFSET = 748.375
  SECOND_STANDARD_PARALLEL = "N/A"
  WESTERNMOST_LONGITUDE = 64.6193
END_OBJECT = IMAGE_MAP_PROJECTION
END
