PDS_VERSION_ID = PDS3
/* FILE DATA ELEMENTS */
RECORD_TYPE = UNDEFINED
/* POINTERS TO DATA OBJECTS */
^IMAGE = ("HQ493_0000_ND4.TIF")
/* IDENTIFICATION DATA ELEMENTS */
DATA_SET_ID = "MEX-M-HRSC-4-REFDR-MAPPROJECT-EXT9-V4.0"
DATA_SET_NAME = "MARS EXPRESS HRSC MAP PROJECTED REFDR EXTENSION9 V4.0"
DETECTOR_ID = MEX_HRSC_NADIR
EVENT_TYPE = "MARS-REGIONAL-VARIABLE-Gl-La-At"
INSTRUMENT_HOST_ID = MEX
INSTRUMENT_HOST_NAME = "MARS EXPRESS"
INSTRUMENT_ID = HRSC
INSTRUMENT_NAME = "HIGH RESOLUTION STEREO CAMERA"
MISSION_NAME = "MARS EXPRESS"
MISSION_PHASE_NAME = ME_Phase_50
PROCESSING_LEVEL_ID = 4
PRODUCT_CREATION_TIME = 2025-01-29T19:26:23.000Z
PRODUCT_ID = "HQ493_0000_ND4.TIF"
RELEASE_ID = 0022
REVISION_ID = 0000
/* QUALITY DATA ELEMENTS */
DATA_QUALITY_ID = 1
DATA_QUALITY_DESC = "Data calculated based on original SPICE kernels"
/* TIME DATA ELEMENTS */
SPACECRAFT_CLOCK_START_COUNT = "1/0683377043.64184"
SPACECRAFT_CLOCK_STOP_COUNT = "1/0683377317.07556"
START_TIME = 2024-12-27T10:58:59.008Z
STOP_TIME = 2024-12-27T11:01:58.004Z
/* ORBITAL DATA ELEMENTS */
ASCENDING_NODE_LONGITUDE = 84.0
MAXIMUM_RESOLUTION = 0.0194
FOOTPRINT_POINT_LATITUDE = (58.571,58.5305,58.5088,58.4787,58.4188 ,58.4168,58.3267,57.8721,57.407,56.8248 ,56.3509,55.9922,55.6337,55.2699, 55.0249,54.7793,54.5337,54.16,53.9088, 53.6569,53.4051,53.1491,52.8912,52.633, 52.3748,52.1108,51.8463,51.582,51.315, 51.044,50.6374,50.224,49.9469,49.6686, 49.385,49.1012,48.8156,48.3804,47.9416, 47.6453,47.3476,47.0443,46.7407,46.434, 46.1239,45.654,45.1788,45.017,45.0102, 45.0464,45.0948,45.1127,45.1289,45.1491 ,45.1636,45.1643,45.1652,45.4855,45.802 ,46.2722,46.5819,46.8887,47.1924, 47.4955,47.7926,48.0895,48.3834,48.6743 ,48.9632,49.2487,49.5324,49.9553, 50.2328,50.5101,50.785,51.0563,51.327, 51.5972,51.994,52.2585,52.6523,52.9105, 53.2972,53.6804,53.9325,54.1846,54.4362 ,54.6842,54.9302,55.2989,55.5445, 55.7859,56.2652,56.6243,57.095,57.5621, 58.0288,58.3704,58.484,58.571)
FOOTPRINT_POINT_LONGITUDE = (67.7562,66.7381,66.2763,65.693,64.6809 ,64.6503,64.5904,64.6555,64.7192, 64.7959,64.8544,64.8974,64.9393,64.9799 ,65.0068,65.0329,65.0586,65.0962,65.121 ,65.1452,65.1689,65.1923,65.2153, 65.2378,65.2598,65.2817,65.303,65.3239, 65.3445,65.3646,65.394,65.4227,65.4413, 65.4595,65.4774,65.4949,65.5119,65.537, 65.5612,65.577,65.5921,65.607,65.6216, 65.6358,65.6496,65.6697,65.6891,65.6954 ,65.6956,66.251,67.0846,67.4245,67.7961 ,68.3228,68.7886,68.8197,68.835,68.8171 ,68.7992,68.772,68.7541,68.736,68.7178, 68.6995,68.6815,68.6632,68.6449,68.6263 ,68.6085,68.5901,68.5717,68.5438, 68.5252,68.5064,68.4876,68.4687,68.4497 ,68.4304,68.4019,68.3824,68.3528, 68.3333,68.3037,68.2732,68.253,68.2325, 68.2118,68.1911,68.1703,68.1385,68.117, 68.0955,68.0521,68.0188,67.9742,67.9284 ,67.8806,67.8452,67.8335,67.7562)
ORBIT_NUMBER = 26493
ORBITAL_ECCENTRICITY = 0.567
ORBITAL_INCLINATION = 87.13
ORBITAL_SEMIMAJOR_AXIS = 8762.62
PERIAPSIS_ALTITUDE = 420.15
PERIAPSIS_ARGUMENT_ANGLE = 104.14
PERIAPSIS_TIME = 2024-12-27T10:54:57.000Z
SPACECRAFT_ORIENTATION = (0.0,-1.0,0.0)
^MEX_ORIENTATION_DESC = "MEX_ORIENTATION_DESC.TXT"
SPACECRAFT_POINTING_MODE = INERT
^MEX_POINTING_DESC = "MEX_POINTING_DESC.TXT"
RIGHT_ASCENSION = 132.229
DECLINATION = -39.011
OFFSET_ANGLE = -1e+32
SPACECRAFT_SOLAR_DISTANCE = 2.40578e+08
TARGET_NAME = MARS
/* CAMERA DATA ELEMENTS */
DETECTOR_TEMPERATURE = 18.9822
FOCAL_PLANE_TEMPERATURE = 8.3794
INST_CMPRS_NAME = "DISCRETE COSINE TRANSFORMATION (DCT)"
INST_CMPRS_RATIO = 6.54654
INST_CMPRS_QUALITY = 0
INST_CMPRS_QUANTZ_TBL_ID = 0
INSTRUMENT_TEMPERATURE = 10.6223
LENS_TEMPERATURE = 8.5833
MACROPIXEL_SIZE = 1
MISSING_FRAMES = 0
PIXEL_SUBSAMPLING_FLAG = N
SIGNAL_CHAIN_ID = 0
/* RADIOMETRIC DATA ELEMENTS */
BANDWIDTH = 177.0
CENTER_FILTER_WAVELENGTH = 677.5
RADIANCE_OFFSET = 2.73515
RADIANCE_SCALING_FACTOR = 0.0206009
REFLECTANCE_SCALING_FACTOR = 0.000633409
MEX:REFLECTANCE_OFFSET = 0.0840968
/* IMAGE OBJECT DEFINITIONS */
OBJECT = IMAGE
  INTERCHANGE_FORMAT = BINARY
  LINES = 32117
  LINE_SAMPLES = 6081
  SAMPLE_TYPE = UNSIGNED_INTEGER
  SAMPLE_BITS = 8
  BANDS = 1
  BAND_STORAGE_TYPE = BAND_SEQUENTIAL
  MAXIMUM = 255
  MEAN = 134.401
  MINIMUM = 1
  STANDARD_DEVIATION = 74.3363
END_OBJECT = IMAGE
/* MAP OBJECT DEFINITIONS */
OBJECT = IMAGE_MAP_PROJECTION
  ^DATA_SET_MAP_PROJECTION_CATALOG= "DSMAP.CAT"
  A_AXIS_RADIUS = 3396.0
  B_AXIS_RADIUS = 3396.0
  C_AXIS_RADIUS = 3396.0
  CENTER_LATITUDE = 0.0
  CENTER_LONGITUDE = 67.0
  COORDINATE_SYSTEM_NAME = PLANETOGRAPHIC
  COORDINATE_SYSTEM_TYPE = "BODY-FIXED ROTATING"
  EASTERNMOST_LONGITUDE = 68.83499999999999
  FIRST_STANDARD_PARALLEL = "N/A"
  LINE_FIRST_PIXEL = 1
  LINE_LAST_PIXEL = 32117
  LINE_PROJECTION_OFFSET = 138779.0
  MAP_PROJECTION_ROTATION = 0.0
  MAP_PROJECTION_TYPE = SINUSOIDAL
  MAP_RESOLUTION = 2370.85521546667
  MAP_SCALE = 0.025
  MAXIMUM_LATITUDE = 58.571
  MINIMUM_LATITUDE = 45.0102
  POSITIVE_LONGITUDE_DIRECTION = EAST
  REFERENCE_LATITUDE = "N/A"
  REFERENCE_LONGITUDE = "N/A"
  SAMPLE_FIRST_PIXEL = 1
  SAMPLE_LAST_PIXEL = 6081
  SAMPLE_PROJECTION_OFFSET = 2995.0
  SECOND_STANDARD_PARALLEL = "N/A"
  WESTERNMOST_LONGITUDE = 64.5904
END_OBJECT = IMAGE_MAP_PROJECTION
END
