PDS_VERSION_ID = PDS3
/* FILE DATA ELEMENTS */
RECORD_TYPE = UNDEFINED
/* POINTERS TO DATA OBJECTS */
^IMAGE = ("HQ499_0000_GR4.TIF")
/* IDENTIFICATION DATA ELEMENTS */
DATA_SET_ID = "MEX-M-HRSC-4-REFDR-MAPPROJECT-EXT9-V4.0"
DATA_SET_NAME = "MARS EXPRESS HRSC MAP PROJECTED REFDR EXTENSION9 V4.0"
DETECTOR_ID = MEX_HRSC_GREEN
EVENT_TYPE = "MARS-LOCAL-VARIABLE-Im-Gl-Eo"
INSTRUMENT_HOST_ID = MEX
INSTRUMENT_HOST_NAME = "MARS EXPRESS"
INSTRUMENT_ID = HRSC
INSTRUMENT_NAME = "HIGH RESOLUTION STEREO CAMERA"
MISSION_NAME = "MARS EXPRESS"
MISSION_PHASE_NAME = ME_Phase_50
PROCESSING_LEVEL_ID = 4
PRODUCT_CREATION_TIME = 2025-01-29T19:26:23.000Z
PRODUCT_ID = "HQ499_0000_GR4.TIF"
RELEASE_ID = 0022
REVISION_ID = 0000
/* QUALITY DATA ELEMENTS */
DATA_QUALITY_ID = 1
DATA_QUALITY_DESC = "Data calculated based on original SPICE kernels"
/* TIME DATA ELEMENTS */
SPACECRAFT_CLOCK_START_COUNT = "1/0683527837.00348"
SPACECRAFT_CLOCK_STOP_COUNT = "1/0683528187.28831"
START_TIME = 2024-12-29T04:52:01.203Z
STOP_TIME = 2024-12-29T04:56:19.140Z
/* ORBITAL DATA ELEMENTS */
ASCENDING_NODE_LONGITUDE = 83.9
MAXIMUM_RESOLUTION = 0.0722
FOOTPRINT_POINT_LATITUDE = (66.0246,65.9678,65.9019,65.801,65.7983 ,65.7046,64.9046,64.2578,63.6096, 62.7825,62.1148,61.7808,61.4403,61.0972 ,60.7534,60.4093,60.0633,59.7104, 59.3569,59.0028,58.4646,58.1012,57.7376 ,57.3711,56.9976,56.6236,56.2494, 55.8673,55.4733,55.1011,54.7025,54.3079 ,53.9087,53.2625,52.6451,52.231,51.8071 ,51.3817,50.9501,50.5131,49.8468, 49.3968,48.9395,48.4762,48.0068,47.5301 ,46.8019,46.5559,46.5369,46.6169, 46.6541,46.6975,46.7621,46.7636,46.7659 ,47.4975,47.9768,48.4472,48.9139, 49.3717,49.8258,50.2719,50.7145,51.1502 ,51.5813,52.0065,52.4293,52.8442, 53.4621,53.9045,54.308,54.7029,55.0973, 55.4875,55.8722,56.2561,56.6359,57.0106 ,57.3847,57.7559,58.121,58.4853,59.0285 ,59.3833,59.7379,60.0923,60.4436, 60.7889,61.134,61.4781,61.8221,62.1591, 62.4944,63.1642,63.8275,64.4787,65.1289 ,65.7753,65.9333,66.0246)
FOOTPRINT_POINT_LONGITUDE = (172.368,171.284,170.194,168.752, 168.718,168.577,168.836,169.031,169.214 ,169.43,169.592,169.67,169.745,169.819, 169.891,169.961,170.028,170.095,170.159 ,170.221,170.311,170.37,170.426,170.481 ,170.534,170.586,170.637,170.687, 170.728,170.782,170.824,170.867,170.909 ,170.972,171.029,171.066,171.1,171.135, 171.167,171.198,171.242,171.27,171.298, 171.323,171.347,171.37,171.402,171.412, 171.413,172.334,172.822,173.458,174.631 ,174.661,174.671,174.629,174.6,174.571, 174.542,174.512,174.482,174.451,174.42, 174.389,174.356,174.324,174.29,174.257, 174.205,174.166,174.13,174.094,174.056, 174.018,173.979,173.94,173.9,173.859, 173.817,173.774,173.731,173.686,173.618 ,173.571,173.524,173.475,173.425, 173.374,173.322,173.269,173.214,173.159 ,173.103,172.985,172.861,172.732, 172.596,172.452,172.416,172.368)
ORBIT_NUMBER = 26499
ORBITAL_ECCENTRICITY = 0.566
ORBITAL_INCLINATION = 87.13
ORBITAL_SEMIMAJOR_AXIS = 8760.26
PERIAPSIS_ALTITUDE = 421.71
PERIAPSIS_ARGUMENT_ANGLE = 103.13
PERIAPSIS_TIME = 2024-12-29T04:49:36.000Z
SPACECRAFT_ORIENTATION = (0.0,-1.0,0.0)
^MEX_ORIENTATION_DESC = "MEX_ORIENTATION_DESC.TXT"
SPACECRAFT_POINTING_MODE = INERT
^MEX_POINTING_DESC = "MEX_POINTING_DESC.TXT"
RIGHT_ASCENSION = 138.139
DECLINATION = -39.738
OFFSET_ANGLE = -1e+32
SPACECRAFT_SOLAR_DISTANCE = 2.40836e+08
TARGET_NAME = MARS
/* CAMERA DATA ELEMENTS */
DETECTOR_TEMPERATURE = 17.9627
FOCAL_PLANE_TEMPERATURE = 8.3794
INST_CMPRS_NAME = "DISCRETE COSINE TRANSFORMATION (DCT)"
INST_CMPRS_RATIO = 18.6289
INST_CMPRS_QUALITY = 0
INST_CMPRS_QUANTZ_TBL_ID = 0
INSTRUMENT_TEMPERATURE = 11.0301
LENS_TEMPERATURE = 8.1755
MACROPIXEL_SIZE = 4
PIXEL_SUBSAMPLING_FLAG = N
SIGNAL_CHAIN_ID = 2
/* RADIOMETRIC DATA ELEMENTS */
BANDWIDTH = 88.0
CENTER_FILTER_WAVELENGTH = 538.0
RADIANCE_OFFSET = 1.39515
RADIANCE_SCALING_FACTOR = 0.00839416
REFLECTANCE_SCALING_FACTOR = 0.000419189
MEX:REFLECTANCE_OFFSET = 0.0696715
/* IMAGE OBJECT DEFINITIONS */
OBJECT = IMAGE
  INTERCHANGE_FORMAT = BINARY
  LINES = 23031
  LINE_SAMPLES = 3795
  SAMPLE_TYPE = UNSIGNED_INTEGER
  SAMPLE_BITS = 8
  BANDS = 1
  BAND_STORAGE_TYPE = BAND_SEQUENTIAL
  MAXIMUM = 255
  MEAN = 67.4216
  MINIMUM = 1
  STANDARD_DEVIATION = 48.9572
END_OBJECT = IMAGE
/* MAP OBJECT DEFINITIONS */
OBJECT = IMAGE_MAP_PROJECTION
  ^DATA_SET_MAP_PROJECTION_CATALOG= "DSMAP.CAT"
  A_AXIS_RADIUS = 3396.0
  B_AXIS_RADIUS = 3396.0
  C_AXIS_RADIUS = 3396.0
  CENTER_LATITUDE = 0.0
  CENTER_LONGITUDE = 172.0
  COORDINATE_SYSTEM_NAME = PLANETOGRAPHIC
  COORDINATE_SYSTEM_TYPE = "BODY-FIXED ROTATING"
  EASTERNMOST_LONGITUDE = 174.671
  FIRST_STANDARD_PARALLEL = "N/A"
  LINE_FIRST_PIXEL = 1
  LINE_LAST_PIXEL = 23031
  LINE_PROJECTION_OFFSET = 78212.625
  MAP_PROJECTION_ROTATION = 0.0
  MAP_PROJECTION_TYPE = SINUSOIDAL
  MAP_RESOLUTION = 1185.42760773333
  MAP_SCALE = 0.05
  MAXIMUM_LATITUDE = 66.02460000000001
  MINIMUM_LATITUDE = 46.5369
  POSITIVE_LONGITUDE_DIRECTION = EAST
  REFERENCE_LATITUDE = "N/A"
  REFERENCE_LONGITUDE = "N/A"
  SAMPLE_FIRST_PIXEL = 1
  SAMPLE_LAST_PIXEL = 3795
  SAMPLE_PROJECTION_OFFSET = 1663.625
  SECOND_STANDARD_PARALLEL = "N/A"
  WESTERNMOST_LONGITUDE = 168.577
END_OBJECT = IMAGE_MAP_PROJECTION
END
