PDS_VERSION_ID = PDS3
/* FILE DATA ELEMENTS */
RECORD_TYPE = UNDEFINED
/* POINTERS TO DATA OBJECTS */
^IMAGE = ("HQ499_0000_IR4.TIF")
/* IDENTIFICATION DATA ELEMENTS */
DATA_SET_ID = "MEX-M-HRSC-4-REFDR-MAPPROJECT-EXT9-V4.0"
DATA_SET_NAME = "MARS EXPRESS HRSC MAP PROJECTED REFDR EXTENSION9 V4.0"
DETECTOR_ID = MEX_HRSC_IR
EVENT_TYPE = "MARS-LOCAL-VARIABLE-Im-Gl-Eo"
INSTRUMENT_HOST_ID = MEX
INSTRUMENT_HOST_NAME = "MARS EXPRESS"
INSTRUMENT_ID = HRSC
INSTRUMENT_NAME = "HIGH RESOLUTION STEREO CAMERA"
MISSION_NAME = "MARS EXPRESS"
MISSION_PHASE_NAME = ME_Phase_50
PROCESSING_LEVEL_ID = 4
PRODUCT_CREATION_TIME = 2025-01-29T19:26:23.000Z
PRODUCT_ID = "HQ499_0000_IR4.TIF"
RELEASE_ID = 0022
REVISION_ID = 0000
/* QUALITY DATA ELEMENTS */
DATA_QUALITY_ID = 1
DATA_QUALITY_DESC = "Data calculated based on original SPICE kernels"
/* TIME DATA ELEMENTS */
SPACECRAFT_CLOCK_START_COUNT = "1/0683527837.00348"
SPACECRAFT_CLOCK_STOP_COUNT = "1/0683528187.28831"
START_TIME = 2024-12-29T04:51:36.353Z
STOP_TIME = 2024-12-29T04:55:39.887Z
/* ORBITAL DATA ELEMENTS */
ASCENDING_NODE_LONGITUDE = 83.9
MAXIMUM_RESOLUTION = 0.0768
FOOTPRINT_POINT_LATITUDE = (66.0948,66.0275,65.9496,65.8307, 65.8277,65.6513,65.0181,64.5413,63.904, 63.2569,62.4223,61.7603,61.4274,61.0872 ,60.7452,60.4025,60.0589,59.7148, 59.3651,59.0107,58.4771,58.1209,57.5756 ,57.2084,56.84,56.2824,55.907,55.5084, 55.1424,54.7497,54.3567,53.9619,53.5594 ,53.1527,52.7447,52.3309,51.9109, 51.4899,51.0605,50.5838,49.9209,49.4718 ,49.0178,48.5548,48.0871,47.6113, 46.8833,46.6377,46.4533,46.5602,46.6535 ,46.704,46.7733,46.7754,46.778,47.2663, 47.75,48.2223,48.6904,49.1505,49.6075, 50.053,50.7181,51.4069,51.8342,52.2541, 52.6707,53.0828,53.4884,53.8928,54.2909 ,54.684,55.076,55.4639,55.845,56.2246, 56.6036,56.9762,57.344,57.895,58.2603, 58.6173,58.9724,59.327,59.6813,60.0309, 60.3753,60.7183,61.0616,61.4032,61.7428 ,62.0757,62.7385,63.0797,63.7392, 64.3823,65.0212,65.6582,65.8168, 66.0948)
FOOTPRINT_POINT_LONGITUDE = (172.454,171.347,170.233,168.762, 168.727,168.614,168.818,168.962,169.145 ,169.319,169.527,169.68,169.752,169.825 ,169.895,169.963,170.029,170.092, 170.155,170.216,170.304,170.36,170.443, 170.495,170.547,170.621,170.67,170.71, 170.76,170.803,170.845,170.885,170.924, 170.962,170.998,171.034,171.068,171.101 ,171.133,171.165,171.208,171.235, 171.261,171.285,171.308,171.33,171.36, 171.37,171.376,172.295,173.237,173.817, 174.809,174.841,174.852,174.821,174.79, 174.759,174.727,174.695,174.663,174.631 ,174.581,174.527,174.493,174.458, 174.423,174.387,174.351,174.314,174.276 ,174.239,174.2,174.161,174.121,174.081, 174.039,173.997,173.955,173.889,173.844 ,173.799,173.753,173.705,173.657, 173.607,173.558,173.507,173.454,173.401 ,173.346,173.291,173.177,173.115, 172.991,172.864,172.729,172.587,172.551 ,172.454)
ORBIT_NUMBER = 26499
ORBITAL_ECCENTRICITY = 0.566
ORBITAL_INCLINATION = 87.13
ORBITAL_SEMIMAJOR_AXIS = 8760.26
PERIAPSIS_ALTITUDE = 421.71
PERIAPSIS_ARGUMENT_ANGLE = 103.13
PERIAPSIS_TIME = 2024-12-29T04:49:36.000Z
SPACECRAFT_ORIENTATION = (0.0,-1.0,0.0)
^MEX_ORIENTATION_DESC = "MEX_ORIENTATION_DESC.TXT"
SPACECRAFT_POINTING_MODE = INERT
^MEX_POINTING_DESC = "MEX_POINTING_DESC.TXT"
RIGHT_ASCENSION = 138.139
DECLINATION = -39.738
OFFSET_ANGLE = -1e+32
SPACECRAFT_SOLAR_DISTANCE = 2.40836e+08
TARGET_NAME = MARS
/* CAMERA DATA ELEMENTS */
DETECTOR_TEMPERATURE = 16.9432
FOCAL_PLANE_TEMPERATURE = 8.3794
INST_CMPRS_NAME = "DISCRETE COSINE TRANSFORMATION (DCT)"
INST_CMPRS_RATIO = 22.1733
INST_CMPRS_QUALITY = 0
INST_CMPRS_QUANTZ_TBL_ID = 0
INSTRUMENT_TEMPERATURE = 11.0301
LENS_TEMPERATURE = 8.1755
MACROPIXEL_SIZE = 4
PIXEL_SUBSAMPLING_FLAG = N
SIGNAL_CHAIN_ID = 2
/* RADIOMETRIC DATA ELEMENTS */
BANDWIDTH = 81.0
CENTER_FILTER_WAVELENGTH = 955.5
RADIANCE_OFFSET = 0.848047
RADIANCE_SCALING_FACTOR = 0.00665135
REFLECTANCE_SCALING_FACTOR = 0.000832302
MEX:REFLECTANCE_OFFSET = 0.106118
/* IMAGE OBJECT DEFINITIONS */
OBJECT = IMAGE
  INTERCHANGE_FORMAT = BINARY
  LINES = 23031
  LINE_SAMPLES = 3795
  SAMPLE_TYPE = UNSIGNED_INTEGER
  SAMPLE_BITS = 8
  BANDS = 1
  BAND_STORAGE_TYPE = BAND_SEQUENTIAL
  MAXIMUM = 255
  MEAN = 101.139
  MINIMUM = 1
  STANDARD_DEVIATION = 63.2531
END_OBJECT = IMAGE
/* MAP OBJECT DEFINITIONS */
OBJECT = IMAGE_MAP_PROJECTION
  ^DATA_SET_MAP_PROJECTION_CATALOG= "DSMAP.CAT"
  A_AXIS_RADIUS = 3396.0
  B_AXIS_RADIUS = 3396.0
  C_AXIS_RADIUS = 3396.0
  CENTER_LATITUDE = 0.0
  CENTER_LONGITUDE = 172.0
  COORDINATE_SYSTEM_NAME = PLANETOGRAPHIC
  COORDINATE_SYSTEM_TYPE = "BODY-FIXED ROTATING"
  EASTERNMOST_LONGITUDE = 174.852
  FIRST_STANDARD_PARALLEL = "N/A"
  LINE_FIRST_PIXEL = 1
  LINE_LAST_PIXEL = 23031
  LINE_PROJECTION_OFFSET = 78212.625
  MAP_PROJECTION_ROTATION = 0.0
  MAP_PROJECTION_TYPE = SINUSOIDAL
  MAP_RESOLUTION = 1185.42760773333
  MAP_SCALE = 0.05
  MAXIMUM_LATITUDE = 66.09480000000001
  MINIMUM_LATITUDE = 46.4533
  POSITIVE_LONGITUDE_DIRECTION = EAST
  REFERENCE_LATITUDE = "N/A"
  REFERENCE_LONGITUDE = "N/A"
  SAMPLE_FIRST_PIXEL = 1
  SAMPLE_LAST_PIXEL = 3795
  SAMPLE_PROJECTION_OFFSET = 1663.625
  SECOND_STANDARD_PARALLEL = "N/A"
  WESTERNMOST_LONGITUDE = 168.614
END_OBJECT = IMAGE_MAP_PROJECTION
END
