PDS_VERSION_ID = PDS3
/* FILE DATA ELEMENTS */
RECORD_TYPE = UNDEFINED
/* POINTERS TO DATA OBJECTS */
^IMAGE = ("HQ499_0000_RE4.TIF")
/* IDENTIFICATION DATA ELEMENTS */
DATA_SET_ID = "MEX-M-HRSC-4-REFDR-MAPPROJECT-EXT9-V4.0"
DATA_SET_NAME = "MARS EXPRESS HRSC MAP PROJECTED REFDR EXTENSION9 V4.0"
DETECTOR_ID = MEX_HRSC_RED
EVENT_TYPE = "MARS-LOCAL-VARIABLE-Im-Gl-Eo"
INSTRUMENT_HOST_ID = MEX
INSTRUMENT_HOST_NAME = "MARS EXPRESS"
INSTRUMENT_ID = HRSC
INSTRUMENT_NAME = "HIGH RESOLUTION STEREO CAMERA"
MISSION_NAME = "MARS EXPRESS"
MISSION_PHASE_NAME = ME_Phase_50
PROCESSING_LEVEL_ID = 4
PRODUCT_CREATION_TIME = 2025-01-29T19:26:23.000Z
PRODUCT_ID = "HQ499_0000_RE4.TIF"
RELEASE_ID = 0022
REVISION_ID = 0000
/* QUALITY DATA ELEMENTS */
DATA_QUALITY_ID = 1
DATA_QUALITY_DESC = "Data calculated based on original SPICE kernels"
/* TIME DATA ELEMENTS */
SPACECRAFT_CLOCK_START_COUNT = "1/0683527837.00348"
SPACECRAFT_CLOCK_STOP_COUNT = "1/0683528187.28831"
START_TIME = 2024-12-29T04:52:37.310Z
STOP_TIME = 2024-12-29T04:57:10.496Z
/* ORBITAL DATA ELEMENTS */
ASCENDING_NODE_LONGITUDE = 83.9
MAXIMUM_RESOLUTION = 0.0723
FOOTPRINT_POINT_LATITUDE = (65.898,65.8545,65.8036,65.7253,65.7232 ,65.7415,65.1037,64.4658,63.6521, 62.9985,62.6671,62.3326,61.998,61.6634, 61.153,60.8106,60.4682,59.9465,59.5963, 59.246,58.8891,58.5309,58.1727,57.6244, 57.2583,56.8866,56.3022,55.7295,55.347, 54.9597,54.5694,54.173,53.7747,53.3702, 52.964,52.5505,51.9243,51.502,51.0724, 50.6386,50.2013,49.7543,49.3045,48.8493 ,48.3857,47.9159,47.4399,46.957,46.7126 ,46.6094,46.6638,46.7177,46.7449, 46.7457,46.7479,47.4771,47.9551,48.4265 ,48.8902,49.3475,49.7995,50.2465, 50.6859,51.1212,51.552,51.9759,52.3972, 52.812,53.2237,53.6305,54.0331,54.4318, 54.8265,55.2172,55.6054,55.9882,56.5584 ,56.9567,57.331,57.6981,58.0652,58.4292 ,58.7884,59.1476,59.5034,59.8549, 60.2063,60.5558,60.8995,61.2433,61.7574 ,62.0935,62.4296,62.7657,63.4288, 64.2501,64.8981,65.7005,65.8611,65.898)
FOOTPRINT_POINT_LONGITUDE = (172.24,171.195,170.143,168.75,168.717, 168.538,168.752,168.951,169.188,169.365 ,169.45,169.533,169.614,169.692,169.806 ,169.88,169.951,170.055,170.122,170.186 ,170.25,170.311,170.371,170.458,170.513 ,170.568,170.65,170.72,170.767,170.822, 170.866,170.91,170.952,170.994,171.034, 171.073,171.129,171.165,171.2,171.233, 171.267,171.295,171.325,171.353,171.38, 171.406,171.431,171.454,171.465,171.47, 172.416,173.6,174.391,174.418,174.427, 174.39,174.364,174.338,174.312,174.285, 174.257,174.229,174.201,174.171,174.142 ,174.111,174.08,174.049,174.016,173.984 ,173.95,173.916,173.881,173.845,173.809 ,173.772,173.714,173.673,173.632, 173.591,173.55,173.507,173.463,173.418, 173.373,173.326,173.278,173.229,173.18, 173.129,173.049,172.996,172.94,172.883, 172.766,172.61,172.479,172.305,172.268, 172.24)
ORBIT_NUMBER = 26499
ORBITAL_ECCENTRICITY = 0.566
ORBITAL_INCLINATION = 87.13
ORBITAL_SEMIMAJOR_AXIS = 8760.26
PERIAPSIS_ALTITUDE = 421.71
PERIAPSIS_ARGUMENT_ANGLE = 103.13
PERIAPSIS_TIME = 2024-12-29T04:49:36.000Z
SPACECRAFT_ORIENTATION = (0.0,-1.0,0.0)
^MEX_ORIENTATION_DESC = "MEX_ORIENTATION_DESC.TXT"
SPACECRAFT_POINTING_MODE = INERT
^MEX_POINTING_DESC = "MEX_POINTING_DESC.TXT"
RIGHT_ASCENSION = 138.139
DECLINATION = -39.738
OFFSET_ANGLE = -1e+32
SPACECRAFT_SOLAR_DISTANCE = 2.40836e+08
TARGET_NAME = MARS
/* CAMERA DATA ELEMENTS */
DETECTOR_TEMPERATURE = 18.3705
FOCAL_PLANE_TEMPERATURE = 8.3794
INST_CMPRS_NAME = "DISCRETE COSINE TRANSFORMATION (DCT)"
INST_CMPRS_RATIO = 28.5696
INST_CMPRS_QUALITY = 0
INST_CMPRS_QUANTZ_TBL_ID = 0
INSTRUMENT_TEMPERATURE = 11.0301
LENS_TEMPERATURE = 8.1755
MACROPIXEL_SIZE = 4
PIXEL_SUBSAMPLING_FLAG = N
SIGNAL_CHAIN_ID = 2
/* RADIOMETRIC DATA ELEMENTS */
BANDWIDTH = 48.0
CENTER_FILTER_WAVELENGTH = 748.0
RADIANCE_OFFSET = 0.87074
RADIANCE_SCALING_FACTOR = 0.00682933
REFLECTANCE_SCALING_FACTOR = 0.00090396
MEX:REFLECTANCE_OFFSET = 0.115255
/* IMAGE OBJECT DEFINITIONS */
OBJECT = IMAGE
  INTERCHANGE_FORMAT = BINARY
  LINES = 23031
  LINE_SAMPLES = 3795
  SAMPLE_TYPE = UNSIGNED_INTEGER
  SAMPLE_BITS = 8
  BANDS = 1
  BAND_STORAGE_TYPE = BAND_SEQUENTIAL
  MAXIMUM = 255
  MEAN = 103.194
  MINIMUM = 1
  STANDARD_DEVIATION = 57.8042
END_OBJECT = IMAGE
/* MAP OBJECT DEFINITIONS */
OBJECT = IMAGE_MAP_PROJECTION
  ^DATA_SET_MAP_PROJECTION_CATALOG= "DSMAP.CAT"
  A_AXIS_RADIUS = 3396.0
  B_AXIS_RADIUS = 3396.0
  C_AXIS_RADIUS = 3396.0
  CENTER_LATITUDE = 0.0
  CENTER_LONGITUDE = 172.0
  COORDINATE_SYSTEM_NAME = PLANETOGRAPHIC
  COORDINATE_SYSTEM_TYPE = "BODY-FIXED ROTATING"
  EASTERNMOST_LONGITUDE = 174.427
  FIRST_STANDARD_PARALLEL = "N/A"
  LINE_FIRST_PIXEL = 1
  LINE_LAST_PIXEL = 23031
  LINE_PROJECTION_OFFSET = 78212.625
  MAP_PROJECTION_ROTATION = 0.0
  MAP_PROJECTION_TYPE = SINUSOIDAL
  MAP_RESOLUTION = 1185.42760773333
  MAP_SCALE = 0.05
  MAXIMUM_LATITUDE = 65.898
  MINIMUM_LATITUDE = 46.6094
  POSITIVE_LONGITUDE_DIRECTION = EAST
  REFERENCE_LATITUDE = "N/A"
  REFERENCE_LONGITUDE = "N/A"
  SAMPLE_FIRST_PIXEL = 1
  SAMPLE_LAST_PIXEL = 3795
  SAMPLE_PROJECTION_OFFSET = 1663.625
  SECOND_STANDARD_PARALLEL = "N/A"
  WESTERNMOST_LONGITUDE = 168.538
END_OBJECT = IMAGE_MAP_PROJECTION
END
