PDS_VERSION_ID = PDS3
/* FILE DATA ELEMENTS */
RECORD_TYPE = UNDEFINED
/* POINTERS TO DATA OBJECTS */
^IMAGE = ("HQ500_0000_IR4.TIF")
/* IDENTIFICATION DATA ELEMENTS */
DATA_SET_ID = "MEX-M-HRSC-4-REFDR-MAPPROJECT-EXT9-V4.0"
DATA_SET_NAME = "MARS EXPRESS HRSC MAP PROJECTED REFDR EXTENSION9 V4.0"
DETECTOR_ID = MEX_HRSC_IR
EVENT_TYPE = "MARS-REGIONAL-VARIABLE-Gl-La-At"
INSTRUMENT_HOST_ID = MEX
INSTRUMENT_HOST_NAME = "MARS EXPRESS"
INSTRUMENT_ID = HRSC
INSTRUMENT_NAME = "HIGH RESOLUTION STEREO CAMERA"
MISSION_NAME = "MARS EXPRESS"
MISSION_PHASE_NAME = ME_Phase_50
PROCESSING_LEVEL_ID = 4
PRODUCT_CREATION_TIME = 2025-01-29T19:26:23.000Z
PRODUCT_ID = "HQ500_0000_IR4.TIF"
RELEASE_ID = 0022
REVISION_ID = 0000
/* QUALITY DATA ELEMENTS */
DATA_QUALITY_ID = 1
DATA_QUALITY_DESC = "Data calculated based on original SPICE kernels"
/* TIME DATA ELEMENTS */
SPACECRAFT_CLOCK_START_COUNT = "1/0683553079.64147"
SPACECRAFT_CLOCK_STOP_COUNT = "1/0683553353.15079"
START_TIME = 2024-12-29T11:52:20.297Z
STOP_TIME = 2024-12-29T11:55:02.703Z
/* ORBITAL DATA ELEMENTS */
ASCENDING_NODE_LONGITUDE = 83.88
MAXIMUM_RESOLUTION = 0.0862
FOOTPRINT_POINT_LATITUDE = (58.9979,58.9796,58.9503,58.9203, 58.8933,58.8354,58.8333,58.6416,58.3064 ,57.8586,57.3983,56.9357,56.5895, 55.9984,55.6408,55.1633,54.7962,54.5499 ,54.3038,54.0561,53.8075,53.4264, 53.1719,52.9164,52.6607,52.3996,52.1365 ,51.873,51.6107,51.3433,51.0716,50.7998 ,50.5274,50.2513,49.9715,49.6911, 49.4099,49.1244,48.8358,48.5472,48.2534 ,47.9561,47.6582,47.3583,46.8993, 46.5919,46.2802,45.9639,45.6475,45.4879 ,45.4011,45.4525,45.4812,45.5045, 45.5307,45.5508,45.5671,45.5677,45.5701 ,45.8908,46.2075,46.524,46.8342,47.1413 ,47.5993,47.8977,48.3435,48.7827, 49.0718,49.3596,49.6447,49.9256,50.2053 ,50.6229,50.8954,51.1679,51.4387, 51.7079,51.9722,52.2349,52.499,52.7597, 53.016,53.2717,53.5267,53.781,54.0335, 54.2812,54.7726,55.2667,55.6261,55.9843 ,56.4616,56.9287,57.2766,57.8537, 58.3049,58.6437,58.7552,58.9979)
FOOTPRINT_POINT_LONGITUDE = (72.8923,72.3594,71.6402,71.0162, 70.5183,69.5858,69.5548,69.5191,69.5682 ,69.6315,69.6938,69.7537,69.7973,69.868 ,69.9091,69.9621,70.0009,70.0263, 70.0513,70.0756,70.0994,70.1351,70.1582 ,70.1808,70.203,70.2251,70.2467,70.2678 ,70.2887,70.3091,70.3291,70.3488,70.368 ,70.387,70.4057,70.4239,70.4417,70.4593 ,70.4766,70.4934,70.5097,70.5259, 70.5417,70.557,70.5796,70.5941,70.6084, 70.6222,70.6357,70.6423,70.6458,71.3585 ,71.8136,72.2364,72.8233,73.4113, 74.0991,74.1319,74.1427,74.1201,74.0978 ,74.0751,74.053,74.031,73.9979,73.9762, 73.9434,73.9105,73.8888,73.867,73.8451, 73.8233,73.8016,73.7686,73.7469,73.7247 ,73.7028,73.6806,73.6586,73.6369, 73.6141,73.5923,73.5702,73.5479,73.5253 ,73.5027,73.4799,73.4574,73.4127, 73.3649,73.3302,73.2951,73.2469,73.1987 ,73.1618,73.0992,73.0499,73.0102, 72.9975,72.8923)
ORBIT_NUMBER = 26500
ORBITAL_ECCENTRICITY = 0.567
ORBITAL_INCLINATION = 87.14
ORBITAL_SEMIMAJOR_AXIS = 8761.54
PERIAPSIS_ALTITUDE = 420.39
PERIAPSIS_ARGUMENT_ANGLE = 102.95
PERIAPSIS_TIME = 2024-12-29T11:48:42.000Z
SPACECRAFT_ORIENTATION = (0.0,-1.0,0.0)
^MEX_ORIENTATION_DESC = "MEX_ORIENTATION_DESC.TXT"
SPACECRAFT_POINTING_MODE = INERT
^MEX_POINTING_DESC = "MEX_POINTING_DESC.TXT"
RIGHT_ASCENSION = 132.244
DECLINATION = -40.227
OFFSET_ANGLE = -1e+32
SPACECRAFT_SOLAR_DISTANCE = 2.40879e+08
TARGET_NAME = MARS
/* CAMERA DATA ELEMENTS */
DETECTOR_TEMPERATURE = 17.351
FOCAL_PLANE_TEMPERATURE = 8.1755
INST_CMPRS_NAME = "DISCRETE COSINE TRANSFORMATION (DCT)"
INST_CMPRS_RATIO = 21.3214
INST_CMPRS_QUALITY = 0
INST_CMPRS_QUANTZ_TBL_ID = 0
INSTRUMENT_TEMPERATURE = 11.0301
LENS_TEMPERATURE = 8.7872
MACROPIXEL_SIZE = 4
MISSING_FRAMES = 0
PIXEL_SUBSAMPLING_FLAG = N
SIGNAL_CHAIN_ID = 2
/* RADIOMETRIC DATA ELEMENTS */
BANDWIDTH = 81.0
CENTER_FILTER_WAVELENGTH = 955.5
RADIANCE_OFFSET = 0.813513
RADIANCE_SCALING_FACTOR = 0.00589895
REFLECTANCE_SCALING_FACTOR = 0.000738416
MEX:REFLECTANCE_OFFSET = 0.101834
/* IMAGE OBJECT DEFINITIONS */
OBJECT = IMAGE
  INTERCHANGE_FORMAT = BINARY
  LINES = 7977
  LINE_SAMPLES = 1532
  SAMPLE_TYPE = UNSIGNED_INTEGER
  SAMPLE_BITS = 8
  BANDS = 1
  BAND_STORAGE_TYPE = BAND_SEQUENTIAL
  MAXIMUM = 255
  MEAN = 103.411
  MINIMUM = 1
  STANDARD_DEVIATION = 80.7894
END_OBJECT = IMAGE
/* MAP OBJECT DEFINITIONS */
OBJECT = IMAGE_MAP_PROJECTION
  ^DATA_SET_MAP_PROJECTION_CATALOG= "DSMAP.CAT"
  A_AXIS_RADIUS = 3396.0
  B_AXIS_RADIUS = 3396.0
  C_AXIS_RADIUS = 3396.0
  CENTER_LATITUDE = 0.0
  CENTER_LONGITUDE = 72.0
  COORDINATE_SYSTEM_NAME = PLANETOGRAPHIC
  COORDINATE_SYSTEM_TYPE = "BODY-FIXED ROTATING"
  EASTERNMOST_LONGITUDE = 74.1427
  FIRST_STANDARD_PARALLEL = "N/A"
  LINE_FIRST_PIXEL = 1
  LINE_LAST_PIXEL = 7977
  LINE_PROJECTION_OFFSET = 34900.125
  MAP_PROJECTION_ROTATION = 0.0
  MAP_PROJECTION_TYPE = SINUSOIDAL
  MAP_RESOLUTION = 592.713803866667
  MAP_SCALE = 0.1
  MAXIMUM_LATITUDE = 58.9979
  MINIMUM_LATITUDE = 45.4011
  POSITIVE_LONGITUDE_DIRECTION = EAST
  REFERENCE_LATITUDE = "N/A"
  REFERENCE_LONGITUDE = "N/A"
  SAMPLE_FIRST_PIXEL = 1
  SAMPLE_LAST_PIXEL = 1532
  SAMPLE_PROJECTION_OFFSET = 786.125
  SECOND_STANDARD_PARALLEL = "N/A"
  WESTERNMOST_LONGITUDE = 69.51909999999999
END_OBJECT = IMAGE_MAP_PROJECTION
END
