PDS_VERSION_ID = PDS3
/* FILE DATA ELEMENTS */
RECORD_TYPE = UNDEFINED
/* POINTERS TO DATA OBJECTS */
^IMAGE = ("HQ500_0000_P24.TIF")
/* IDENTIFICATION DATA ELEMENTS */
DATA_SET_ID = "MEX-M-HRSC-4-REFDR-MAPPROJECT-EXT9-V4.0"
DATA_SET_NAME = "MARS EXPRESS HRSC MAP PROJECTED REFDR EXTENSION9 V4.0"
DETECTOR_ID = MEX_HRSC_P2
EVENT_TYPE = "MARS-REGIONAL-VARIABLE-Gl-La-At"
INSTRUMENT_HOST_ID = MEX
INSTRUMENT_HOST_NAME = "MARS EXPRESS"
INSTRUMENT_ID = HRSC
INSTRUMENT_NAME = "HIGH RESOLUTION STEREO CAMERA"
MISSION_NAME = "MARS EXPRESS"
MISSION_PHASE_NAME = ME_Phase_50
PROCESSING_LEVEL_ID = 4
PRODUCT_CREATION_TIME = 2025-01-29T19:26:23.000Z
PRODUCT_ID = "HQ500_0000_P24.TIF"
RELEASE_ID = 0022
REVISION_ID = 0000
/* QUALITY DATA ELEMENTS */
DATA_QUALITY_ID = 1
DATA_QUALITY_DESC = "Data calculated based on original SPICE kernels"
/* TIME DATA ELEMENTS */
SPACECRAFT_CLOCK_START_COUNT = "1/0683553079.64147"
SPACECRAFT_CLOCK_STOP_COUNT = "1/0683553353.15079"
START_TIME = 2024-12-29T11:53:22.110Z
STOP_TIME = 2024-12-29T11:56:27.734Z
/* ORBITAL DATA ELEMENTS */
ASCENDING_NODE_LONGITUDE = 83.88
MAXIMUM_RESOLUTION = 0.0389
FOOTPRINT_POINT_LATITUDE = (58.8466,58.8006,58.7562,58.7298, 58.6961,58.6943,58.6641,57.9827,57.5257 ,57.1773,56.7126,56.1204,55.5225, 55.2802,55.0374,54.6699,54.4222,54.1743 ,53.9248,53.6718,53.4187,53.1649, 52.7776,52.5193,52.2576,51.9939,51.7302 ,51.4632,51.1943,50.7873,50.5132, 50.0987,49.8191,49.5384,49.2537,48.9686 ,48.6793,48.3886,48.0939,47.7981, 47.4985,47.1974,46.8921,46.5855,46.2743 ,45.9618,45.6444,45.4853,45.4595, 45.4931,45.5184,45.5573,45.5907,45.6069 ,45.6079,45.6092,46.0856,46.3987, 46.7102,47.0169,47.3225,47.6236,48.0717 ,48.3675,48.6601,48.9505,49.238,49.5228 ,49.8065,50.086,50.5036,50.7779,51.0523 ,51.3225,51.5915,51.8596,52.1232, 52.3871,52.6493,52.9079,53.1664,53.423, 53.6766,53.9299,54.1824,54.4305,54.6785 ,55.0493,55.2923,55.5353,55.7781, 56.0182,56.2561,56.6128,57.0824,57.5478 ,57.8947,58.6916,58.8054,58.8466)
FOOTPRINT_POINT_LONGITUDE = (72.5237,71.4223,70.5323,70.0587, 69.4962,69.4666,69.4015,69.5011,69.5643 ,69.6107,69.6704,69.7428,69.8121, 69.8394,69.8658,69.9045,69.9301,69.9549 ,69.9792,70.0034,70.0271,70.0502, 70.0845,70.1067,70.1285,70.15,70.1709, 70.192,70.2122,70.2418,70.2612,70.2894, 70.3078,70.3257,70.3435,70.3606,70.3778 ,70.3941,70.4103,70.4261,70.4415, 70.4566,70.4712,70.4856,70.4996,70.5132 ,70.5265,70.5328,70.5338,71.0561, 71.4919,72.248,73.0347,73.5025,73.5318, 73.5423,73.5178,73.5014,73.485,73.4686, 73.452,73.4356,73.4105,73.3936,73.3767, 73.3598,73.3428,73.3259,73.3087,73.2916 ,73.2654,73.248,73.2301,73.2124,73.1946 ,73.1764,73.1585,73.1401,73.1215,73.103 ,73.0842,73.0655,73.0463,73.027,73.0076 ,72.9884,72.9689,72.9389,72.9189, 72.8985,72.8781,72.8572,72.8364,72.8046 ,72.7615,72.7175,72.6837,72.6032, 72.5914,72.5237)
ORBIT_NUMBER = 26500
ORBITAL_ECCENTRICITY = 0.567
ORBITAL_INCLINATION = 87.14
ORBITAL_SEMIMAJOR_AXIS = 8761.54
PERIAPSIS_ALTITUDE = 420.39
PERIAPSIS_ARGUMENT_ANGLE = 102.95
PERIAPSIS_TIME = 2024-12-29T11:48:42.000Z
SPACECRAFT_ORIENTATION = (0.0,-1.0,0.0)
^MEX_ORIENTATION_DESC = "MEX_ORIENTATION_DESC.TXT"
SPACECRAFT_POINTING_MODE = INERT
^MEX_POINTING_DESC = "MEX_POINTING_DESC.TXT"
RIGHT_ASCENSION = 132.244
DECLINATION = -40.227
OFFSET_ANGLE = -1e+32
SPACECRAFT_SOLAR_DISTANCE = 2.40879e+08
TARGET_NAME = MARS
/* CAMERA DATA ELEMENTS */
DETECTOR_TEMPERATURE = 18.3705
FOCAL_PLANE_TEMPERATURE = 8.1755
INST_CMPRS_NAME = "DISCRETE COSINE TRANSFORMATION (DCT)"
INST_CMPRS_RATIO = 9.95396
INST_CMPRS_QUALITY = 0
INST_CMPRS_QUANTZ_TBL_ID = 0
INSTRUMENT_TEMPERATURE = 11.0301
LENS_TEMPERATURE = 8.7872
MACROPIXEL_SIZE = 2
MISSING_FRAMES = 0
PIXEL_SUBSAMPLING_FLAG = N
SIGNAL_CHAIN_ID = 3
/* RADIOMETRIC DATA ELEMENTS */
BANDWIDTH = 177.0
CENTER_FILTER_WAVELENGTH = 676.5
RADIANCE_OFFSET = 3.29046
RADIANCE_SCALING_FACTOR = 0.0179112
REFLECTANCE_SCALING_FACTOR = 0.000551038
MEX:REFLECTANCE_OFFSET = 0.101231
/* IMAGE OBJECT DEFINITIONS */
OBJECT = IMAGE
  INTERCHANGE_FORMAT = BINARY
  LINES = 15953
  LINE_SAMPLES = 3063
  SAMPLE_TYPE = UNSIGNED_INTEGER
  SAMPLE_BITS = 8
  BANDS = 1
  BAND_STORAGE_TYPE = BAND_SEQUENTIAL
  MAXIMUM = 255
  MEAN = 104.369
  MINIMUM = 1
  STANDARD_DEVIATION = 78.7378
END_OBJECT = IMAGE
/* MAP OBJECT DEFINITIONS */
OBJECT = IMAGE_MAP_PROJECTION
  ^DATA_SET_MAP_PROJECTION_CATALOG= "DSMAP.CAT"
  A_AXIS_RADIUS = 3396.0
  B_AXIS_RADIUS = 3396.0
  C_AXIS_RADIUS = 3396.0
  CENTER_LATITUDE = 0.0
  CENTER_LONGITUDE = 72.0
  COORDINATE_SYSTEM_NAME = PLANETOGRAPHIC
  COORDINATE_SYSTEM_TYPE = "BODY-FIXED ROTATING"
  EASTERNMOST_LONGITUDE = 73.5423
  FIRST_STANDARD_PARALLEL = "N/A"
  LINE_FIRST_PIXEL = 1
  LINE_LAST_PIXEL = 15953
  LINE_PROJECTION_OFFSET = 69800.75
  MAP_PROJECTION_ROTATION = 0.0
  MAP_PROJECTION_TYPE = SINUSOIDAL
  MAP_RESOLUTION = 1185.42760773333
  MAP_SCALE = 0.05
  MAXIMUM_LATITUDE = 58.8466
  MINIMUM_LATITUDE = 45.4595
  POSITIVE_LONGITUDE_DIRECTION = EAST
  REFERENCE_LATITUDE = "N/A"
  REFERENCE_LONGITUDE = "N/A"
  SAMPLE_FIRST_PIXEL = 1
  SAMPLE_LAST_PIXEL = 3063
  SAMPLE_PROJECTION_OFFSET = 1572.75
  SECOND_STANDARD_PARALLEL = "N/A"
  WESTERNMOST_LONGITUDE = 69.4015
END_OBJECT = IMAGE_MAP_PROJECTION
END
