PDS_VERSION_ID = PDS3
/* FILE DATA ELEMENTS */
RECORD_TYPE = STREAM
/* POINTERS TO DATA OBJECTS */
^COMPRESSED_FILE = "H0010_0000_GR3.JP2"
/* IDENTIFICATION DATA ELEMENTS */
DATA_SET_ID = "MEX-M-HRSC-5-REFDR-MAPPROJECTED-V3.0"
DATA_SET_NAME = "MARS EXPRESS HRSC MAP PROJECTED REFDR V3.0"
DETECTOR_ID = MEX_HRSC_GREEN
EVENT_TYPE = "MARS-REGIONAL-STEREO-Vo-Fl-Pf"
INSTRUMENT_HOST_ID = MEX
INSTRUMENT_HOST_NAME = "MARS EXPRESS"
INSTRUMENT_ID = HRSC
INSTRUMENT_NAME = "HIGH RESOLUTION STEREO CAMERA"
MISSION_NAME = "MARS EXPRESS"
MISSION_PHASE_NAME = MC_Phase_0
PROCESSING_LEVEL_ID = 3
PRODUCT_CREATION_TIME = 2016-03-02T10:19:25.000Z
PRODUCT_ID = "H0010_0000_GR3.JP2"
RELEASE_ID = 0001
REVISION_ID = 0000
/* QUALITY DATA ELEMENTS */
DATA_QUALITY_ID = 1
DATA_QUALITY_DESC = "Data calculated based on original SPICE kernels"
/* TIME DATA ELEMENTS */
SPACECRAFT_CLOCK_START_COUNT = "1/0021822627.31247"
SPACECRAFT_CLOCK_STOP_COUNT = "1/0021823018.54464"
START_TIME = 2004-01-10T13:51:39.353Z
STOP_TIME = 2004-01-10T13:56:25.153Z
/* ORBITAL DATA ELEMENTS */
ASCENDING_NODE_LONGITUDE = 228.73
MAXIMUM_RESOLUTION = 161.2
FOOTPRINT_POINT_LATITUDE = (-49.5051,-49.4891,-49.4733,-49.4414, -49.4138,-49.0022,-48.592,-48.186, -47.7844,-47.3867,-46.9935,-46.6041, -46.2188,-45.8382,-45.4612,-45.0877, -44.7179,-44.3509,-43.9892,-43.6303, -43.2737,-42.9211,-42.5726,-42.2261, -41.8836,-41.545,-41.2079,-40.8751, -40.3808,-40.0544,-39.7316,-39.2518, -38.9344,-38.6222,-38.3094,-38.0024, -37.6956,-37.3936,-36.9414,-36.645, -36.3478,-35.9113,-35.62,-35.3347, -35.0486,-34.6255,-34.345,-34.0658, -33.5163,-32.9749,-32.7892,-32.7968, -32.8038,-32.8083,-33.3476,-33.6226, -33.8981,-34.1733,-34.4547,-34.7357, -35.0186,-35.3063,-35.5912,-36.0286, -36.3201,-36.7657,-37.063,-37.3665, -37.6692,-37.9766,-38.2846,-38.5974, -38.9107,-39.2281,-39.5477,-39.8714, -40.3597,-40.6888,-41.0226,-41.5272, -42.0386,-42.5578,-43.0844,-43.4388, -43.7982,-44.1607,-44.5261,-44.8946, -45.2682,-45.6456,-46.0268,-46.4115, -46.8002,-47.1923,-47.5897,-47.991, -48.3954,-48.8046,-49.2208,-49.5051)
FOOTPRINT_POINT_LONGITUDE = (91.4015,90.367,89.6655,88.5955,87.8545 ,87.651,87.7176,87.782,87.8437,87.9036, 87.9607,88.0159,88.0697,88.1207,88.1706 ,88.2185,88.265,88.3101,88.3533,88.3952 ,88.4368,88.4763,88.5149,88.5522, 88.5871,88.6223,88.6558,88.6887,88.7357 ,88.7657,88.7953,88.8385,88.8656, 88.8924,88.9183,88.9436,88.9666,88.9915 ,89.027,89.0494,89.0714,89.1027,89.1232 ,89.1429,89.1624,89.191,89.2095,89.2275 ,89.2617,89.2946,89.7677,90.2909, 90.9717,91.3753,91.3913,91.3997,91.4081 ,91.4168,91.425,91.4338,91.4448,91.4561 ,91.4616,91.4772,91.4862,91.5011, 91.5117,91.5225,91.5333,91.5444,91.5552 ,91.5668,91.5782,91.5898,91.6047, 91.6167,91.6347,91.6477,91.6618,91.6825 ,91.7041,91.7266,91.7503,91.7661, 91.7821,91.7989,91.816,91.8326,91.8508, 91.8692,91.8891,91.9083,91.9278,91.9458 ,91.9673,91.9879,92.0047,92.0228, 92.0494,91.4015)
ORBIT_NUMBER = 10
ORBITAL_ECCENTRICITY = 0.717
ORBITAL_INCLINATION = 86.63
ORBITAL_SEMIMAJOR_AXIS = 12956.1
PERIAPSIS_ALTITUDE = 274.15
PERIAPSIS_ARGUMENT_ANGLE = 357.88
PERIAPSIS_TIME = 2004-01-10T14:03:56.000Z
SPACECRAFT_ORIENTATION = (0.0,1.0,0.0)
^MEX_ORIENTATION_DESC = "MEX_ORIENTATION_DESC.TXT"
SPACECRAFT_POINTING_MODE = NADIR
^MEX_POINTING_DESC = "MEX_POINTING_DESC.TXT"
RIGHT_ASCENSION = -1e+32
DECLINATION = -1e+32
OFFSET_ANGLE = -1e+32
SPACECRAFT_SOLAR_DISTANCE = 2.22398e+08
TARGET_NAME = MARS
/* CAMERA DATA ELEMENTS */
DETECTOR_TEMPERATURE = 17.5549
FOCAL_PLANE_TEMPERATURE = 8.7872
INST_CMPRS_NAME = "DISCRETE COSINE TRANSFORMATION (DCT)"
INST_CMPRS_RATIO = 42.6464
INST_CMPRS_QUALITY = 4
INST_CMPRS_QUANTZ_TBL_ID = 0
INSTRUMENT_TEMPERATURE = 10.6223
LENS_TEMPERATURE = 8.9911
MACROPIXEL_SIZE = 8
MISSING_FRAMES = 0
PIXEL_SUBSAMPLING_FLAG = N
SIGNAL_CHAIN_ID = 2
/* RADIOMETRIC DATA ELEMENTS */
BANDWIDTH = 88.0
CENTER_FILTER_WAVELENGTH = 538.0
RADIANCE_OFFSET = 2.26282
RADIANCE_SCALING_FACTOR = 0.00271811
REFLECTANCE_SCALING_FACTOR = 0.000115747
MEX:REFLECTANCE_OFFSET = 0.0963591
/* IMAGE OBJECT DEFINITIONS */
OBJECT = IMAGE
  INTERCHANGE_FORMAT = BINARY
  LINES = 4788
  LINE_SAMPLES = 857
  SAMPLE_TYPE = UNSIGNED_INTEGER
  SAMPLE_BITS = 8
  BANDS = 1
  BAND_STORAGE_TYPE = BAND_SEQUENTIAL
  MAXIMUM = 293
  MEAN = 236.64
  MINIMUM = 222
  STANDARD_DEVIATION = 87.1271
END_OBJECT = IMAGE
/* MAP OBJECT DEFINITIONS */
OBJECT = IMAGE_MAP_PROJECTION
  ^DATA_SET_MAP_PROJECTION_CATALOG= "DSMAP.CAT"
  A_AXIS_RADIUS = 3396.0
  B_AXIS_RADIUS = 3396.0
  C_AXIS_RADIUS = 3396.0
  CENTER_LATITUDE = 0.0
  CENTER_LONGITUDE = 90.0
  COORDINATE_SYSTEM_NAME = PLANETOGRAPHIC
  COORDINATE_SYSTEM_TYPE = "BODY-FIXED ROTATING"
  EASTERNMOST_LONGITUDE = 92.04940000000001
  FIRST_STANDARD_PARALLEL = "N/A"
  LINE_FIRST_PIXEL = 1
  LINE_LAST_PIXEL = 4788
  LINE_PROJECTION_OFFSET = -9453.4375
  MAP_PROJECTION_ROTATION = 0.0
  MAP_PROJECTION_TYPE = SINUSOIDAL
  MAP_RESOLUTION = 296.356901933333
  MAP_SCALE = 0.2
  MAXIMUM_LATITUDE = -32.7892
  MINIMUM_LATITUDE = -49.5051
  POSITIVE_LONGITUDE_DIRECTION = EAST
  REFERENCE_LATITUDE = "N/A"
  REFERENCE_LONGITUDE = "N/A"
  SAMPLE_FIRST_PIXEL = 1
  SAMPLE_LAST_PIXEL = 857
  SAMPLE_PROJECTION_OFFSET = 447.0625
  SECOND_STANDARD_PARALLEL = "N/A"
  WESTERNMOST_LONGITUDE = 87.651
END_OBJECT = IMAGE_MAP_PROJECTION
/* The JPEG2000 image data file associated with this label. */
OBJECT = COMPRESSED_FILE
  FILE_NAME = "H0010_0000_GR3.JP2"
  RECORD_TYPE = UNDEFINED
  FILE_RECORDS = UNK
  ENCODING_TYPE = "JP2"
  INTERCHANGE_FORMAT = BINARY
  UNCOMPRESSED_FILE_NAME = "H0010_0000_GR3.IMG"
  REQUIRED_STORAGE_BYTES = "4122170"
  ^DESCRIPTION = "JP2INFO.TXT"
END_OBJECT = COMPRESSED_FILE
END
