PDS_VERSION_ID = PDS3
/* FILE DATA ELEMENTS */
RECORD_TYPE = STREAM
/* POINTERS TO DATA OBJECTS */
^COMPRESSED_FILE = "H0010_0003_SR3.JP2"
/* IDENTIFICATION DATA ELEMENTS */
DATA_SET_ID = "MEX-M-HRSC-5-REFDR-MAPPROJECTED-V3.0"
DATA_SET_NAME = "MARS EXPRESS HRSC MAP PROJECTED REFDR V3.0"
DETECTOR_ID = MEX_HRSC_SRC
EVENT_TYPE = "MARS-REGIONAL-STEREO-Vo-Fl-Pf"
INSTRUMENT_HOST_ID = MEX
INSTRUMENT_HOST_NAME = "MARS EXPRESS"
INSTRUMENT_ID = HRSC
INSTRUMENT_NAME = "HIGH RESOLUTION STEREO CAMERA"
MISSION_NAME = "MARS EXPRESS"
MISSION_PHASE_NAME = MC_Phase_0
PROCESSING_LEVEL_ID = 3
PRODUCT_CREATION_TIME = 2016-03-02T10:19:25.000Z
PRODUCT_ID = "H0010_0003_SR3.JP2"
RELEASE_ID = 0001
REVISION_ID = 0000
/* QUALITY DATA ELEMENTS */
DATA_QUALITY_ID = 1
DATA_QUALITY_DESC = "Data calculated based on original SPICE kernels"
/* TIME DATA ELEMENTS */
SPACECRAFT_CLOCK_START_COUNT = "1/0021822627.31247"
SPACECRAFT_CLOCK_STOP_COUNT = "1/0021823018.54464"
IMAGE_TIME = 2004-01-10T13:54:24.580Z
START_TIME = 2004-01-10T13:54:24.578Z
STOP_TIME = 2004-01-10T13:54:24.581Z
/* ORBITAL DATA ELEMENTS */
ASCENDING_NODE_LONGITUDE = 228.73
MAXIMUM_RESOLUTION = 5.776
FOOTPRINT_POINT_LATITUDE = (-39.6277,-39.6232,-39.6177,-39.6135, -39.611,-39.6073,-39.6028,-39.5983, -39.5937,-39.5902,-39.5877,-39.5834, -39.578,-39.5744,-39.5694,-39.5663, -39.5634,-39.5577,-39.5524,-39.5481, -39.5451,-39.5425,-39.5385,-39.5356, -39.5309,-39.531,-39.5311,-39.5312, -39.5312,-39.5313,-39.5314,-39.5315, -39.5315,-39.5316,-39.5317,-39.5318, -39.5318,-39.5319,-39.532,-39.5321, -39.5321,-39.5322,-39.5323,-39.5324, -39.5324,-39.5325,-39.5326,-39.5327, -39.5327,-39.5328,-39.5362,-39.5392, -39.5439,-39.5491,-39.5537,-39.5571, -39.5615,-39.565,-39.5698,-39.5726, -39.5762,-39.5817,-39.5864,-39.5904, -39.5928,-39.5958,-39.5985,-39.6016, -39.6057,-39.6112,-39.6151,-39.6176, -39.6219,-39.628,-39.6313,-39.6312, -39.6311,-39.631,-39.631,-39.6309, -39.6308,-39.6307,-39.6307,-39.6306, -39.6305,-39.6304,-39.6304,-39.6303, -39.6302,-39.6301,-39.63,-39.63, -39.6299,-39.6298,-39.6297,-39.6297, -39.6296,-39.6295,-39.6294,-39.6277)
FOOTPRINT_POINT_LONGITUDE = (90.1332,90.1333,90.1334,90.1336, 90.1336,90.1337,90.1338,90.134,90.1341, 90.1342,90.1342,90.1343,90.1345,90.1346 ,90.1347,90.1347,90.1348,90.135,90.1351 ,90.1352,90.1353,90.1354,90.1355, 90.1355,90.1371,90.1421,90.1472,90.1523 ,90.1573,90.1624,90.1675,90.1726, 90.1776,90.1827,90.1878,90.1928,90.1979 ,90.203,90.2081,90.2131,90.2182,90.2233 ,90.2283,90.2334,90.2385,90.2436, 90.2486,90.2537,90.2588,90.2638,90.2645 ,90.2645,90.2643,90.2642,90.2641,90.264 ,90.2639,90.2638,90.2637,90.2636, 90.2636,90.2635,90.2634,90.2633,90.2633 ,90.2632,90.2631,90.263,90.2629,90.2628 ,90.2627,90.2626,90.2625,90.2624, 90.2584,90.2533,90.2482,90.2431,90.238, 90.233,90.2279,90.2228,90.2177,90.2126, 90.2076,90.2025,90.1974,90.1923,90.1872 ,90.1822,90.1771,90.172,90.1669,90.1618 ,90.1568,90.1517,90.1466,90.1415, 90.1364,90.1332)
ORBIT_NUMBER = 10
ORBITAL_ECCENTRICITY = 0.717
ORBITAL_INCLINATION = 86.63
ORBITAL_SEMIMAJOR_AXIS = 12956.1
PERIAPSIS_ALTITUDE = 274.15
PERIAPSIS_ARGUMENT_ANGLE = 357.88
PERIAPSIS_TIME = 2004-01-10T14:03:56.000Z
SPACECRAFT_ORIENTATION = (0.0,1.0,0.0)
^MEX_ORIENTATION_DESC = "MEX_ORIENTATION_DESC.TXT"
SPACECRAFT_POINTING_MODE = NADIR
^MEX_POINTING_DESC = "MEX_POINTING_DESC.TXT"
RIGHT_ASCENSION = -1e+32
DECLINATION = -1e+32
OFFSET_ANGLE = -1e+32
SPACECRAFT_SOLAR_DISTANCE = 2.22398e+08
TARGET_NAME = MARS
/* CAMERA DATA ELEMENTS */
BUFFER_MODE_ID = BUFFER_8
EXPOSURE_DURATION = 3.024
INST_CMPRS_NAME = NONE
INST_CMPRS_RATIO = 1.0
INST_CMPRS_QUALITY = -2147483648
INST_CMPRS_QUANTZ_TBL_ID = -2147483648
INSTRUMENT_TEMPERATURE = 11.2121
MISSING_FRAMES = 0
START_BIT = 0
/* RADIOMETRIC DATA ELEMENTS */
BANDWIDTH = 250.0
CENTER_FILTER_WAVELENGTH = 600.0
RADIANCE_OFFSET = -9.99e+31
RADIANCE_SCALING_FACTOR = -9.99e+31
REFLECTANCE_SCALING_FACTOR = -9.99e+31
MEX:REFLECTANCE_OFFSET = -9.99e+31
/* IMAGE OBJECT DEFINITIONS */
OBJECT = IMAGE
  INTERCHANGE_FORMAT = BINARY
  LINES = 1246
  LINE_SAMPLES = 1261
  SAMPLE_TYPE = UNSIGNED_INTEGER
  SAMPLE_BITS = 8
  BANDS = 1
  BAND_STORAGE_TYPE = BAND_SEQUENTIAL
  MAXIMUM = 4394
  MEAN = 3664.07
  MINIMUM = 0
  STANDARD_DEVIATION = 174.924
END_OBJECT = IMAGE
/* MAP OBJECT DEFINITIONS */
OBJECT = IMAGE_MAP_PROJECTION
  ^DATA_SET_MAP_PROJECTION_CATALOG= "DSMAP.CAT"
  A_AXIS_RADIUS = 3396.19
  B_AXIS_RADIUS = 3396.19
  C_AXIS_RADIUS = 3396.19
  CENTER_LATITUDE = 0.0
  CENTER_LONGITUDE = 90.0
  COORDINATE_SYSTEM_NAME = PLANETOGRAPHIC
  COORDINATE_SYSTEM_TYPE = "BODY-FIXED ROTATING"
  EASTERNMOST_LONGITUDE = 90.2645
  FIRST_STANDARD_PARALLEL = "N/A"
  LINE_FIRST_PIXEL = 1
  LINE_LAST_PIXEL = 1246
  LINE_PROJECTION_OFFSET = -468205.0
  MAP_PROJECTION_ROTATION = 0.0
  MAP_PROJECTION_TYPE = SINUSOIDAL
  MAP_RESOLUTION = 11854.9393024378
  MAP_SCALE = 0.005
  MAXIMUM_LATITUDE = -39.5309
  MINIMUM_LATITUDE = -39.6313
  POSITIVE_LONGITUDE_DIRECTION = EAST
  REFERENCE_LATITUDE = "N/A"
  REFERENCE_LONGITUDE = "N/A"
  SAMPLE_FIRST_PIXEL = 1
  SAMPLE_LAST_PIXEL = 1261
  SAMPLE_PROJECTION_OFFSET = -1216.0
  SECOND_STANDARD_PARALLEL = "N/A"
  WESTERNMOST_LONGITUDE = 90.1332
END_OBJECT = IMAGE_MAP_PROJECTION
/* The JPEG2000 image data file associated with this label. */
OBJECT = COMPRESSED_FILE
  FILE_NAME = "H0010_0003_SR3.JP2"
  RECORD_TYPE = UNDEFINED
  FILE_RECORDS = UNK
  ENCODING_TYPE = "JP2"
  INTERCHANGE_FORMAT = BINARY
  UNCOMPRESSED_FILE_NAME = "H0010_0003_SR3.IMG"
  REQUIRED_STORAGE_BYTES = "1590121"
  ^DESCRIPTION = "JP2INFO.TXT"
END_OBJECT = COMPRESSED_FILE
END
