PDS_VERSION_ID = PDS3
/* FILE DATA ELEMENTS */
RECORD_TYPE = STREAM
/* POINTERS TO DATA OBJECTS */
^COMPRESSED_FILE = "H0010_0009_RE3.JP2"
/* IDENTIFICATION DATA ELEMENTS */
DATA_SET_ID = "MEX-M-HRSC-5-REFDR-MAPPROJECTED-V3.0"
DATA_SET_NAME = "MARS EXPRESS HRSC MAP PROJECTED REFDR V3.0"
DETECTOR_ID = MEX_HRSC_RED
EVENT_TYPE = "MARS-REGIONAL-MAPPING-Vo-Im-Tc"
INSTRUMENT_HOST_ID = MEX
INSTRUMENT_HOST_NAME = "MARS EXPRESS"
INSTRUMENT_ID = HRSC
INSTRUMENT_NAME = "HIGH RESOLUTION STEREO CAMERA"
MISSION_NAME = "MARS EXPRESS"
MISSION_PHASE_NAME = MC_Phase_0
PROCESSING_LEVEL_ID = 3
PRODUCT_CREATION_TIME = 2016-03-02T10:19:25.000Z
PRODUCT_ID = "H0010_0009_RE3.JP2"
RELEASE_ID = 0001
REVISION_ID = 0000
/* QUALITY DATA ELEMENTS */
DATA_QUALITY_ID = 1
DATA_QUALITY_DESC = "Data calculated based on original SPICE kernels"
/* TIME DATA ELEMENTS */
SPACECRAFT_CLOCK_START_COUNT = "1/0021823325.32303"
SPACECRAFT_CLOCK_STOP_COUNT = "1/0021823574.56834"
START_TIME = 2004-01-10T14:02:56.398Z
STOP_TIME = 2004-01-10T14:06:15.297Z
/* ORBITAL DATA ELEMENTS */
ASCENDING_NODE_LONGITUDE = 228.73
MAXIMUM_RESOLUTION = 45.6
FOOTPRINT_POINT_LATITUDE = (-4.91102,-4.9144,-4.91687,-4.92446, -4.66697,-4.2842,-4.02861,-3.77498, -3.51623,-3.1305,-2.87357,-2.61745, -2.35794,-2.10096,-1.8386,-1.45269, -1.19435,-0.80726,-0.544171,-0.271365, -0.0049546,0.263549,0.666873,0.940573, 1.21476,1.49036,1.76224,2.16961,2.5886, 3.02067,3.30239,3.58685,3.87078,4.2951, 4.58563,4.87959,5.3202,5.61375,5.90775, 6.20132,6.5059,6.81057,7.11542,7.57264, 7.87944,8.19514,8.35309,8.51094,8.66904 ,8.82697,9.0224,9.02381,9.0267,9.02861, 8.87305,8.55737,8.39949,8.24164,8.08376 ,7.77025,7.46545,7.16068,6.85584, 6.39899,5.95114,5.65756,5.36355,4.92296 ,4.62946,4.18888,3.91058,3.6267,3.33989 ,3.06209,2.63152,2.34567,2.06923, 1.66338,1.39252,1.12406,0.850244, 0.579456,0.172592,-0.0966294,-0.367698, -0.768806,-1.02754,-1.41563,-1.80083, -2.05963,-2.3176,-2.69686,-2.9534, -3.34313,-3.60852,-3.86411,-4.12057, -4.50483,-4.76167,-4.91102)
FOOTPRINT_POINT_LONGITUDE = (90.7307,90.4382,90.1747,89.9924, 89.9932,89.9952,89.9963,89.9979,89.9984 ,89.9995,90.0003,90.0012,90.0013,90.002 ,90.0015,90.0023,90.0026,90.0031, 90.0031,90.0025,90.0033,90.0035,90.0037 ,90.0027,90.0016,90.0001,89.9994, 89.9984,89.9981,89.995,89.9942,89.9928, 89.9915,89.9898,89.9885,89.9872,89.9851 ,89.9837,89.9821,89.9805,89.9788,89.977 ,89.9751,89.9722,89.9701,89.9679, 89.9668,89.9656,89.9644,89.9632,90.0696 ,90.2377,90.5548,90.7341,91.0256, 91.0223,91.0206,91.019,91.0174,91.0143, 91.0115,91.0087,91.006,91.0024,90.9986, 90.9965,90.9943,90.9912,90.9894,90.9832 ,90.9836,90.9814,90.9779,90.9787, 90.9733,90.9703,90.9696,90.9685,90.9676 ,90.9679,90.9656,90.9648,90.9632, 90.9632,90.9623,90.9609,90.9607,90.9603 ,90.9614,90.9611,90.9612,90.965,90.9657 ,90.9643,90.9606,90.9617,90.9623, 90.9633,90.9636,90.7307)
ORBIT_NUMBER = 10
ORBITAL_ECCENTRICITY = 0.717
ORBITAL_INCLINATION = 86.63
ORBITAL_SEMIMAJOR_AXIS = 12956.1
PERIAPSIS_ALTITUDE = 274.15
PERIAPSIS_ARGUMENT_ANGLE = 357.88
PERIAPSIS_TIME = 2004-01-10T14:03:56.000Z
SPACECRAFT_ORIENTATION = (0.0,1.0,0.0)
^MEX_ORIENTATION_DESC = "MEX_ORIENTATION_DESC.TXT"
SPACECRAFT_POINTING_MODE = NADIR
^MEX_POINTING_DESC = "MEX_POINTING_DESC.TXT"
RIGHT_ASCENSION = -1e+32
DECLINATION = -1e+32
OFFSET_ANGLE = -1e+32
SPACECRAFT_SOLAR_DISTANCE = 2.22398e+08
TARGET_NAME = MARS
/* CAMERA DATA ELEMENTS */
DETECTOR_TEMPERATURE = 20.6134
FOCAL_PLANE_TEMPERATURE = 9.195
INST_CMPRS_NAME = "DISCRETE COSINE TRANSFORMATION (DCT)"
INST_CMPRS_RATIO = 37.1837
INST_CMPRS_QUALITY = 3
INST_CMPRS_QUANTZ_TBL_ID = 0
INSTRUMENT_TEMPERATURE = 13.0691
LENS_TEMPERATURE = 9.3989
MACROPIXEL_SIZE = 4
MISSING_FRAMES = 0
PIXEL_SUBSAMPLING_FLAG = N
SIGNAL_CHAIN_ID = 2
/* RADIOMETRIC DATA ELEMENTS */
BANDWIDTH = 48.0
CENTER_FILTER_WAVELENGTH = 748.0
RADIANCE_OFFSET = 1.49758
RADIANCE_SCALING_FACTOR = 0.00623242
REFLECTANCE_SCALING_FACTOR = 0.000703468
MEX:REFLECTANCE_OFFSET = 0.169035
/* IMAGE OBJECT DEFINITIONS */
OBJECT = IMAGE
  INTERCHANGE_FORMAT = BINARY
  LINES = 16093
  LINE_SAMPLES = 1293
  SAMPLE_TYPE = UNSIGNED_INTEGER
  SAMPLE_BITS = 8
  BANDS = 1
  BAND_STORAGE_TYPE = BAND_SEQUENTIAL
  MAXIMUM = 305
  MEAN = 225.897
  MINIMUM = 141
  STANDARD_DEVIATION = 88.9969
END_OBJECT = IMAGE
/* MAP OBJECT DEFINITIONS */
OBJECT = IMAGE_MAP_PROJECTION
  ^DATA_SET_MAP_PROJECTION_CATALOG= "DSMAP.CAT"
  A_AXIS_RADIUS = 3396.0
  B_AXIS_RADIUS = 3396.0
  C_AXIS_RADIUS = 3396.0
  CENTER_LATITUDE = 0.0
  CENTER_LONGITUDE = 90.0
  COORDINATE_SYSTEM_NAME = PLANETOGRAPHIC
  COORDINATE_SYSTEM_TYPE = "BODY-FIXED ROTATING"
  EASTERNMOST_LONGITUDE = 91.0256
  FIRST_STANDARD_PARALLEL = "N/A"
  LINE_FIRST_PIXEL = 1
  LINE_LAST_PIXEL = 16093
  LINE_PROJECTION_OFFSET = 7102.375
  MAP_PROJECTION_ROTATION = 0.0
  MAP_PROJECTION_TYPE = SINUSOIDAL
  MAP_RESOLUTION = 1185.42760773333
  MAP_SCALE = 0.05
  MAXIMUM_LATITUDE = 9.02861
  MINIMUM_LATITUDE = -4.92446
  POSITIVE_LONGITUDE_DIRECTION = EAST
  REFERENCE_LATITUDE = "N/A"
  REFERENCE_LONGITUDE = "N/A"
  SAMPLE_FIRST_PIXEL = 1
  SAMPLE_LAST_PIXEL = 1293
  SAMPLE_PROJECTION_OFFSET = 57.375
  SECOND_STANDARD_PARALLEL = "N/A"
  WESTERNMOST_LONGITUDE = 89.9632
END_OBJECT = IMAGE_MAP_PROJECTION
/* The JPEG2000 image data file associated with this label. */
OBJECT = COMPRESSED_FILE
  FILE_NAME = "H0010_0009_RE3.JP2"
  RECORD_TYPE = UNDEFINED
  FILE_RECORDS = UNK
  ENCODING_TYPE = "JP2"
  INTERCHANGE_FORMAT = BINARY
  UNCOMPRESSED_FILE_NAME = "H0010_0009_RE3.IMG"
  REQUIRED_STORAGE_BYTES = "20827644"
  ^DESCRIPTION = "JP2INFO.TXT"
END_OBJECT = COMPRESSED_FILE
END
