PDS_VERSION_ID = PDS3
/* FILE DATA ELEMENTS */
RECORD_TYPE = STREAM
/* POINTERS TO DATA OBJECTS */
^COMPRESSED_FILE = "H0010_0015_SR3.JP2"
/* IDENTIFICATION DATA ELEMENTS */
DATA_SET_ID = "MEX-M-HRSC-5-REFDR-MAPPROJECTED-V3.0"
DATA_SET_NAME = "MARS EXPRESS HRSC MAP PROJECTED REFDR V3.0"
DETECTOR_ID = MEX_HRSC_SRC
EVENT_TYPE = "MARS-REGIONAL-MAPPING-Vo-Im-Tc"
INSTRUMENT_HOST_ID = MEX
INSTRUMENT_HOST_NAME = "MARS EXPRESS"
INSTRUMENT_ID = HRSC
INSTRUMENT_NAME = "HIGH RESOLUTION STEREO CAMERA"
MISSION_NAME = "MARS EXPRESS"
MISSION_PHASE_NAME = MC_Phase_0
PROCESSING_LEVEL_ID = 3
PRODUCT_CREATION_TIME = 2016-03-02T10:19:25.000Z
PRODUCT_ID = "H0010_0015_SR3.JP2"
RELEASE_ID = 0001
REVISION_ID = 0000
/* QUALITY DATA ELEMENTS */
DATA_QUALITY_ID = 1
DATA_QUALITY_DESC = "Data calculated based on original SPICE kernels"
/* TIME DATA ELEMENTS */
SPACECRAFT_CLOCK_START_COUNT = "1/0021823325.32303"
SPACECRAFT_CLOCK_STOP_COUNT = "1/0021823574.56834"
IMAGE_TIME = 2004-01-10T14:02:53.459Z
START_TIME = 2004-01-10T14:02:53.457Z
STOP_TIME = 2004-01-10T14:02:53.460Z
/* ORBITAL DATA ELEMENTS */
ASCENDING_NODE_LONGITUDE = 228.73
MAXIMUM_RESOLUTION = 2.535
FOOTPRINT_POINT_LATITUDE = (-6.50456,-6.50238,-6.50045,-6.49891, -6.49772,-6.49626,-6.49438,-6.4919, -6.49036,-6.48874,-6.4872,-6.48596, -6.48451,-6.48211,-6.48023,-6.47895, -6.47728,-6.47596,-6.47446,-6.47203, -6.47049,-6.46818,-6.4663,-6.46489, -6.46219,-6.46219,-6.46219,-6.46219, -6.46219,-6.46219,-6.46219,-6.46219, -6.46219,-6.46219,-6.46219,-6.46219, -6.4622,-6.4622,-6.4622,-6.4622,-6.4622 ,-6.4622,-6.4622,-6.4622,-6.4622, -6.4622,-6.4622,-6.4622,-6.4622, -6.46288,-6.46438,-6.466,-6.46827, -6.46938,-6.47066,-6.4719,-6.47383, -6.47622,-6.47806,-6.4793,-6.48063, -6.48298,-6.48512,-6.48678,-6.48901, -6.49051,-6.49175,-6.49358,-6.49521, -6.49658,-6.49812,-6.50017,-6.50179, -6.50427,-6.50526,-6.50526,-6.50526, -6.50526,-6.50526,-6.50525,-6.50525, -6.50525,-6.50525,-6.50525,-6.50525, -6.50525,-6.50525,-6.50525,-6.50525, -6.50525,-6.50525,-6.50525,-6.50525, -6.50524,-6.50524,-6.50524,-6.50524, -6.50524,-6.50524,-6.50456)
FOOTPRINT_POINT_LONGITUDE = (90.4566,90.4566,90.4566,90.4566, 90.4566,90.4566,90.4566,90.4566,90.4566 ,90.4566,90.4566,90.4566,90.4566, 90.4566,90.4566,90.4566,90.4566,90.4566 ,90.4566,90.4566,90.4566,90.4566, 90.4566,90.4566,90.4567,90.4584,90.4601 ,90.4619,90.4636,90.4653,90.467,90.4687 ,90.4705,90.4722,90.4739,90.4756, 90.4774,90.4791,90.4808,90.4825,90.4842 ,90.486,90.4877,90.4894,90.4911,90.4929 ,90.4946,90.4963,90.498,90.5,90.5,90.5, 90.5,90.5,90.5,90.5,90.5,90.5,90.5,90.5 ,90.5,90.5,90.5,90.5,90.5,90.5,90.5, 90.5,90.5,90.5,90.5,90.5,90.5,90.5, 90.4991,90.4974,90.4957,90.4939,90.4922 ,90.4905,90.4888,90.487,90.4853,90.4836 ,90.4819,90.4801,90.4784,90.4767,90.475 ,90.4733,90.4715,90.4698,90.4681, 90.4664,90.4646,90.4629,90.4612,90.4595 ,90.4577,90.4566)
ORBIT_NUMBER = 10
ORBITAL_ECCENTRICITY = 0.717
ORBITAL_INCLINATION = 86.63
ORBITAL_SEMIMAJOR_AXIS = 12956.1
PERIAPSIS_ALTITUDE = 274.15
PERIAPSIS_ARGUMENT_ANGLE = 357.88
PERIAPSIS_TIME = 2004-01-10T14:03:56.000Z
SPACECRAFT_ORIENTATION = (0.0,1.0,0.0)
^MEX_ORIENTATION_DESC = "MEX_ORIENTATION_DESC.TXT"
SPACECRAFT_POINTING_MODE = NADIR
^MEX_POINTING_DESC = "MEX_POINTING_DESC.TXT"
RIGHT_ASCENSION = -1e+32
DECLINATION = -1e+32
OFFSET_ANGLE = -1e+32
SPACECRAFT_SOLAR_DISTANCE = 2.22398e+08
TARGET_NAME = MARS
/* CAMERA DATA ELEMENTS */
BUFFER_MODE_ID = DIRECT
EXPOSURE_DURATION = 3.024
INST_CMPRS_NAME = "DISCRETE COSINE TRANSFORMATION (DCT)"
INST_CMPRS_RATIO = 17.5451
INST_CMPRS_QUALITY = 0
INST_CMPRS_QUANTZ_TBL_ID = 0
INSTRUMENT_TEMPERATURE = 14.2424
MISSING_FRAMES = 0
START_BIT = 0
/* RADIOMETRIC DATA ELEMENTS */
BANDWIDTH = 250.0
CENTER_FILTER_WAVELENGTH = 600.0
RADIANCE_OFFSET = -9.99e+31
RADIANCE_SCALING_FACTOR = -9.99e+31
REFLECTANCE_SCALING_FACTOR = -9.99e+31
MEX:REFLECTANCE_OFFSET = -9.99e+31
/* IMAGE OBJECT DEFINITIONS */
OBJECT = IMAGE
  INTERCHANGE_FORMAT = BINARY
  LINES = 1062
  LINE_SAMPLES = 1064
  SAMPLE_TYPE = UNSIGNED_INTEGER
  SAMPLE_BITS = 8
  BANDS = 1
  BAND_STORAGE_TYPE = BAND_SEQUENTIAL
  MAXIMUM = 4146
  MEAN = 3531.37
  MINIMUM = 3017
  STANDARD_DEVIATION = 70.5512
END_OBJECT = IMAGE
/* MAP OBJECT DEFINITIONS */
OBJECT = IMAGE_MAP_PROJECTION
  ^DATA_SET_MAP_PROJECTION_CATALOG= "DSMAP.CAT"
  A_AXIS_RADIUS = 3396.19
  B_AXIS_RADIUS = 3396.19
  C_AXIS_RADIUS = 3396.19
  CENTER_LATITUDE = 0.0
  CENTER_LONGITUDE = 90.0
  COORDINATE_SYSTEM_NAME = PLANETOGRAPHIC
  COORDINATE_SYSTEM_TYPE = "BODY-FIXED ROTATING"
  EASTERNMOST_LONGITUDE = 90.5
  FIRST_STANDARD_PARALLEL = "N/A"
  LINE_FIRST_PIXEL = 1
  LINE_LAST_PIXEL = 1062
  LINE_PROJECTION_OFFSET = -153195.0
  MAP_PROJECTION_ROTATION = 0.0
  MAP_PROJECTION_TYPE = SINUSOIDAL
  MAP_RESOLUTION = 23709.8786048756
  MAP_SCALE = 0.0025
  MAXIMUM_LATITUDE = -6.46219
  MINIMUM_LATITUDE = -6.50526
  POSITIVE_LONGITUDE_DIRECTION = EAST
  REFERENCE_LATITUDE = "N/A"
  REFERENCE_LONGITUDE = "N/A"
  SAMPLE_FIRST_PIXEL = 1
  SAMPLE_LAST_PIXEL = 1064
  SAMPLE_PROJECTION_OFFSET = -10738.0
  SECOND_STANDARD_PARALLEL = "N/A"
  WESTERNMOST_LONGITUDE = 90.45659999999999
END_OBJECT = IMAGE_MAP_PROJECTION
/* The JPEG2000 image data file associated with this label. */
OBJECT = COMPRESSED_FILE
  FILE_NAME = "H0010_0015_SR3.JP2"
  RECORD_TYPE = UNDEFINED
  FILE_RECORDS = UNK
  ENCODING_TYPE = "JP2"
  INTERCHANGE_FORMAT = BINARY
  UNCOMPRESSED_FILE_NAME = "H0010_0015_SR3.IMG"
  REQUIRED_STORAGE_BYTES = "1148056"
  ^DESCRIPTION = "JP2INFO.TXT"
END_OBJECT = COMPRESSED_FILE
END
