PDS_VERSION_ID = PDS3
/* FILE DATA ELEMENTS */
RECORD_TYPE = STREAM
/* POINTERS TO DATA OBJECTS */
^COMPRESSED_FILE = "H0010_0017_SR3.JP2"
/* IDENTIFICATION DATA ELEMENTS */
DATA_SET_ID = "MEX-M-HRSC-5-REFDR-MAPPROJECTED-V3.0"
DATA_SET_NAME = "MARS EXPRESS HRSC MAP PROJECTED REFDR V3.0"
DETECTOR_ID = MEX_HRSC_SRC
EVENT_TYPE = "MARS-REGIONAL-MAPPING-Vo-Im-Tc"
INSTRUMENT_HOST_ID = MEX
INSTRUMENT_HOST_NAME = "MARS EXPRESS"
INSTRUMENT_ID = HRSC
INSTRUMENT_NAME = "HIGH RESOLUTION STEREO CAMERA"
MISSION_NAME = "MARS EXPRESS"
MISSION_PHASE_NAME = MC_Phase_0
PROCESSING_LEVEL_ID = 3
PRODUCT_CREATION_TIME = 2016-03-02T10:19:25.000Z
PRODUCT_ID = "H0010_0017_SR3.JP2"
RELEASE_ID = 0001
REVISION_ID = 0000
/* QUALITY DATA ELEMENTS */
DATA_QUALITY_ID = 1
DATA_QUALITY_DESC = "Data calculated based on original SPICE kernels"
/* TIME DATA ELEMENTS */
SPACECRAFT_CLOCK_START_COUNT = "1/0021823325.32303"
SPACECRAFT_CLOCK_STOP_COUNT = "1/0021823574.56834"
IMAGE_TIME = 2004-01-10T14:02:54.549Z
START_TIME = 2004-01-10T14:02:54.547Z
STOP_TIME = 2004-01-10T14:02:54.550Z
/* ORBITAL DATA ELEMENTS */
ASCENDING_NODE_LONGITUDE = 228.73
MAXIMUM_RESOLUTION = 2.533
FOOTPRINT_POINT_LATITUDE = (-6.42794,-6.42674,-6.4246,-6.42196, -6.41965,-6.41824,-6.41632,-6.41418, -6.41268,-6.4111,-6.40995,-6.40824, -6.40709,-6.40529,-6.4026,-6.40094, -6.39957,-6.39807,-6.39602,-6.39427, -6.39175,-6.38978,-6.38855,-6.38743, -6.38637,-6.38637,-6.38637,-6.38637, -6.38637,-6.38637,-6.38637,-6.38637, -6.38637,-6.38637,-6.38637,-6.38637, -6.38637,-6.38637,-6.38637,-6.38637, -6.38637,-6.38637,-6.38637,-6.38637, -6.38637,-6.38637,-6.38637,-6.38637, -6.38637,-6.38697,-6.38829,-6.39051, -6.39231,-6.3947,-6.39701,-6.39872, -6.40009,-6.40158,-6.40381,-6.40522, -6.40658,-6.40821,-6.40932,-6.41137, -6.4127,-6.41445,-6.41565,-6.41727, -6.41847,-6.42069,-6.42231,-6.42381, -6.4262,-6.4286,-6.42941,-6.42941, -6.42941,-6.4294,-6.4294,-6.4294, -6.4294,-6.4294,-6.4294,-6.4294,-6.4294 ,-6.4294,-6.4294,-6.4294,-6.4294, -6.4294,-6.4294,-6.42939,-6.42939, -6.42939,-6.42939,-6.42939,-6.42939, -6.42939,-6.42939,-6.42794)
FOOTPRINT_POINT_LONGITUDE = (90.4567,90.4567,90.4567,90.4567, 90.4567,90.4567,90.4567,90.4567,90.4567 ,90.4567,90.4567,90.4567,90.4567, 90.4567,90.4567,90.4567,90.4567,90.4567 ,90.4567,90.4567,90.4567,90.4567, 90.4567,90.4567,90.4572,90.4589,90.4606 ,90.4624,90.4641,90.4658,90.4675, 90.4692,90.471,90.4727,90.4744,90.4761, 90.4779,90.4796,90.4813,90.483,90.4847, 90.4865,90.4882,90.4899,90.4916,90.4933 ,90.4951,90.4968,90.4985,90.5001, 90.5001,90.5001,90.5001,90.5001,90.5001 ,90.5001,90.5001,90.5001,90.5001, 90.5001,90.5001,90.5001,90.5001,90.5001 ,90.5001,90.5001,90.5001,90.5001, 90.5001,90.5001,90.5001,90.5001,90.5001 ,90.5001,90.4983,90.4966,90.4948, 90.4931,90.4914,90.4897,90.488,90.4862, 90.4845,90.4828,90.4811,90.4793,90.4776 ,90.4759,90.4742,90.4725,90.4707,90.469 ,90.4673,90.4656,90.4639,90.4621, 90.4604,90.4587,90.457,90.4567)
ORBIT_NUMBER = 10
ORBITAL_ECCENTRICITY = 0.717
ORBITAL_INCLINATION = 86.63
ORBITAL_SEMIMAJOR_AXIS = 12956.1
PERIAPSIS_ALTITUDE = 274.15
PERIAPSIS_ARGUMENT_ANGLE = 357.88
PERIAPSIS_TIME = 2004-01-10T14:03:56.000Z
SPACECRAFT_ORIENTATION = (0.0,1.0,0.0)
^MEX_ORIENTATION_DESC = "MEX_ORIENTATION_DESC.TXT"
SPACECRAFT_POINTING_MODE = NADIR
^MEX_POINTING_DESC = "MEX_POINTING_DESC.TXT"
RIGHT_ASCENSION = -1e+32
DECLINATION = -1e+32
OFFSET_ANGLE = -1e+32
SPACECRAFT_SOLAR_DISTANCE = 2.22398e+08
TARGET_NAME = MARS
/* CAMERA DATA ELEMENTS */
BUFFER_MODE_ID = DIRECT
EXPOSURE_DURATION = 3.024
INST_CMPRS_NAME = "DISCRETE COSINE TRANSFORMATION (DCT)"
INST_CMPRS_RATIO = 17.581
INST_CMPRS_QUALITY = 0
INST_CMPRS_QUANTZ_TBL_ID = 0
INSTRUMENT_TEMPERATURE = 14.2424
MISSING_FRAMES = 0
START_BIT = 0
/* RADIOMETRIC DATA ELEMENTS */
BANDWIDTH = 250.0
CENTER_FILTER_WAVELENGTH = 600.0
RADIANCE_OFFSET = -9.99e+31
RADIANCE_SCALING_FACTOR = -9.99e+31
REFLECTANCE_SCALING_FACTOR = -9.99e+31
MEX:REFLECTANCE_OFFSET = -9.99e+31
/* IMAGE OBJECT DEFINITIONS */
OBJECT = IMAGE
  INTERCHANGE_FORMAT = BINARY
  LINES = 1061
  LINE_SAMPLES = 1064
  SAMPLE_TYPE = UNSIGNED_INTEGER
  SAMPLE_BITS = 8
  BANDS = 1
  BAND_STORAGE_TYPE = BAND_SEQUENTIAL
  MAXIMUM = 4136
  MEAN = 3529.59
  MINIMUM = 3046
  STANDARD_DEVIATION = 68.5032
END_OBJECT = IMAGE
/* MAP OBJECT DEFINITIONS */
OBJECT = IMAGE_MAP_PROJECTION
  ^DATA_SET_MAP_PROJECTION_CATALOG= "DSMAP.CAT"
  A_AXIS_RADIUS = 3396.19
  B_AXIS_RADIUS = 3396.19
  C_AXIS_RADIUS = 3396.19
  CENTER_LATITUDE = 0.0
  CENTER_LONGITUDE = 90.0
  COORDINATE_SYSTEM_NAME = PLANETOGRAPHIC
  COORDINATE_SYSTEM_TYPE = "BODY-FIXED ROTATING"
  EASTERNMOST_LONGITUDE = 90.5001
  FIRST_STANDARD_PARALLEL = "N/A"
  LINE_FIRST_PIXEL = 1
  LINE_LAST_PIXEL = 1061
  LINE_PROJECTION_OFFSET = -151398.0
  MAP_PROJECTION_ROTATION = 0.0
  MAP_PROJECTION_TYPE = SINUSOIDAL
  MAP_RESOLUTION = 23709.8786048756
  MAP_SCALE = 0.0025
  MAXIMUM_LATITUDE = -6.38637
  MINIMUM_LATITUDE = -6.42941
  POSITIVE_LONGITUDE_DIRECTION = EAST
  REFERENCE_LATITUDE = "N/A"
  REFERENCE_LONGITUDE = "N/A"
  SAMPLE_FIRST_PIXEL = 1
  SAMPLE_LAST_PIXEL = 1064
  SAMPLE_PROJECTION_OFFSET = -10741.0
  SECOND_STANDARD_PARALLEL = "N/A"
  WESTERNMOST_LONGITUDE = 90.4567
END_OBJECT = IMAGE_MAP_PROJECTION
/* The JPEG2000 image data file associated with this label. */
OBJECT = COMPRESSED_FILE
  FILE_NAME = "H0010_0017_SR3.JP2"
  RECORD_TYPE = UNDEFINED
  FILE_RECORDS = UNK
  ENCODING_TYPE = "JP2"
  INTERCHANGE_FORMAT = BINARY
  UNCOMPRESSED_FILE_NAME = "H0010_0017_SR3.IMG"
  REQUIRED_STORAGE_BYTES = "1148056"
  ^DESCRIPTION = "JP2INFO.TXT"
END_OBJECT = COMPRESSED_FILE
END
