PDS_VERSION_ID = PDS3
/* FILE DATA ELEMENTS */
RECORD_TYPE = STREAM
/* POINTERS TO DATA OBJECTS */
^COMPRESSED_FILE = "H0010_0018_SR3.JP2"
/* IDENTIFICATION DATA ELEMENTS */
DATA_SET_ID = "MEX-M-HRSC-5-REFDR-MAPPROJECTED-V3.0"
DATA_SET_NAME = "MARS EXPRESS HRSC MAP PROJECTED REFDR V3.0"
DETECTOR_ID = MEX_HRSC_SRC
EVENT_TYPE = "MARS-REGIONAL-MAPPING-Vo-Im-Tc"
INSTRUMENT_HOST_ID = MEX
INSTRUMENT_HOST_NAME = "MARS EXPRESS"
INSTRUMENT_ID = HRSC
INSTRUMENT_NAME = "HIGH RESOLUTION STEREO CAMERA"
MISSION_NAME = "MARS EXPRESS"
MISSION_PHASE_NAME = MC_Phase_0
PROCESSING_LEVEL_ID = 3
PRODUCT_CREATION_TIME = 2016-03-02T10:19:25.000Z
PRODUCT_ID = "H0010_0018_SR3.JP2"
RELEASE_ID = 0001
REVISION_ID = 0000
/* QUALITY DATA ELEMENTS */
DATA_QUALITY_ID = 1
DATA_QUALITY_DESC = "Data calculated based on original SPICE kernels"
/* TIME DATA ELEMENTS */
SPACECRAFT_CLOCK_START_COUNT = "1/0021823325.32303"
SPACECRAFT_CLOCK_STOP_COUNT = "1/0021823574.56834"
IMAGE_TIME = 2004-01-10T14:02:55.094Z
START_TIME = 2004-01-10T14:02:55.092Z
STOP_TIME = 2004-01-10T14:02:55.095Z
/* ORBITAL DATA ELEMENTS */
ASCENDING_NODE_LONGITUDE = 228.73
MAXIMUM_RESOLUTION = 2.533
FOOTPRINT_POINT_LATITUDE = (-6.39074,-6.38945,-6.38689,-6.3851, -6.38394,-6.38279,-6.38155,-6.38001, -6.37835,-6.37638,-6.37506,-6.37327, -6.37173,-6.36968,-6.3684,-6.36562, -6.36383,-6.36122,-6.35947,-6.35832, -6.35708,-6.3558,-6.3537,-6.35123, -6.3496,-6.34845,-6.34845,-6.34845, -6.34845,-6.34845,-6.34845,-6.34845, -6.34845,-6.34845,-6.34845,-6.34845, -6.34845,-6.34845,-6.34845,-6.34845, -6.34845,-6.34845,-6.34845,-6.34845, -6.34845,-6.34845,-6.34845,-6.34845, -6.34845,-6.34845,-6.34948,-6.35072, -6.35217,-6.35384,-6.35644,-6.35832, -6.35978,-6.36178,-6.36413,-6.36572, -6.36794,-6.36926,-6.3714,-6.37264, -6.3746,-6.37593,-6.37742,-6.37947, -6.38118,-6.38242,-6.38413,-6.38644, -6.3887,-6.39028,-6.39148,-6.39148, -6.39148,-6.39148,-6.39148,-6.39148, -6.39148,-6.39147,-6.39147,-6.39147, -6.39147,-6.39147,-6.39147,-6.39147, -6.39147,-6.39147,-6.39147,-6.39147, -6.39147,-6.39147,-6.39147,-6.39146, -6.39146,-6.39146,-6.39146,-6.39074)
FOOTPRINT_POINT_LONGITUDE = (90.4568,90.4568,90.4568,90.4568, 90.4568,90.4568,90.4568,90.4568,90.4568 ,90.4568,90.4568,90.4568,90.4568, 90.4568,90.4568,90.4568,90.4568,90.4568 ,90.4568,90.4568,90.4568,90.4568, 90.4568,90.4568,90.4568,90.4568,90.4585 ,90.4603,90.462,90.4637,90.4654,90.4671 ,90.4688,90.4706,90.4723,90.474,90.4757 ,90.4775,90.4792,90.4809,90.4826, 90.4843,90.4861,90.4878,90.4895,90.4912 ,90.4929,90.4947,90.4964,90.4981, 90.5001,90.5001,90.5001,90.5001,90.5001 ,90.5001,90.5001,90.5001,90.5001, 90.5001,90.5001,90.5001,90.5001,90.5001 ,90.5001,90.5001,90.5001,90.5001, 90.5001,90.5001,90.5001,90.5001,90.5001 ,90.5001,90.4992,90.4975,90.4957,90.494 ,90.4923,90.4906,90.4888,90.4871, 90.4854,90.4837,90.482,90.4802,90.4785, 90.4768,90.4751,90.4734,90.4716,90.4699 ,90.4682,90.4665,90.4648,90.463,90.4613 ,90.4596,90.4579,90.4568)
ORBIT_NUMBER = 10
ORBITAL_ECCENTRICITY = 0.717
ORBITAL_INCLINATION = 86.63
ORBITAL_SEMIMAJOR_AXIS = 12956.1
PERIAPSIS_ALTITUDE = 274.15
PERIAPSIS_ARGUMENT_ANGLE = 357.88
PERIAPSIS_TIME = 2004-01-10T14:03:56.000Z
SPACECRAFT_ORIENTATION = (0.0,1.0,0.0)
^MEX_ORIENTATION_DESC = "MEX_ORIENTATION_DESC.TXT"
SPACECRAFT_POINTING_MODE = NADIR
^MEX_POINTING_DESC = "MEX_POINTING_DESC.TXT"
RIGHT_ASCENSION = -1e+32
DECLINATION = -1e+32
OFFSET_ANGLE = -1e+32
SPACECRAFT_SOLAR_DISTANCE = 2.22398e+08
TARGET_NAME = MARS
/* CAMERA DATA ELEMENTS */
BUFFER_MODE_ID = DIRECT
EXPOSURE_DURATION = 3.024
INST_CMPRS_NAME = "DISCRETE COSINE TRANSFORMATION (DCT)"
INST_CMPRS_RATIO = 17.5539
INST_CMPRS_QUALITY = 0
INST_CMPRS_QUANTZ_TBL_ID = 0
INSTRUMENT_TEMPERATURE = 14.2424
MISSING_FRAMES = 0
START_BIT = 0
/* RADIOMETRIC DATA ELEMENTS */
BANDWIDTH = 250.0
CENTER_FILTER_WAVELENGTH = 600.0
RADIANCE_OFFSET = -9.99e+31
RADIANCE_SCALING_FACTOR = -9.99e+31
REFLECTANCE_SCALING_FACTOR = -9.99e+31
MEX:REFLECTANCE_OFFSET = -9.99e+31
/* IMAGE OBJECT DEFINITIONS */
OBJECT = IMAGE
  INTERCHANGE_FORMAT = BINARY
  LINES = 1061
  LINE_SAMPLES = 1063
  SAMPLE_TYPE = UNSIGNED_INTEGER
  SAMPLE_BITS = 8
  BANDS = 1
  BAND_STORAGE_TYPE = BAND_SEQUENTIAL
  MAXIMUM = 4145
  MEAN = 3556.66
  MINIMUM = 3053
  STANDARD_DEVIATION = 71.6748
END_OBJECT = IMAGE
/* MAP OBJECT DEFINITIONS */
OBJECT = IMAGE_MAP_PROJECTION
  ^DATA_SET_MAP_PROJECTION_CATALOG= "DSMAP.CAT"
  A_AXIS_RADIUS = 3396.19
  B_AXIS_RADIUS = 3396.19
  C_AXIS_RADIUS = 3396.19
  CENTER_LATITUDE = 0.0
  CENTER_LONGITUDE = 90.0
  COORDINATE_SYSTEM_NAME = PLANETOGRAPHIC
  COORDINATE_SYSTEM_TYPE = "BODY-FIXED ROTATING"
  EASTERNMOST_LONGITUDE = 90.5001
  FIRST_STANDARD_PARALLEL = "N/A"
  LINE_FIRST_PIXEL = 1
  LINE_LAST_PIXEL = 1061
  LINE_PROJECTION_OFFSET = -150499.0
  MAP_PROJECTION_ROTATION = 0.0
  MAP_PROJECTION_TYPE = SINUSOIDAL
  MAP_RESOLUTION = 23709.8786048756
  MAP_SCALE = 0.0025
  MAXIMUM_LATITUDE = -6.34845
  MINIMUM_LATITUDE = -6.39148
  POSITIVE_LONGITUDE_DIRECTION = EAST
  REFERENCE_LATITUDE = "N/A"
  REFERENCE_LONGITUDE = "N/A"
  SAMPLE_FIRST_PIXEL = 1
  SAMPLE_LAST_PIXEL = 1063
  SAMPLE_PROJECTION_OFFSET = -10743.0
  SECOND_STANDARD_PARALLEL = "N/A"
  WESTERNMOST_LONGITUDE = 90.4568
END_OBJECT = IMAGE_MAP_PROJECTION
/* The JPEG2000 image data file associated with this label. */
OBJECT = COMPRESSED_FILE
  FILE_NAME = "H0010_0018_SR3.JP2"
  RECORD_TYPE = UNDEFINED
  FILE_RECORDS = UNK
  ENCODING_TYPE = "JP2"
  INTERCHANGE_FORMAT = BINARY
  UNCOMPRESSED_FILE_NAME = "H0010_0018_SR3.IMG"
  REQUIRED_STORAGE_BYTES = "1146977"
  ^DESCRIPTION = "JP2INFO.TXT"
END_OBJECT = COMPRESSED_FILE
END
