PDS_VERSION_ID = PDS3
/* FILE DATA ELEMENTS */
RECORD_TYPE = STREAM
/* POINTERS TO DATA OBJECTS */
^COMPRESSED_FILE = "H0010_0021_SR3.JP2"
/* IDENTIFICATION DATA ELEMENTS */
DATA_SET_ID = "MEX-M-HRSC-5-REFDR-MAPPROJECTED-V3.0"
DATA_SET_NAME = "MARS EXPRESS HRSC MAP PROJECTED REFDR V3.0"
DETECTOR_ID = MEX_HRSC_SRC
EVENT_TYPE = "MARS-REGIONAL-MAPPING-Vo-Im-Tc"
INSTRUMENT_HOST_ID = MEX
INSTRUMENT_HOST_NAME = "MARS EXPRESS"
INSTRUMENT_ID = HRSC
INSTRUMENT_NAME = "HIGH RESOLUTION STEREO CAMERA"
MISSION_NAME = "MARS EXPRESS"
MISSION_PHASE_NAME = MC_Phase_0
PROCESSING_LEVEL_ID = 3
PRODUCT_CREATION_TIME = 2016-03-02T10:19:25.000Z
PRODUCT_ID = "H0010_0021_SR3.JP2"
RELEASE_ID = 0001
REVISION_ID = 0000
/* QUALITY DATA ELEMENTS */
DATA_QUALITY_ID = 1
DATA_QUALITY_DESC = "Data calculated based on original SPICE kernels"
/* TIME DATA ELEMENTS */
SPACECRAFT_CLOCK_START_COUNT = "1/0021823325.32303"
SPACECRAFT_CLOCK_STOP_COUNT = "1/0021823574.56834"
IMAGE_TIME = 2004-01-10T14:02:56.729Z
START_TIME = 2004-01-10T14:02:56.727Z
STOP_TIME = 2004-01-10T14:02:56.730Z
/* ORBITAL DATA ELEMENTS */
ASCENDING_NODE_LONGITUDE = 228.73
MAXIMUM_RESOLUTION = 2.531
FOOTPRINT_POINT_LATITUDE = (-6.27639,-6.27413,-6.27212,-6.27067, -6.26832,-6.2664,-6.26384,-6.26209, -6.2609,-6.25975,-6.25847,-6.25689, -6.25548,-6.2539,-6.25253,-6.25117, -6.24912,-6.24788,-6.24656,-6.24472, -6.24323,-6.24165,-6.23917,-6.23738, -6.23619,-6.23469,-6.23469,-6.23469, -6.23469,-6.23469,-6.23469,-6.23469, -6.23469,-6.23469,-6.23469,-6.23469, -6.23469,-6.23469,-6.23469,-6.23469, -6.23469,-6.2347,-6.2347,-6.2347, -6.2347,-6.2347,-6.2347,-6.2347,-6.2347 ,-6.2347,-6.23576,-6.23747,-6.23892, -6.24063,-6.24276,-6.24443,-6.24631, -6.2478,-6.24964,-6.25079,-6.25258, -6.25544,-6.25673,-6.25784,-6.25976, -6.26125,-6.26356,-6.26625,-6.26804, -6.26919,-6.2703,-6.27274,-6.27504, -6.27769,-6.27769,-6.27769,-6.27769, -6.27769,-6.27768,-6.27768,-6.27768, -6.27768,-6.27768,-6.27768,-6.27768, -6.27768,-6.27768,-6.27768,-6.27768, -6.27768,-6.27768,-6.27768,-6.27767, -6.27767,-6.27767,-6.27767,-6.27767, -6.27767,-6.27767,-6.27639)
FOOTPRINT_POINT_LONGITUDE = (90.4569,90.4569,90.4569,90.4569, 90.4569,90.4569,90.4569,90.4569,90.4569 ,90.4569,90.4569,90.4569,90.4569, 90.4569,90.4569,90.4569,90.4569,90.4569 ,90.4569,90.4569,90.4569,90.4569, 90.4569,90.4569,90.4569,90.4578,90.4595 ,90.4612,90.4629,90.4647,90.4664, 90.4681,90.4698,90.4715,90.4733,90.475, 90.4767,90.4784,90.4801,90.4818,90.4836 ,90.4853,90.487,90.4887,90.4904,90.4922 ,90.4939,90.4956,90.4973,90.499,90.5002 ,90.5002,90.5002,90.5002,90.5002, 90.5002,90.5002,90.5002,90.5002,90.5002 ,90.5002,90.5002,90.5002,90.5002, 90.5002,90.5002,90.5002,90.5002,90.5002 ,90.5002,90.5002,90.5002,90.5002, 90.5001,90.4984,90.4967,90.4949,90.4932 ,90.4915,90.4898,90.4881,90.4864, 90.4846,90.4829,90.4812,90.4795,90.4778 ,90.476,90.4743,90.4726,90.4709,90.4692 ,90.4674,90.4657,90.464,90.4623,90.4606 ,90.4588,90.4571,90.4569)
ORBIT_NUMBER = 10
ORBITAL_ECCENTRICITY = 0.717
ORBITAL_INCLINATION = 86.63
ORBITAL_SEMIMAJOR_AXIS = 12956.1
PERIAPSIS_ALTITUDE = 274.15
PERIAPSIS_ARGUMENT_ANGLE = 357.88
PERIAPSIS_TIME = 2004-01-10T14:03:56.000Z
SPACECRAFT_ORIENTATION = (0.0,1.0,0.0)
^MEX_ORIENTATION_DESC = "MEX_ORIENTATION_DESC.TXT"
SPACECRAFT_POINTING_MODE = NADIR
^MEX_POINTING_DESC = "MEX_POINTING_DESC.TXT"
RIGHT_ASCENSION = -1e+32
DECLINATION = -1e+32
OFFSET_ANGLE = -1e+32
SPACECRAFT_SOLAR_DISTANCE = 2.22398e+08
TARGET_NAME = MARS
/* CAMERA DATA ELEMENTS */
BUFFER_MODE_ID = DIRECT
EXPOSURE_DURATION = 3.024
INST_CMPRS_NAME = "DISCRETE COSINE TRANSFORMATION (DCT)"
INST_CMPRS_RATIO = 17.6324
INST_CMPRS_QUALITY = 0
INST_CMPRS_QUANTZ_TBL_ID = 0
INSTRUMENT_TEMPERATURE = 14.2424
MISSING_FRAMES = 0
START_BIT = 0
/* RADIOMETRIC DATA ELEMENTS */
BANDWIDTH = 250.0
CENTER_FILTER_WAVELENGTH = 600.0
RADIANCE_OFFSET = -9.99e+31
RADIANCE_SCALING_FACTOR = -9.99e+31
REFLECTANCE_SCALING_FACTOR = -9.99e+31
MEX:REFLECTANCE_OFFSET = -9.99e+31
/* IMAGE OBJECT DEFINITIONS */
OBJECT = IMAGE
  INTERCHANGE_FORMAT = BINARY
  LINES = 1060
  LINE_SAMPLES = 1062
  SAMPLE_TYPE = UNSIGNED_INTEGER
  SAMPLE_BITS = 8
  BANDS = 1
  BAND_STORAGE_TYPE = BAND_SEQUENTIAL
  MAXIMUM = 4149
  MEAN = 3542.13
  MINIMUM = 2946
  STANDARD_DEVIATION = 110.053
END_OBJECT = IMAGE
/* MAP OBJECT DEFINITIONS */
OBJECT = IMAGE_MAP_PROJECTION
  ^DATA_SET_MAP_PROJECTION_CATALOG= "DSMAP.CAT"
  A_AXIS_RADIUS = 3396.19
  B_AXIS_RADIUS = 3396.19
  C_AXIS_RADIUS = 3396.19
  CENTER_LATITUDE = 0.0
  CENTER_LONGITUDE = 90.0
  COORDINATE_SYSTEM_NAME = PLANETOGRAPHIC
  COORDINATE_SYSTEM_TYPE = "BODY-FIXED ROTATING"
  EASTERNMOST_LONGITUDE = 90.50020000000001
  FIRST_STANDARD_PARALLEL = "N/A"
  LINE_FIRST_PIXEL = 1
  LINE_LAST_PIXEL = 1060
  LINE_PROJECTION_OFFSET = -147802.0
  MAP_PROJECTION_ROTATION = 0.0
  MAP_PROJECTION_TYPE = SINUSOIDAL
  MAP_RESOLUTION = 23709.8786048756
  MAP_SCALE = 0.0025
  MAXIMUM_LATITUDE = -6.23469
  MINIMUM_LATITUDE = -6.27769
  POSITIVE_LONGITUDE_DIRECTION = EAST
  REFERENCE_LATITUDE = "N/A"
  REFERENCE_LONGITUDE = "N/A"
  SAMPLE_FIRST_PIXEL = 1
  SAMPLE_LAST_PIXEL = 1062
  SAMPLE_PROJECTION_OFFSET = -10748.0
  SECOND_STANDARD_PARALLEL = "N/A"
  WESTERNMOST_LONGITUDE = 90.4569
END_OBJECT = IMAGE_MAP_PROJECTION
/* The JPEG2000 image data file associated with this label. */
OBJECT = COMPRESSED_FILE
  FILE_NAME = "H0010_0021_SR3.JP2"
  RECORD_TYPE = UNDEFINED
  FILE_RECORDS = UNK
  ENCODING_TYPE = "JP2"
  INTERCHANGE_FORMAT = BINARY
  UNCOMPRESSED_FILE_NAME = "H0010_0021_SR3.IMG"
  REQUIRED_STORAGE_BYTES = "1144836"
  ^DESCRIPTION = "JP2INFO.TXT"
END_OBJECT = COMPRESSED_FILE
END
