PDS_VERSION_ID = PDS3
/* FILE DATA ELEMENTS */
RECORD_TYPE = STREAM
/* POINTERS TO DATA OBJECTS */
^COMPRESSED_FILE = "H0010_0030_SR3.JP2"
/* IDENTIFICATION DATA ELEMENTS */
DATA_SET_ID = "MEX-M-HRSC-5-REFDR-MAPPROJECTED-V3.0"
DATA_SET_NAME = "MARS EXPRESS HRSC MAP PROJECTED REFDR V3.0"
DETECTOR_ID = MEX_HRSC_SRC
EVENT_TYPE = "MARS-REGIONAL-MAPPING-Vo-Im-Tc"
INSTRUMENT_HOST_ID = MEX
INSTRUMENT_HOST_NAME = "MARS EXPRESS"
INSTRUMENT_ID = HRSC
INSTRUMENT_NAME = "HIGH RESOLUTION STEREO CAMERA"
MISSION_NAME = "MARS EXPRESS"
MISSION_PHASE_NAME = MC_Phase_0
PROCESSING_LEVEL_ID = 3
PRODUCT_CREATION_TIME = 2016-03-02T10:19:25.000Z
PRODUCT_ID = "H0010_0030_SR3.JP2"
RELEASE_ID = 0001
REVISION_ID = 0000
/* QUALITY DATA ELEMENTS */
DATA_QUALITY_ID = 1
DATA_QUALITY_DESC = "Data calculated based on original SPICE kernels"
/* TIME DATA ELEMENTS */
SPACECRAFT_CLOCK_START_COUNT = "1/0021823325.32303"
SPACECRAFT_CLOCK_STOP_COUNT = "1/0021823574.56834"
IMAGE_TIME = 2004-01-10T14:03:18.530Z
START_TIME = 2004-01-10T14:03:18.528Z
STOP_TIME = 2004-01-10T14:03:18.531Z
/* ORBITAL DATA ELEMENTS */
ASCENDING_NODE_LONGITUDE = 228.73
MAXIMUM_RESOLUTION = 2.511
FOOTPRINT_POINT_LATITUDE = (-4.75739,-4.75536,-4.75371,-4.75197, -4.74977,-4.74812,-4.74588,-4.74359, -4.74215,-4.74062,-4.73906,-4.73694, -4.73554,-4.7333,-4.73144,-4.72978, -4.72839,-4.72614,-4.72483,-4.72347, -4.72123,-4.71979,-4.71793,-4.71661, -4.71661,-4.71661,-4.71661,-4.71661, -4.71661,-4.71661,-4.71661,-4.71661, -4.71661,-4.71661,-4.71661,-4.71661, -4.71661,-4.71661,-4.71661,-4.71661, -4.71661,-4.71661,-4.71661,-4.71661, -4.71661,-4.71661,-4.71661,-4.71661, -4.71661,-4.71813,-4.72013,-4.72144, -4.72254,-4.72368,-4.72551,-4.72661, -4.72788,-4.72923,-4.73139,-4.73317, -4.73453,-4.73677,-4.73881,-4.74177, -4.74364,-4.74554,-4.74711,-4.74961, -4.75084,-4.75224,-4.75376,-4.75567, -4.75711,-4.75927,-4.75927,-4.75927, -4.75927,-4.75927,-4.75927,-4.75927, -4.75927,-4.75926,-4.75926,-4.75926, -4.75926,-4.75926,-4.75926,-4.75926, -4.75926,-4.75926,-4.75926,-4.75926, -4.75926,-4.75926,-4.75926,-4.75926, -4.75926,-4.75926,-4.75926,-4.75739)
FOOTPRINT_POINT_LONGITUDE = (90.4585,90.4585,90.4585,90.4585, 90.4585,90.4585,90.4585,90.4585,90.4585 ,90.4585,90.4585,90.4585,90.4585, 90.4585,90.4585,90.4585,90.4585,90.4585 ,90.4585,90.4585,90.4585,90.4585, 90.4585,90.4585,90.4602,90.4619,90.4636 ,90.4653,90.467,90.4687,90.4704,90.4721 ,90.4738,90.4755,90.4772,90.4789, 90.4806,90.4823,90.484,90.4857,90.4874, 90.4891,90.4908,90.4925,90.4942,90.4959 ,90.4976,90.4993,90.501,90.5013,90.5013 ,90.5013,90.5013,90.5013,90.5013, 90.5013,90.5013,90.5013,90.5013,90.5013 ,90.5013,90.5013,90.5013,90.5013, 90.5013,90.5013,90.5013,90.5013,90.5013 ,90.5013,90.5013,90.5013,90.5013, 90.5013,90.4996,90.4978,90.4961,90.4944 ,90.4927,90.491,90.4893,90.4876,90.4859 ,90.4842,90.4825,90.4808,90.4791, 90.4774,90.4757,90.474,90.4723,90.4706, 90.4689,90.4672,90.4655,90.4638,90.4621 ,90.4604,90.4587,90.4585)
ORBIT_NUMBER = 10
ORBITAL_ECCENTRICITY = 0.717
ORBITAL_INCLINATION = 86.63
ORBITAL_SEMIMAJOR_AXIS = 12956.1
PERIAPSIS_ALTITUDE = 274.15
PERIAPSIS_ARGUMENT_ANGLE = 357.88
PERIAPSIS_TIME = 2004-01-10T14:03:56.000Z
SPACECRAFT_ORIENTATION = (0.0,1.0,0.0)
^MEX_ORIENTATION_DESC = "MEX_ORIENTATION_DESC.TXT"
SPACECRAFT_POINTING_MODE = NADIR
^MEX_POINTING_DESC = "MEX_POINTING_DESC.TXT"
RIGHT_ASCENSION = -1e+32
DECLINATION = -1e+32
OFFSET_ANGLE = -1e+32
SPACECRAFT_SOLAR_DISTANCE = 2.22398e+08
TARGET_NAME = MARS
/* CAMERA DATA ELEMENTS */
BUFFER_MODE_ID = DIRECT
EXPOSURE_DURATION = 3.024
INST_CMPRS_NAME = "DISCRETE COSINE TRANSFORMATION (DCT)"
INST_CMPRS_RATIO = 18.0423
INST_CMPRS_QUALITY = 0
INST_CMPRS_QUANTZ_TBL_ID = 0
INSTRUMENT_TEMPERATURE = 17.2727
MISSING_FRAMES = 0
START_BIT = 0
/* RADIOMETRIC DATA ELEMENTS */
BANDWIDTH = 250.0
CENTER_FILTER_WAVELENGTH = 600.0
RADIANCE_OFFSET = -9.99e+31
RADIANCE_SCALING_FACTOR = -9.99e+31
REFLECTANCE_SCALING_FACTOR = -9.99e+31
MEX:REFLECTANCE_OFFSET = -9.99e+31
/* IMAGE OBJECT DEFINITIONS */
OBJECT = IMAGE
  INTERCHANGE_FORMAT = BINARY
  LINES = 1052
  LINE_SAMPLES = 1054
  SAMPLE_TYPE = UNSIGNED_INTEGER
  SAMPLE_BITS = 8
  BANDS = 1
  BAND_STORAGE_TYPE = BAND_SEQUENTIAL
  MAXIMUM = 4005
  MEAN = 3433.02
  MINIMUM = 2894
  STANDARD_DEVIATION = 60.4169
END_OBJECT = IMAGE
/* MAP OBJECT DEFINITIONS */
OBJECT = IMAGE_MAP_PROJECTION
  ^DATA_SET_MAP_PROJECTION_CATALOG= "DSMAP.CAT"
  A_AXIS_RADIUS = 3396.19
  B_AXIS_RADIUS = 3396.19
  C_AXIS_RADIUS = 3396.19
  CENTER_LATITUDE = 0.0
  CENTER_LONGITUDE = 90.0
  COORDINATE_SYSTEM_NAME = PLANETOGRAPHIC
  COORDINATE_SYSTEM_TYPE = "BODY-FIXED ROTATING"
  EASTERNMOST_LONGITUDE = 90.5013
  FIRST_STANDARD_PARALLEL = "N/A"
  LINE_FIRST_PIXEL = 1
  LINE_LAST_PIXEL = 1052
  LINE_PROJECTION_OFFSET = -111810.0
  MAP_PROJECTION_ROTATION = 0.0
  MAP_PROJECTION_TYPE = SINUSOIDAL
  MAP_RESOLUTION = 23709.8786048756
  MAP_SCALE = 0.0025
  MAXIMUM_LATITUDE = -4.71661
  MINIMUM_LATITUDE = -4.75927
  POSITIVE_LONGITUDE_DIRECTION = EAST
  REFERENCE_LATITUDE = "N/A"
  REFERENCE_LONGITUDE = "N/A"
  SAMPLE_FIRST_PIXEL = 1
  SAMPLE_LAST_PIXEL = 1054
  SAMPLE_PROJECTION_OFFSET = -10812.0
  SECOND_STANDARD_PARALLEL = "N/A"
  WESTERNMOST_LONGITUDE = 90.4585
END_OBJECT = IMAGE_MAP_PROJECTION
/* The JPEG2000 image data file associated with this label. */
OBJECT = COMPRESSED_FILE
  FILE_NAME = "H0010_0030_SR3.JP2"
  RECORD_TYPE = UNDEFINED
  FILE_RECORDS = UNK
  ENCODING_TYPE = "JP2"
  INTERCHANGE_FORMAT = BINARY
  UNCOMPRESSED_FILE_NAME = "H0010_0030_SR3.IMG"
  REQUIRED_STORAGE_BYTES = "1127780"
  ^DESCRIPTION = "JP2INFO.TXT"
END_OBJECT = COMPRESSED_FILE
END
