PDS_VERSION_ID = PDS3
/* FILE DATA ELEMENTS */
RECORD_TYPE = STREAM
/* POINTERS TO DATA OBJECTS */
^COMPRESSED_FILE = "H0010_0058_SR3.JP2"
/* IDENTIFICATION DATA ELEMENTS */
DATA_SET_ID = "MEX-M-HRSC-5-REFDR-MAPPROJECTED-V3.0"
DATA_SET_NAME = "MARS EXPRESS HRSC MAP PROJECTED REFDR V3.0"
DETECTOR_ID = MEX_HRSC_SRC
EVENT_TYPE = "MARS-REGIONAL-MAPPING-Vo-Im-Tc"
INSTRUMENT_HOST_ID = MEX
INSTRUMENT_HOST_NAME = "MARS EXPRESS"
INSTRUMENT_ID = HRSC
INSTRUMENT_NAME = "HIGH RESOLUTION STEREO CAMERA"
MISSION_NAME = "MARS EXPRESS"
MISSION_PHASE_NAME = MC_Phase_0
PROCESSING_LEVEL_ID = 3
PRODUCT_CREATION_TIME = 2016-03-02T10:19:25.000Z
PRODUCT_ID = "H0010_0058_SR3.JP2"
RELEASE_ID = 0001
REVISION_ID = 0000
/* QUALITY DATA ELEMENTS */
DATA_QUALITY_ID = 1
DATA_QUALITY_DESC = "Data calculated based on original SPICE kernels"
/* TIME DATA ELEMENTS */
SPACECRAFT_CLOCK_START_COUNT = "1/0021823325.32303"
SPACECRAFT_CLOCK_STOP_COUNT = "1/0021823574.56834"
IMAGE_TIME = 2004-01-10T14:03:33.790Z
START_TIME = 2004-01-10T14:03:33.789Z
STOP_TIME = 2004-01-10T14:03:33.792Z
/* ORBITAL DATA ELEMENTS */
ASCENDING_NODE_LONGITUDE = 228.73
MAXIMUM_RESOLUTION = 2.508
FOOTPRINT_POINT_LATITUDE = (-3.6945,-3.69243,-3.69094,-3.68934, -3.68819,-3.6868,-3.6846,-3.68295, -3.68045,-3.67897,-3.67783,-3.67639, -3.67427,-3.67258,-3.67114,-3.66911, -3.66776,-3.66649,-3.66539,-3.66386, -3.66179,-3.66061,-3.65913,-3.65697, -3.65481,-3.65291,-3.65291,-3.65291, -3.6529,-3.6529,-3.6529,-3.6529,-3.6529 ,-3.6529,-3.6529,-3.6529,-3.6529, -3.6529,-3.6529,-3.6529,-3.6529,-3.6529 ,-3.6529,-3.6529,-3.6529,-3.6529, -3.6529,-3.6529,-3.6529,-3.6529,-3.6529 ,-3.6551,-3.65658,-3.65878,-3.66043, -3.66179,-3.66466,-3.66682,-3.66856, -3.67089,-3.67233,-3.6744,-3.67576, -3.67694,-3.67863,-3.67999,-3.68198, -3.6835,-3.68464,-3.68642,-3.68841, -3.69091,-3.69222,-3.69345,-3.69552, -3.69552,-3.69552,-3.69552,-3.69552, -3.69552,-3.69552,-3.69552,-3.69552, -3.69552,-3.69552,-3.69552,-3.69552, -3.69552,-3.69552,-3.69552,-3.69552, -3.69552,-3.69552,-3.69552,-3.69552, -3.69552,-3.69551,-3.69551,-3.69551, -3.6945)
FOOTPRINT_POINT_LONGITUDE = (90.4598,90.4598,90.4598,90.4598, 90.4598,90.4598,90.4598,90.4598,90.4598 ,90.4598,90.4598,90.4598,90.4598, 90.4598,90.4598,90.4598,90.4598,90.4598 ,90.4598,90.4598,90.4598,90.4598, 90.4598,90.4598,90.4598,90.4598,90.4615 ,90.4632,90.4649,90.4666,90.4683,90.47, 90.4717,90.4734,90.4751,90.4768,90.4785 ,90.4802,90.4819,90.4836,90.4853,90.487 ,90.4887,90.4904,90.4921,90.4938, 90.4955,90.4972,90.4989,90.5006,90.5023 ,90.5025,90.5025,90.5025,90.5025, 90.5025,90.5025,90.5025,90.5025,90.5025 ,90.5025,90.5025,90.5025,90.5025, 90.5025,90.5025,90.5025,90.5025,90.5025 ,90.5025,90.5025,90.5025,90.5025, 90.5025,90.5025,90.5008,90.4991,90.4974 ,90.4957,90.494,90.4923,90.4906,90.4889 ,90.4872,90.4855,90.4838,90.4821, 90.4804,90.4787,90.477,90.4753,90.4736, 90.4719,90.4702,90.4685,90.4668,90.4651 ,90.4634,90.4617,90.4598)
ORBIT_NUMBER = 10
ORBITAL_ECCENTRICITY = 0.717
ORBITAL_INCLINATION = 86.63
ORBITAL_SEMIMAJOR_AXIS = 12956.1
PERIAPSIS_ALTITUDE = 274.15
PERIAPSIS_ARGUMENT_ANGLE = 357.88
PERIAPSIS_TIME = 2004-01-10T14:03:56.000Z
SPACECRAFT_ORIENTATION = (0.0,1.0,0.0)
^MEX_ORIENTATION_DESC = "MEX_ORIENTATION_DESC.TXT"
SPACECRAFT_POINTING_MODE = NADIR
^MEX_POINTING_DESC = "MEX_POINTING_DESC.TXT"
RIGHT_ASCENSION = -1e+32
DECLINATION = -1e+32
OFFSET_ANGLE = -1e+32
SPACECRAFT_SOLAR_DISTANCE = 2.22398e+08
TARGET_NAME = MARS
/* CAMERA DATA ELEMENTS */
BUFFER_MODE_ID = DIRECT
EXPOSURE_DURATION = 3.024
INST_CMPRS_NAME = "DISCRETE COSINE TRANSFORMATION (DCT)"
INST_CMPRS_RATIO = 15.8858
INST_CMPRS_QUALITY = 0
INST_CMPRS_QUANTZ_TBL_ID = 0
INSTRUMENT_TEMPERATURE = 17.2727
MISSING_FRAMES = 0
START_BIT = 0
/* RADIOMETRIC DATA ELEMENTS */
BANDWIDTH = 250.0
CENTER_FILTER_WAVELENGTH = 600.0
RADIANCE_OFFSET = -9.99e+31
RADIANCE_SCALING_FACTOR = -9.99e+31
REFLECTANCE_SCALING_FACTOR = -9.99e+31
MEX:REFLECTANCE_OFFSET = -9.99e+31
/* IMAGE OBJECT DEFINITIONS */
OBJECT = IMAGE
  INTERCHANGE_FORMAT = BINARY
  LINES = 1051
  LINE_SAMPLES = 1052
  SAMPLE_TYPE = UNSIGNED_INTEGER
  SAMPLE_BITS = 8
  BANDS = 1
  BAND_STORAGE_TYPE = BAND_SEQUENTIAL
  MAXIMUM = 4500
  MEAN = 3825.08
  MINIMUM = 3323
  STANDARD_DEVIATION = 76.9063
END_OBJECT = IMAGE
/* MAP OBJECT DEFINITIONS */
OBJECT = IMAGE_MAP_PROJECTION
  ^DATA_SET_MAP_PROJECTION_CATALOG= "DSMAP.CAT"
  A_AXIS_RADIUS = 3396.19
  B_AXIS_RADIUS = 3396.19
  C_AXIS_RADIUS = 3396.19
  CENTER_LATITUDE = 0.0
  CENTER_LONGITUDE = 90.0
  COORDINATE_SYSTEM_NAME = PLANETOGRAPHIC
  COORDINATE_SYSTEM_TYPE = "BODY-FIXED ROTATING"
  EASTERNMOST_LONGITUDE = 90.5025
  FIRST_STANDARD_PARALLEL = "N/A"
  LINE_FIRST_PIXEL = 1
  LINE_LAST_PIXEL = 1051
  LINE_PROJECTION_OFFSET = -86590.0
  MAP_PROJECTION_ROTATION = 0.0
  MAP_PROJECTION_TYPE = SINUSOIDAL
  MAP_RESOLUTION = 23709.8786048756
  MAP_SCALE = 0.0025
  MAXIMUM_LATITUDE = -3.6529
  MINIMUM_LATITUDE = -3.69552
  POSITIVE_LONGITUDE_DIRECTION = EAST
  REFERENCE_LATITUDE = "N/A"
  REFERENCE_LONGITUDE = "N/A"
  SAMPLE_FIRST_PIXEL = 1
  SAMPLE_LAST_PIXEL = 1052
  SAMPLE_PROJECTION_OFFSET = -10857.0
  SECOND_STANDARD_PARALLEL = "N/A"
  WESTERNMOST_LONGITUDE = 90.4598
END_OBJECT = IMAGE_MAP_PROJECTION
/* The JPEG2000 image data file associated with this label. */
OBJECT = COMPRESSED_FILE
  FILE_NAME = "H0010_0058_SR3.JP2"
  RECORD_TYPE = UNDEFINED
  FILE_RECORDS = UNK
  ENCODING_TYPE = "JP2"
  INTERCHANGE_FORMAT = BINARY
  UNCOMPRESSED_FILE_NAME = "H0010_0058_SR3.IMG"
  REQUIRED_STORAGE_BYTES = "1124588"
  ^DESCRIPTION = "JP2INFO.TXT"
END_OBJECT = COMPRESSED_FILE
END
