PDS_VERSION_ID = PDS3
/* FILE DATA ELEMENTS */
RECORD_TYPE = STREAM
/* POINTERS TO DATA OBJECTS */
^COMPRESSED_FILE = "H0010_0062_SR3.JP2"
/* IDENTIFICATION DATA ELEMENTS */
DATA_SET_ID = "MEX-M-HRSC-5-REFDR-MAPPROJECTED-V3.0"
DATA_SET_NAME = "MARS EXPRESS HRSC MAP PROJECTED REFDR V3.0"
DETECTOR_ID = MEX_HRSC_SRC
EVENT_TYPE = "MARS-REGIONAL-MAPPING-Vo-Im-Tc"
INSTRUMENT_HOST_ID = MEX
INSTRUMENT_HOST_NAME = "MARS EXPRESS"
INSTRUMENT_ID = HRSC
INSTRUMENT_NAME = "HIGH RESOLUTION STEREO CAMERA"
MISSION_NAME = "MARS EXPRESS"
MISSION_PHASE_NAME = MC_Phase_0
PROCESSING_LEVEL_ID = 3
PRODUCT_CREATION_TIME = 2016-03-02T10:19:25.000Z
PRODUCT_ID = "H0010_0062_SR3.JP2"
RELEASE_ID = 0001
REVISION_ID = 0000
/* QUALITY DATA ELEMENTS */
DATA_QUALITY_ID = 1
DATA_QUALITY_DESC = "Data calculated based on original SPICE kernels"
/* TIME DATA ELEMENTS */
SPACECRAFT_CLOCK_START_COUNT = "1/0021823325.32303"
SPACECRAFT_CLOCK_STOP_COUNT = "1/0021823574.56834"
IMAGE_TIME = 2004-01-10T14:03:35.970Z
START_TIME = 2004-01-10T14:03:35.969Z
STOP_TIME = 2004-01-10T14:03:35.972Z
/* ORBITAL DATA ELEMENTS */
ASCENDING_NODE_LONGITUDE = 228.73
MAXIMUM_RESOLUTION = 2.507
FOOTPRINT_POINT_LATITUDE = (-3.5427,-3.54003,-3.53826,-3.53597, -3.53453,-3.53246,-3.53115,-3.52946, -3.52819,-3.52595,-3.52447,-3.52311, -3.52134,-3.52011,-3.51867,-3.51762, -3.51643,-3.51449,-3.5133,-3.51119, -3.50979,-3.50814,-3.50577,-3.50421, -3.50205,-3.50091,-3.50091,-3.50091, -3.50091,-3.50091,-3.50091,-3.50091, -3.50091,-3.50091,-3.50091,-3.50091, -3.50091,-3.5009,-3.5009,-3.5009, -3.5009,-3.5009,-3.5009,-3.5009,-3.5009 ,-3.5009,-3.5009,-3.5009,-3.5009, -3.5009,-3.50225,-3.50467,-3.50589, -3.50737,-3.50957,-3.5108,-3.51207, -3.51364,-3.51592,-3.5177,-3.51973, -3.52142,-3.52282,-3.52396,-3.52557, -3.52701,-3.52878,-3.53005,-3.53175, -3.53378,-3.53619,-3.53788,-3.53894, -3.54067,-3.54296,-3.54351,-3.54351, -3.54351,-3.54351,-3.54351,-3.54351, -3.54351,-3.54351,-3.54351,-3.54351, -3.5435,-3.5435,-3.5435,-3.5435,-3.5435 ,-3.5435,-3.5435,-3.5435,-3.5435, -3.5435,-3.5435,-3.5435,-3.5435,-3.5435 ,-3.5427)
FOOTPRINT_POINT_LONGITUDE = (90.4599,90.4599,90.4599,90.4599, 90.4599,90.4599,90.4599,90.4599,90.4599 ,90.4599,90.4599,90.4599,90.4599, 90.4599,90.4599,90.4599,90.4599,90.4599 ,90.4599,90.4599,90.4599,90.4599, 90.4599,90.4599,90.4599,90.4604,90.462, 90.4637,90.4654,90.4671,90.4688,90.4705 ,90.4722,90.4739,90.4756,90.4773,90.479 ,90.4807,90.4824,90.4841,90.4858, 90.4875,90.4892,90.4909,90.4926,90.4943 ,90.496,90.4977,90.4994,90.5011,90.5026 ,90.5026,90.5026,90.5026,90.5026, 90.5026,90.5026,90.5026,90.5026,90.5026 ,90.5026,90.5026,90.5026,90.5026, 90.5026,90.5026,90.5026,90.5026,90.5026 ,90.5026,90.5026,90.5026,90.5026, 90.5026,90.5026,90.5013,90.4996,90.4979 ,90.4962,90.4945,90.4928,90.4911, 90.4894,90.4877,90.486,90.4843,90.4826, 90.4809,90.4792,90.4775,90.4758,90.4741 ,90.4724,90.4707,90.469,90.4673,90.4656 ,90.464,90.4623,90.4599)
ORBIT_NUMBER = 10
ORBITAL_ECCENTRICITY = 0.717
ORBITAL_INCLINATION = 86.63
ORBITAL_SEMIMAJOR_AXIS = 12956.1
PERIAPSIS_ALTITUDE = 274.15
PERIAPSIS_ARGUMENT_ANGLE = 357.88
PERIAPSIS_TIME = 2004-01-10T14:03:56.000Z
SPACECRAFT_ORIENTATION = (0.0,1.0,0.0)
^MEX_ORIENTATION_DESC = "MEX_ORIENTATION_DESC.TXT"
SPACECRAFT_POINTING_MODE = NADIR
^MEX_POINTING_DESC = "MEX_POINTING_DESC.TXT"
RIGHT_ASCENSION = -1e+32
DECLINATION = -1e+32
OFFSET_ANGLE = -1e+32
SPACECRAFT_SOLAR_DISTANCE = 2.22398e+08
TARGET_NAME = MARS
/* CAMERA DATA ELEMENTS */
BUFFER_MODE_ID = DIRECT
EXPOSURE_DURATION = 3.024
INST_CMPRS_NAME = "DISCRETE COSINE TRANSFORMATION (DCT)"
INST_CMPRS_RATIO = 16.0541
INST_CMPRS_QUALITY = 0
INST_CMPRS_QUANTZ_TBL_ID = 0
INSTRUMENT_TEMPERATURE = 17.2727
MISSING_FRAMES = 0
START_BIT = 0
/* RADIOMETRIC DATA ELEMENTS */
BANDWIDTH = 250.0
CENTER_FILTER_WAVELENGTH = 600.0
RADIANCE_OFFSET = -9.99e+31
RADIANCE_SCALING_FACTOR = -9.99e+31
REFLECTANCE_SCALING_FACTOR = -9.99e+31
MEX:REFLECTANCE_OFFSET = -9.99e+31
/* IMAGE OBJECT DEFINITIONS */
OBJECT = IMAGE
  INTERCHANGE_FORMAT = BINARY
  LINES = 1051
  LINE_SAMPLES = 1052
  SAMPLE_TYPE = UNSIGNED_INTEGER
  SAMPLE_BITS = 8
  BANDS = 1
  BAND_STORAGE_TYPE = BAND_SEQUENTIAL
  MAXIMUM = 4444
  MEAN = 3816.92
  MINIMUM = 3343
  STANDARD_DEVIATION = 74.2879
END_OBJECT = IMAGE
/* MAP OBJECT DEFINITIONS */
OBJECT = IMAGE_MAP_PROJECTION
  ^DATA_SET_MAP_PROJECTION_CATALOG= "DSMAP.CAT"
  A_AXIS_RADIUS = 3396.19
  B_AXIS_RADIUS = 3396.19
  C_AXIS_RADIUS = 3396.19
  CENTER_LATITUDE = 0.0
  CENTER_LONGITUDE = 90.0
  COORDINATE_SYSTEM_NAME = PLANETOGRAPHIC
  COORDINATE_SYSTEM_TYPE = "BODY-FIXED ROTATING"
  EASTERNMOST_LONGITUDE = 90.5026
  FIRST_STANDARD_PARALLEL = "N/A"
  LINE_FIRST_PIXEL = 1
  LINE_LAST_PIXEL = 1051
  LINE_PROJECTION_OFFSET = -82986.0
  MAP_PROJECTION_ROTATION = 0.0
  MAP_PROJECTION_TYPE = SINUSOIDAL
  MAP_RESOLUTION = 23709.8786048756
  MAP_SCALE = 0.0025
  MAXIMUM_LATITUDE = -3.5009
  MINIMUM_LATITUDE = -3.54351
  POSITIVE_LONGITUDE_DIRECTION = EAST
  REFERENCE_LATITUDE = "N/A"
  REFERENCE_LONGITUDE = "N/A"
  SAMPLE_FIRST_PIXEL = 1
  SAMPLE_LAST_PIXEL = 1052
  SAMPLE_PROJECTION_OFFSET = -10861.0
  SECOND_STANDARD_PARALLEL = "N/A"
  WESTERNMOST_LONGITUDE = 90.4599
END_OBJECT = IMAGE_MAP_PROJECTION
/* The JPEG2000 image data file associated with this label. */
OBJECT = COMPRESSED_FILE
  FILE_NAME = "H0010_0062_SR3.JP2"
  RECORD_TYPE = UNDEFINED
  FILE_RECORDS = UNK
  ENCODING_TYPE = "JP2"
  INTERCHANGE_FORMAT = BINARY
  UNCOMPRESSED_FILE_NAME = "H0010_0062_SR3.IMG"
  REQUIRED_STORAGE_BYTES = "1124588"
  ^DESCRIPTION = "JP2INFO.TXT"
END_OBJECT = COMPRESSED_FILE
END
