PDS_VERSION_ID = PDS3
/* FILE DATA ELEMENTS */
RECORD_TYPE = STREAM
/* POINTERS TO DATA OBJECTS */
^COMPRESSED_FILE = "H0010_0099_SR3.JP2"
/* IDENTIFICATION DATA ELEMENTS */
DATA_SET_ID = "MEX-M-HRSC-5-REFDR-MAPPROJECTED-V3.0"
DATA_SET_NAME = "MARS EXPRESS HRSC MAP PROJECTED REFDR V3.0"
DETECTOR_ID = MEX_HRSC_SRC
EVENT_TYPE = "MARS-REGIONAL-MAPPING-Vo-Im-Tc"
INSTRUMENT_HOST_ID = MEX
INSTRUMENT_HOST_NAME = "MARS EXPRESS"
INSTRUMENT_ID = HRSC
INSTRUMENT_NAME = "HIGH RESOLUTION STEREO CAMERA"
MISSION_NAME = "MARS EXPRESS"
MISSION_PHASE_NAME = MC_Phase_0
PROCESSING_LEVEL_ID = 3
PRODUCT_CREATION_TIME = 2016-03-02T10:19:25.000Z
PRODUCT_ID = "H0010_0099_SR3.JP2"
RELEASE_ID = 0001
REVISION_ID = 0000
/* QUALITY DATA ELEMENTS */
DATA_QUALITY_ID = 1
DATA_QUALITY_DESC = "Data calculated based on original SPICE kernels"
/* TIME DATA ELEMENTS */
SPACECRAFT_CLOCK_START_COUNT = "1/0021823325.32303"
SPACECRAFT_CLOCK_STOP_COUNT = "1/0021823574.56834"
IMAGE_TIME = 2004-01-10T14:03:56.136Z
START_TIME = 2004-01-10T14:03:56.135Z
STOP_TIME = 2004-01-10T14:03:56.138Z
/* ORBITAL DATA ELEMENTS */
ASCENDING_NODE_LONGITUDE = 228.73
MAXIMUM_RESOLUTION = 2.499
FOOTPRINT_POINT_LATITUDE = (-2.13554,-2.13436,-2.13251,-2.13099, -2.1299,-2.12863,-2.12724,-2.12535, -2.1237,-2.12164,-2.11907,-2.11747, -2.11515,-2.11354,-2.1111,-2.1095, -2.1076,-2.10591,-2.10452,-2.10271, -2.10081,-2.09853,-2.0971,-2.09457, -2.09457,-2.09457,-2.09457,-2.09457, -2.09457,-2.09457,-2.09457,-2.09457, -2.09457,-2.09457,-2.09457,-2.09457, -2.09457,-2.09457,-2.09457,-2.09456, -2.09456,-2.09456,-2.09456,-2.09456, -2.09456,-2.09456,-2.09456,-2.09456, -2.09456,-2.09637,-2.09853,-2.09996, -2.10122,-2.10241,-2.10388,-2.10494, -2.10734,-2.10953,-2.11093,-2.11198, -2.11337,-2.11514,-2.11658,-2.11818, -2.12071,-2.12214,-2.1237,-2.12535, -2.12703,-2.12969,-2.13146,-2.13264, -2.13466,-2.13627,-2.13702,-2.13702, -2.13702,-2.13702,-2.13702,-2.13702, -2.13702,-2.13702,-2.13702,-2.13702, -2.13702,-2.13702,-2.13702,-2.13702, -2.13702,-2.13702,-2.13702,-2.13702, -2.13702,-2.13702,-2.13702,-2.13702, -2.13702,-2.13702,-2.13702,-2.13554)
FOOTPRINT_POINT_LONGITUDE = (90.4605,90.4605,90.4605,90.4605, 90.4605,90.4605,90.4605,90.4605,90.4605 ,90.4605,90.4605,90.4606,90.4606, 90.4606,90.4606,90.4606,90.4606,90.4606 ,90.4606,90.4606,90.4606,90.4606, 90.4606,90.4606,90.4623,90.464,90.4657, 90.4674,90.4691,90.4708,90.4725,90.4742 ,90.4758,90.4775,90.4792,90.4809, 90.4826,90.4843,90.486,90.4877,90.4893, 90.491,90.4927,90.4944,90.4961,90.4978, 90.4995,90.5012,90.5029,90.5031,90.5031 ,90.5031,90.5031,90.5031,90.5031, 90.5031,90.5031,90.5031,90.5031,90.5031 ,90.5031,90.5031,90.5031,90.5031,90.503 ,90.503,90.503,90.503,90.503,90.503, 90.503,90.503,90.503,90.503,90.5013, 90.4996,90.4979,90.4962,90.4945,90.4928 ,90.4912,90.4895,90.4878,90.4861, 90.4844,90.4827,90.481,90.4793,90.4776, 90.476,90.4743,90.4726,90.4709,90.4692, 90.4675,90.4658,90.4641,90.4625,90.4608 ,90.4605)
ORBIT_NUMBER = 10
ORBITAL_ECCENTRICITY = 0.717
ORBITAL_INCLINATION = 86.63
ORBITAL_SEMIMAJOR_AXIS = 12956.1
PERIAPSIS_ALTITUDE = 274.15
PERIAPSIS_ARGUMENT_ANGLE = 357.88
PERIAPSIS_TIME = 2004-01-10T14:03:56.000Z
SPACECRAFT_ORIENTATION = (0.0,1.0,0.0)
^MEX_ORIENTATION_DESC = "MEX_ORIENTATION_DESC.TXT"
SPACECRAFT_POINTING_MODE = NADIR
^MEX_POINTING_DESC = "MEX_POINTING_DESC.TXT"
RIGHT_ASCENSION = -1e+32
DECLINATION = -1e+32
OFFSET_ANGLE = -1e+32
SPACECRAFT_SOLAR_DISTANCE = 2.22398e+08
TARGET_NAME = MARS
/* CAMERA DATA ELEMENTS */
BUFFER_MODE_ID = DIRECT
EXPOSURE_DURATION = 3.024
INST_CMPRS_NAME = "DISCRETE COSINE TRANSFORMATION (DCT)"
INST_CMPRS_RATIO = 15.3504
INST_CMPRS_QUALITY = 0
INST_CMPRS_QUANTZ_TBL_ID = 0
INSTRUMENT_TEMPERATURE = 17.2727
MISSING_FRAMES = 0
START_BIT = 0
/* RADIOMETRIC DATA ELEMENTS */
BANDWIDTH = 250.0
CENTER_FILTER_WAVELENGTH = 600.0
RADIANCE_OFFSET = -9.99e+31
RADIANCE_SCALING_FACTOR = -9.99e+31
REFLECTANCE_SCALING_FACTOR = -9.99e+31
MEX:REFLECTANCE_OFFSET = -9.99e+31
/* IMAGE OBJECT DEFINITIONS */
OBJECT = IMAGE
  INTERCHANGE_FORMAT = BINARY
  LINES = 1047
  LINE_SAMPLES = 1048
  SAMPLE_TYPE = UNSIGNED_INTEGER
  SAMPLE_BITS = 8
  BANDS = 1
  BAND_STORAGE_TYPE = BAND_SEQUENTIAL
  MAXIMUM = 4900
  MEAN = 4127.09
  MINIMUM = 3482
  STANDARD_DEVIATION = 94.9362
END_OBJECT = IMAGE
/* MAP OBJECT DEFINITIONS */
OBJECT = IMAGE_MAP_PROJECTION
  ^DATA_SET_MAP_PROJECTION_CATALOG= "DSMAP.CAT"
  A_AXIS_RADIUS = 3396.19
  B_AXIS_RADIUS = 3396.19
  C_AXIS_RADIUS = 3396.19
  CENTER_LATITUDE = 0.0
  CENTER_LONGITUDE = 90.0
  COORDINATE_SYSTEM_NAME = PLANETOGRAPHIC
  COORDINATE_SYSTEM_TYPE = "BODY-FIXED ROTATING"
  EASTERNMOST_LONGITUDE = 90.5031
  FIRST_STANDARD_PARALLEL = "N/A"
  LINE_FIRST_PIXEL = 1
  LINE_LAST_PIXEL = 1047
  LINE_PROJECTION_OFFSET = -49643.0
  MAP_PROJECTION_ROTATION = 0.0
  MAP_PROJECTION_TYPE = SINUSOIDAL
  MAP_RESOLUTION = 23709.8786048756
  MAP_SCALE = 0.0025
  MAXIMUM_LATITUDE = -2.09456
  MINIMUM_LATITUDE = -2.13702
  POSITIVE_LONGITUDE_DIRECTION = EAST
  REFERENCE_LATITUDE = "N/A"
  REFERENCE_LONGITUDE = "N/A"
  SAMPLE_FIRST_PIXEL = 1
  SAMPLE_LAST_PIXEL = 1048
  SAMPLE_PROJECTION_OFFSET = -10891.0
  SECOND_STANDARD_PARALLEL = "N/A"
  WESTERNMOST_LONGITUDE = 90.4605
END_OBJECT = IMAGE_MAP_PROJECTION
/* The JPEG2000 image data file associated with this label. */
OBJECT = COMPRESSED_FILE
  FILE_NAME = "H0010_0099_SR3.JP2"
  RECORD_TYPE = UNDEFINED
  FILE_RECORDS = UNK
  ENCODING_TYPE = "JP2"
  INTERCHANGE_FORMAT = BINARY
  UNCOMPRESSED_FILE_NAME = "H0010_0099_SR3.IMG"
  REQUIRED_STORAGE_BYTES = "1116120"
  ^DESCRIPTION = "JP2INFO.TXT"
END_OBJECT = COMPRESSED_FILE
END
