PDS_VERSION_ID = PDS3
/* FILE DATA ELEMENTS */
RECORD_TYPE = STREAM
/* POINTERS TO DATA OBJECTS */
^COMPRESSED_FILE = "H0010_0102_SR3.JP2"
/* IDENTIFICATION DATA ELEMENTS */
DATA_SET_ID = "MEX-M-HRSC-5-REFDR-MAPPROJECTED-V3.0"
DATA_SET_NAME = "MARS EXPRESS HRSC MAP PROJECTED REFDR V3.0"
DETECTOR_ID = MEX_HRSC_SRC
EVENT_TYPE = "MARS-REGIONAL-MAPPING-Vo-Im-Tc"
INSTRUMENT_HOST_ID = MEX
INSTRUMENT_HOST_NAME = "MARS EXPRESS"
INSTRUMENT_ID = HRSC
INSTRUMENT_NAME = "HIGH RESOLUTION STEREO CAMERA"
MISSION_NAME = "MARS EXPRESS"
MISSION_PHASE_NAME = MC_Phase_0
PROCESSING_LEVEL_ID = 3
PRODUCT_CREATION_TIME = 2016-03-02T10:19:25.000Z
PRODUCT_ID = "H0010_0102_SR3.JP2"
RELEASE_ID = 0001
REVISION_ID = 0000
/* QUALITY DATA ELEMENTS */
DATA_QUALITY_ID = 1
DATA_QUALITY_DESC = "Data calculated based on original SPICE kernels"
/* TIME DATA ELEMENTS */
SPACECRAFT_CLOCK_START_COUNT = "1/0021823325.32303"
SPACECRAFT_CLOCK_STOP_COUNT = "1/0021823574.56834"
IMAGE_TIME = 2004-01-10T14:03:57.771Z
START_TIME = 2004-01-10T14:03:57.770Z
STOP_TIME = 2004-01-10T14:03:57.773Z
/* ORBITAL DATA ELEMENTS */
ASCENDING_NODE_LONGITUDE = 228.73
MAXIMUM_RESOLUTION = 2.5
FOOTPRINT_POINT_LATITUDE = (-2.0227,-2.02151,-2.01987,-2.01772, -2.01654,-2.01494,-2.01291,-2.01135, -2.00908,-2.00764,-2.006,-2.00343, -2.00229,-2.0009,-1.99875,-1.99626, -1.99453,-1.99322,-1.99192,-1.99057, -1.98846,-1.9861,-1.9837,-1.98167, -1.98053,-1.98053,-1.98053,-1.98053, -1.98053,-1.98053,-1.98053,-1.98053, -1.98053,-1.98053,-1.98053,-1.98053, -1.98053,-1.98053,-1.98053,-1.98053, -1.98053,-1.98053,-1.98053,-1.98052, -1.98052,-1.98052,-1.98052,-1.98052, -1.98052,-1.9809,-1.98204,-1.98373, -1.98508,-1.98622,-1.98773,-1.98887, -1.99039,-1.99259,-1.99457,-1.996, -1.99832,-1.99971,-2.00165,-2.00309, -2.0049,-2.00726,-2.00916,-2.01051, -2.01211,-2.01422,-2.01604,-2.01831, -2.01992,-2.02182,-2.023,-2.023,-2.023, -2.023,-2.023,-2.02299,-2.02299, -2.02299,-2.02299,-2.02299,-2.02299, -2.02299,-2.02299,-2.02299,-2.02299, -2.02299,-2.02299,-2.02299,-2.02299, -2.02299,-2.02299,-2.02299,-2.02299, -2.02299,-2.02299,-2.0227)
FOOTPRINT_POINT_LONGITUDE = (90.4607,90.4607,90.4607,90.4607, 90.4607,90.4607,90.4607,90.4607,90.4607 ,90.4607,90.4607,90.4607,90.4607, 90.4607,90.4607,90.4607,90.4607,90.4607 ,90.4607,90.4607,90.4607,90.4607, 90.4607,90.4607,90.4607,90.4624,90.4641 ,90.4658,90.4675,90.4692,90.4708, 90.4725,90.4742,90.4759,90.4776,90.4793 ,90.481,90.4827,90.4844,90.486,90.4877, 90.4894,90.4911,90.4928,90.4945,90.4962 ,90.4979,90.4996,90.5013,90.5032, 90.5032,90.5032,90.5032,90.5032,90.5032 ,90.5032,90.5032,90.5032,90.5032, 90.5032,90.5032,90.5032,90.5032,90.5032 ,90.5032,90.5032,90.5032,90.5032, 90.5032,90.5032,90.5032,90.5032,90.5032 ,90.5032,90.5027,90.501,90.4994,90.4977 ,90.496,90.4943,90.4926,90.4909,90.4892 ,90.4875,90.4858,90.4841,90.4825, 90.4808,90.4791,90.4774,90.4757,90.474, 90.4723,90.4706,90.4689,90.4673,90.4656 ,90.4639,90.4622,90.4607)
ORBIT_NUMBER = 10
ORBITAL_ECCENTRICITY = 0.717
ORBITAL_INCLINATION = 86.63
ORBITAL_SEMIMAJOR_AXIS = 12956.1
PERIAPSIS_ALTITUDE = 274.15
PERIAPSIS_ARGUMENT_ANGLE = 357.88
PERIAPSIS_TIME = 2004-01-10T14:03:56.000Z
SPACECRAFT_ORIENTATION = (0.0,1.0,0.0)
^MEX_ORIENTATION_DESC = "MEX_ORIENTATION_DESC.TXT"
SPACECRAFT_POINTING_MODE = NADIR
^MEX_POINTING_DESC = "MEX_POINTING_DESC.TXT"
RIGHT_ASCENSION = -1e+32
DECLINATION = -1e+32
OFFSET_ANGLE = -1e+32
SPACECRAFT_SOLAR_DISTANCE = 2.22398e+08
TARGET_NAME = MARS
/* CAMERA DATA ELEMENTS */
BUFFER_MODE_ID = DIRECT
EXPOSURE_DURATION = 3.024
INST_CMPRS_NAME = "DISCRETE COSINE TRANSFORMATION (DCT)"
INST_CMPRS_RATIO = 15.5268
INST_CMPRS_QUALITY = 0
INST_CMPRS_QUANTZ_TBL_ID = 0
INSTRUMENT_TEMPERATURE = 17.2727
MISSING_FRAMES = 0
START_BIT = 0
/* RADIOMETRIC DATA ELEMENTS */
BANDWIDTH = 250.0
CENTER_FILTER_WAVELENGTH = 600.0
RADIANCE_OFFSET = -9.99e+31
RADIANCE_SCALING_FACTOR = -9.99e+31
REFLECTANCE_SCALING_FACTOR = -9.99e+31
MEX:REFLECTANCE_OFFSET = -9.99e+31
/* IMAGE OBJECT DEFINITIONS */
OBJECT = IMAGE
  INTERCHANGE_FORMAT = BINARY
  LINES = 1047
  LINE_SAMPLES = 1048
  SAMPLE_TYPE = UNSIGNED_INTEGER
  SAMPLE_BITS = 8
  BANDS = 1
  BAND_STORAGE_TYPE = BAND_SEQUENTIAL
  MAXIMUM = 4829
  MEAN = 4124.5
  MINIMUM = 3551
  STANDARD_DEVIATION = 65.7477
END_OBJECT = IMAGE
/* MAP OBJECT DEFINITIONS */
OBJECT = IMAGE_MAP_PROJECTION
  ^DATA_SET_MAP_PROJECTION_CATALOG= "DSMAP.CAT"
  A_AXIS_RADIUS = 3396.19
  B_AXIS_RADIUS = 3396.19
  C_AXIS_RADIUS = 3396.19
  CENTER_LATITUDE = 0.0
  CENTER_LONGITUDE = 90.0
  COORDINATE_SYSTEM_NAME = PLANETOGRAPHIC
  COORDINATE_SYSTEM_TYPE = "BODY-FIXED ROTATING"
  EASTERNMOST_LONGITUDE = 90.50320000000001
  FIRST_STANDARD_PARALLEL = "N/A"
  LINE_FIRST_PIXEL = 1
  LINE_LAST_PIXEL = 1047
  LINE_PROJECTION_OFFSET = -46939.0
  MAP_PROJECTION_ROTATION = 0.0
  MAP_PROJECTION_TYPE = SINUSOIDAL
  MAP_RESOLUTION = 23709.8786048756
  MAP_SCALE = 0.0025
  MAXIMUM_LATITUDE = -1.98052
  MINIMUM_LATITUDE = -2.023
  POSITIVE_LONGITUDE_DIRECTION = EAST
  REFERENCE_LATITUDE = "N/A"
  REFERENCE_LONGITUDE = "N/A"
  SAMPLE_FIRST_PIXEL = 1
  SAMPLE_LAST_PIXEL = 1048
  SAMPLE_PROJECTION_OFFSET = -10894.0
  SECOND_STANDARD_PARALLEL = "N/A"
  WESTERNMOST_LONGITUDE = 90.4607
END_OBJECT = IMAGE_MAP_PROJECTION
/* The JPEG2000 image data file associated with this label. */
OBJECT = COMPRESSED_FILE
  FILE_NAME = "H0010_0102_SR3.JP2"
  RECORD_TYPE = UNDEFINED
  FILE_RECORDS = UNK
  ENCODING_TYPE = "JP2"
  INTERCHANGE_FORMAT = BINARY
  UNCOMPRESSED_FILE_NAME = "H0010_0102_SR3.IMG"
  REQUIRED_STORAGE_BYTES = "1116120"
  ^DESCRIPTION = "JP2INFO.TXT"
END_OBJECT = COMPRESSED_FILE
END
