PDS_VERSION_ID = PDS3
/* FILE DATA ELEMENTS */
RECORD_TYPE = STREAM
/* POINTERS TO DATA OBJECTS */
^COMPRESSED_FILE = "H0010_0119_SR3.JP2"
/* IDENTIFICATION DATA ELEMENTS */
DATA_SET_ID = "MEX-M-HRSC-5-REFDR-MAPPROJECTED-V3.0"
DATA_SET_NAME = "MARS EXPRESS HRSC MAP PROJECTED REFDR V3.0"
DETECTOR_ID = MEX_HRSC_SRC
EVENT_TYPE = "MARS-REGIONAL-MAPPING-Vo-Im-Tc"
INSTRUMENT_HOST_ID = MEX
INSTRUMENT_HOST_NAME = "MARS EXPRESS"
INSTRUMENT_ID = HRSC
INSTRUMENT_NAME = "HIGH RESOLUTION STEREO CAMERA"
MISSION_NAME = "MARS EXPRESS"
MISSION_PHASE_NAME = MC_Phase_0
PROCESSING_LEVEL_ID = 3
PRODUCT_CREATION_TIME = 2016-03-02T10:19:25.000Z
PRODUCT_ID = "H0010_0119_SR3.JP2"
RELEASE_ID = 0001
REVISION_ID = 0000
/* QUALITY DATA ELEMENTS */
DATA_QUALITY_ID = 1
DATA_QUALITY_DESC = "Data calculated based on original SPICE kernels"
/* TIME DATA ELEMENTS */
SPACECRAFT_CLOCK_START_COUNT = "1/0021823325.32303"
SPACECRAFT_CLOCK_STOP_COUNT = "1/0021823574.56834"
IMAGE_TIME = 2004-01-10T14:04:32.108Z
START_TIME = 2004-01-10T14:04:32.106Z
STOP_TIME = 2004-01-10T14:04:32.109Z
/* ORBITAL DATA ELEMENTS */
ASCENDING_NODE_LONGITUDE = 228.73
MAXIMUM_RESOLUTION = 2.52
FOOTPRINT_POINT_LATITUDE = (0.371793,0.374046,0.375237,0.377065, 0.378936,0.380212,0.38187,0.383188, 0.384761,0.38693,0.388333,0.390161, 0.391352,0.392542,0.394456,0.396539, 0.39841,0.399941,0.401259,0.402577, 0.405043,0.406744,0.40853,0.411081, 0.413165,0.413973,0.413973,0.413974, 0.413974,0.413975,0.413975,0.413975, 0.413976,0.413976,0.413977,0.413977, 0.413978,0.413978,0.413978,0.413979, 0.413979,0.41398,0.41398,0.41398, 0.413981,0.413981,0.413982,0.413982, 0.413983,0.413983,0.412537,0.410921, 0.409432,0.40739,0.405944,0.404242, 0.402881,0.40101,0.399308,0.397862, 0.395735,0.394289,0.391949,0.390546, 0.389355,0.386888,0.385399,0.383229, 0.381528,0.379571,0.376977,0.375828, 0.373999,0.37251,0.371149,0.37115, 0.37115,0.37115,0.37115,0.371151, 0.371151,0.371151,0.371151,0.371152, 0.371152,0.371152,0.371152,0.371152, 0.371153,0.371153,0.371153,0.371153, 0.371154,0.371154,0.371154,0.371154, 0.371154,0.371155,0.371155,0.371793)
FOOTPRINT_POINT_LONGITUDE = (90.4625,90.4625,90.4625,90.4625, 90.4625,90.4625,90.4625,90.4625,90.4625 ,90.4625,90.4625,90.4625,90.4625, 90.4625,90.4625,90.4625,90.4625,90.4625 ,90.4625,90.4625,90.4625,90.4625, 90.4625,90.4625,90.4625,90.4634,90.4651 ,90.4668,90.4685,90.4702,90.4719, 90.4736,90.4753,90.477,90.4787,90.4804, 90.4821,90.4838,90.4855,90.4872,90.4889 ,90.4906,90.4923,90.494,90.4957,90.4974 ,90.4991,90.5008,90.5025,90.5042, 90.5054,90.5054,90.5054,90.5054,90.5054 ,90.5054,90.5054,90.5054,90.5054, 90.5054,90.5054,90.5054,90.5054,90.5054 ,90.5054,90.5054,90.5054,90.5054, 90.5054,90.5054,90.5054,90.5054,90.5054 ,90.5054,90.5045,90.5028,90.5011, 90.4994,90.4977,90.4959,90.4942,90.4925 ,90.4908,90.4891,90.4874,90.4857,90.484 ,90.4823,90.4806,90.4789,90.4772, 90.4755,90.4738,90.4721,90.4704,90.4687 ,90.467,90.4653,90.4636,90.4625)
ORBIT_NUMBER = 10
ORBITAL_ECCENTRICITY = 0.717
ORBITAL_INCLINATION = 86.63
ORBITAL_SEMIMAJOR_AXIS = 12956.1
PERIAPSIS_ALTITUDE = 274.15
PERIAPSIS_ARGUMENT_ANGLE = 357.88
PERIAPSIS_TIME = 2004-01-10T14:03:56.000Z
SPACECRAFT_ORIENTATION = (0.0,1.0,0.0)
^MEX_ORIENTATION_DESC = "MEX_ORIENTATION_DESC.TXT"
SPACECRAFT_POINTING_MODE = NADIR
^MEX_POINTING_DESC = "MEX_POINTING_DESC.TXT"
RIGHT_ASCENSION = -1e+32
DECLINATION = -1e+32
OFFSET_ANGLE = -1e+32
SPACECRAFT_SOLAR_DISTANCE = 2.22398e+08
TARGET_NAME = MARS
/* CAMERA DATA ELEMENTS */
BUFFER_MODE_ID = DIRECT
EXPOSURE_DURATION = 3.024
INST_CMPRS_NAME = "DISCRETE COSINE TRANSFORMATION (DCT)"
INST_CMPRS_RATIO = 14.7199
INST_CMPRS_QUALITY = 0
INST_CMPRS_QUANTZ_TBL_ID = 0
INSTRUMENT_TEMPERATURE = 17.2727
MISSING_FRAMES = 0
START_BIT = 0
/* RADIOMETRIC DATA ELEMENTS */
BANDWIDTH = 250.0
CENTER_FILTER_WAVELENGTH = 600.0
RADIANCE_OFFSET = -9.99e+31
RADIANCE_SCALING_FACTOR = -9.99e+31
REFLECTANCE_SCALING_FACTOR = -9.99e+31
MEX:REFLECTANCE_OFFSET = -9.99e+31
/* IMAGE OBJECT DEFINITIONS */
OBJECT = IMAGE
  INTERCHANGE_FORMAT = BINARY
  LINES = 1056
  LINE_SAMPLES = 1057
  SAMPLE_TYPE = UNSIGNED_INTEGER
  SAMPLE_BITS = 8
  BANDS = 1
  BAND_STORAGE_TYPE = BAND_SEQUENTIAL
  MAXIMUM = 5030
  MEAN = 4327.16
  MINIMUM = 3632
  STANDARD_DEVIATION = 59.5037
END_OBJECT = IMAGE
/* MAP OBJECT DEFINITIONS */
OBJECT = IMAGE_MAP_PROJECTION
  ^DATA_SET_MAP_PROJECTION_CATALOG= "DSMAP.CAT"
  A_AXIS_RADIUS = 3396.19
  B_AXIS_RADIUS = 3396.19
  C_AXIS_RADIUS = 3396.19
  CENTER_LATITUDE = 0.0
  CENTER_LONGITUDE = 90.0
  COORDINATE_SYSTEM_NAME = PLANETOGRAPHIC
  COORDINATE_SYSTEM_TYPE = "BODY-FIXED ROTATING"
  EASTERNMOST_LONGITUDE = 90.50539999999999
  FIRST_STANDARD_PARALLEL = "N/A"
  LINE_FIRST_PIXEL = 1
  LINE_LAST_PIXEL = 1056
  LINE_PROJECTION_OFFSET = 9835.0
  MAP_PROJECTION_ROTATION = 0.0
  MAP_PROJECTION_TYPE = SINUSOIDAL
  MAP_RESOLUTION = 23709.8786048756
  MAP_SCALE = 0.0025
  MAXIMUM_LATITUDE = 0.413983
  MINIMUM_LATITUDE = 0.371149
  POSITIVE_LONGITUDE_DIRECTION = EAST
  REFERENCE_LATITUDE = "N/A"
  REFERENCE_LONGITUDE = "N/A"
  SAMPLE_FIRST_PIXEL = 1
  SAMPLE_LAST_PIXEL = 1057
  SAMPLE_PROJECTION_OFFSET = -10943.0
  SECOND_STANDARD_PARALLEL = "N/A"
  WESTERNMOST_LONGITUDE = 90.46250000000001
END_OBJECT = IMAGE_MAP_PROJECTION
/* The JPEG2000 image data file associated with this label. */
OBJECT = COMPRESSED_FILE
  FILE_NAME = "H0010_0119_SR3.JP2"
  RECORD_TYPE = UNDEFINED
  FILE_RECORDS = UNK
  ENCODING_TYPE = "JP2"
  INTERCHANGE_FORMAT = BINARY
  UNCOMPRESSED_FILE_NAME = "H0010_0119_SR3.IMG"
  REQUIRED_STORAGE_BYTES = "1135218"
  ^DESCRIPTION = "JP2INFO.TXT"
END_OBJECT = COMPRESSED_FILE
END
