PDS_VERSION_ID = PDS3
/* FILE DATA ELEMENTS */
RECORD_TYPE = STREAM
/* POINTERS TO DATA OBJECTS */
^COMPRESSED_FILE = "H0010_0120_SR3.JP2"
/* IDENTIFICATION DATA ELEMENTS */
DATA_SET_ID = "MEX-M-HRSC-5-REFDR-MAPPROJECTED-V3.0"
DATA_SET_NAME = "MARS EXPRESS HRSC MAP PROJECTED REFDR V3.0"
DETECTOR_ID = MEX_HRSC_SRC
EVENT_TYPE = "MARS-REGIONAL-MAPPING-Vo-Im-Tc"
INSTRUMENT_HOST_ID = MEX
INSTRUMENT_HOST_NAME = "MARS EXPRESS"
INSTRUMENT_ID = HRSC
INSTRUMENT_NAME = "HIGH RESOLUTION STEREO CAMERA"
MISSION_NAME = "MARS EXPRESS"
MISSION_PHASE_NAME = MC_Phase_0
PROCESSING_LEVEL_ID = 3
PRODUCT_CREATION_TIME = 2016-03-02T10:19:25.000Z
PRODUCT_ID = "H0010_0120_SR3.JP2"
RELEASE_ID = 0001
REVISION_ID = 0000
/* QUALITY DATA ELEMENTS */
DATA_QUALITY_ID = 1
DATA_QUALITY_DESC = "Data calculated based on original SPICE kernels"
/* TIME DATA ELEMENTS */
SPACECRAFT_CLOCK_START_COUNT = "1/0021823325.32303"
SPACECRAFT_CLOCK_STOP_COUNT = "1/0021823574.56834"
IMAGE_TIME = 2004-01-10T14:04:32.653Z
START_TIME = 2004-01-10T14:04:32.651Z
STOP_TIME = 2004-01-10T14:04:32.654Z
/* ORBITAL DATA ELEMENTS */
ASCENDING_NODE_LONGITUDE = 228.73
MAXIMUM_RESOLUTION = 2.521
FOOTPRINT_POINT_LATITUDE = (0.410538,0.412877,0.41445,0.416619, 0.41849,0.419809,0.421595,0.422828, 0.424019,0.425507,0.427761,0.430355, 0.433672,0.435118,0.436394,0.438478, 0.439754,0.441753,0.444815,0.446048, 0.447366,0.449322,0.450683,0.451959, 0.45196,0.45196,0.45196,0.451961, 0.451961,0.451962,0.451962,0.451962, 0.451963,0.451963,0.451964,0.451964, 0.451965,0.451965,0.451965,0.451966, 0.451966,0.451967,0.451967,0.451967, 0.451968,0.451968,0.451969,0.451969, 0.45197,0.450778,0.44963,0.448056, 0.446354,0.444142,0.442397,0.441036, 0.439547,0.438441,0.437122,0.435165, 0.433846,0.431847,0.429975,0.428145, 0.426188,0.423721,0.422019,0.420105, 0.418956,0.417552,0.415425,0.414064, 0.412575,0.409809,0.409129,0.409129, 0.409129,0.40913,0.40913,0.40913, 0.40913,0.409131,0.409131,0.409131, 0.409131,0.409131,0.409132,0.409132, 0.409132,0.409132,0.409133,0.409133, 0.409133,0.409133,0.409134,0.409134, 0.409134,0.409134,0.409134,0.410538)
FOOTPRINT_POINT_LONGITUDE = (90.4625,90.4625,90.4625,90.4625, 90.4625,90.4625,90.4625,90.4625,90.4625 ,90.4625,90.4625,90.4625,90.4625, 90.4625,90.4625,90.4625,90.4625,90.4625 ,90.4625,90.4625,90.4625,90.4625, 90.4625,90.4626,90.4643,90.466,90.4677, 90.4694,90.4711,90.4728,90.4745,90.4762 ,90.4779,90.4796,90.4813,90.483,90.4847 ,90.4864,90.4881,90.4898,90.4915, 90.4932,90.4949,90.4966,90.4983,90.5, 90.5017,90.5034,90.5054,90.5054,90.5054 ,90.5054,90.5054,90.5054,90.5054, 90.5054,90.5054,90.5054,90.5054,90.5054 ,90.5054,90.5054,90.5054,90.5054, 90.5054,90.5054,90.5054,90.5054,90.5054 ,90.5054,90.5054,90.5054,90.5054, 90.5054,90.5036,90.5019,90.5002,90.4985 ,90.4968,90.4951,90.4934,90.4917,90.49, 90.4883,90.4866,90.4849,90.4832,90.4815 ,90.4798,90.4781,90.4764,90.4747,90.473 ,90.4713,90.4696,90.4679,90.4662, 90.4645,90.4628,90.4625)
ORBIT_NUMBER = 10
ORBITAL_ECCENTRICITY = 0.717
ORBITAL_INCLINATION = 86.63
ORBITAL_SEMIMAJOR_AXIS = 12956.1
PERIAPSIS_ALTITUDE = 274.15
PERIAPSIS_ARGUMENT_ANGLE = 357.88
PERIAPSIS_TIME = 2004-01-10T14:03:56.000Z
SPACECRAFT_ORIENTATION = (0.0,1.0,0.0)
^MEX_ORIENTATION_DESC = "MEX_ORIENTATION_DESC.TXT"
SPACECRAFT_POINTING_MODE = NADIR
^MEX_POINTING_DESC = "MEX_POINTING_DESC.TXT"
RIGHT_ASCENSION = -1e+32
DECLINATION = -1e+32
OFFSET_ANGLE = -1e+32
SPACECRAFT_SOLAR_DISTANCE = 2.22398e+08
TARGET_NAME = MARS
/* CAMERA DATA ELEMENTS */
BUFFER_MODE_ID = DIRECT
EXPOSURE_DURATION = 3.024
INST_CMPRS_NAME = "DISCRETE COSINE TRANSFORMATION (DCT)"
INST_CMPRS_RATIO = 14.5776
INST_CMPRS_QUALITY = 0
INST_CMPRS_QUANTZ_TBL_ID = 0
INSTRUMENT_TEMPERATURE = 17.2727
MISSING_FRAMES = 0
START_BIT = 0
/* RADIOMETRIC DATA ELEMENTS */
BANDWIDTH = 250.0
CENTER_FILTER_WAVELENGTH = 600.0
RADIANCE_OFFSET = -9.99e+31
RADIANCE_SCALING_FACTOR = -9.99e+31
REFLECTANCE_SCALING_FACTOR = -9.99e+31
MEX:REFLECTANCE_OFFSET = -9.99e+31
/* IMAGE OBJECT DEFINITIONS */
OBJECT = IMAGE
  INTERCHANGE_FORMAT = BINARY
  LINES = 1056
  LINE_SAMPLES = 1056
  SAMPLE_TYPE = UNSIGNED_INTEGER
  SAMPLE_BITS = 8
  BANDS = 1
  BAND_STORAGE_TYPE = BAND_SEQUENTIAL
  MAXIMUM = 5088
  MEAN = 4347.11
  MINIMUM = 3703
  STANDARD_DEVIATION = 60.5762
END_OBJECT = IMAGE
/* MAP OBJECT DEFINITIONS */
OBJECT = IMAGE_MAP_PROJECTION
  ^DATA_SET_MAP_PROJECTION_CATALOG= "DSMAP.CAT"
  A_AXIS_RADIUS = 3396.19
  B_AXIS_RADIUS = 3396.19
  C_AXIS_RADIUS = 3396.19
  CENTER_LATITUDE = 0.0
  CENTER_LONGITUDE = 90.0
  COORDINATE_SYSTEM_NAME = PLANETOGRAPHIC
  COORDINATE_SYSTEM_TYPE = "BODY-FIXED ROTATING"
  EASTERNMOST_LONGITUDE = 90.50539999999999
  FIRST_STANDARD_PARALLEL = "N/A"
  LINE_FIRST_PIXEL = 1
  LINE_LAST_PIXEL = 1056
  LINE_PROJECTION_OFFSET = 10735.0
  MAP_PROJECTION_ROTATION = 0.0
  MAP_PROJECTION_TYPE = SINUSOIDAL
  MAP_RESOLUTION = 23709.8786048756
  MAP_SCALE = 0.0025
  MAXIMUM_LATITUDE = 0.45197
  MINIMUM_LATITUDE = 0.409129
  POSITIVE_LONGITUDE_DIRECTION = EAST
  REFERENCE_LATITUDE = "N/A"
  REFERENCE_LONGITUDE = "N/A"
  SAMPLE_FIRST_PIXEL = 1
  SAMPLE_LAST_PIXEL = 1056
  SAMPLE_PROJECTION_OFFSET = -10944.0
  SECOND_STANDARD_PARALLEL = "N/A"
  WESTERNMOST_LONGITUDE = 90.46250000000001
END_OBJECT = IMAGE_MAP_PROJECTION
/* The JPEG2000 image data file associated with this label. */
OBJECT = COMPRESSED_FILE
  FILE_NAME = "H0010_0120_SR3.JP2"
  RECORD_TYPE = UNDEFINED
  FILE_RECORDS = UNK
  ENCODING_TYPE = "JP2"
  INTERCHANGE_FORMAT = BINARY
  UNCOMPRESSED_FILE_NAME = "H0010_0120_SR3.IMG"
  REQUIRED_STORAGE_BYTES = "1134144"
  ^DESCRIPTION = "JP2INFO.TXT"
END_OBJECT = COMPRESSED_FILE
END
