PDS_VERSION_ID = PDS3
/* FILE DATA ELEMENTS */
RECORD_TYPE = STREAM
/* POINTERS TO DATA OBJECTS */
^COMPRESSED_FILE = "H0010_0126_SR3.JP2"
/* IDENTIFICATION DATA ELEMENTS */
DATA_SET_ID = "MEX-M-HRSC-5-REFDR-MAPPROJECTED-V3.0"
DATA_SET_NAME = "MARS EXPRESS HRSC MAP PROJECTED REFDR V3.0"
DETECTOR_ID = MEX_HRSC_SRC
EVENT_TYPE = "MARS-REGIONAL-MAPPING-Vo-Im-Tc"
INSTRUMENT_HOST_ID = MEX
INSTRUMENT_HOST_NAME = "MARS EXPRESS"
INSTRUMENT_ID = HRSC
INSTRUMENT_NAME = "HIGH RESOLUTION STEREO CAMERA"
MISSION_NAME = "MARS EXPRESS"
MISSION_PHASE_NAME = MC_Phase_0
PROCESSING_LEVEL_ID = 3
PRODUCT_CREATION_TIME = 2016-03-02T10:19:25.000Z
PRODUCT_ID = "H0010_0126_SR3.JP2"
RELEASE_ID = 0001
REVISION_ID = 0000
/* QUALITY DATA ELEMENTS */
DATA_QUALITY_ID = 1
DATA_QUALITY_DESC = "Data calculated based on original SPICE kernels"
/* TIME DATA ELEMENTS */
SPACECRAFT_CLOCK_START_COUNT = "1/0021823325.32303"
SPACECRAFT_CLOCK_STOP_COUNT = "1/0021823574.56834"
IMAGE_TIME = 2004-01-10T14:05:00.449Z
START_TIME = 2004-01-10T14:05:00.447Z
STOP_TIME = 2004-01-10T14:05:00.450Z
/* ORBITAL DATA ELEMENTS */
ASCENDING_NODE_LONGITUDE = 228.73
MAXIMUM_RESOLUTION = 2.569
FOOTPRINT_POINT_LATITUDE = (2.34622,2.34778,2.34904,2.35021, 2.35164,2.35372,2.35494,2.35628,2.35745 ,2.35871,2.36036,2.36162,2.36344, 2.36461,2.36608,2.36851,2.36999,2.37168 ,2.37315,2.37458,2.3761,2.37749,2.37918 ,2.38161,2.38386,2.3859,2.38729,2.38811 ,2.38811,2.38811,2.38811,2.38811, 2.38812,2.38812,2.38812,2.38812,2.38812 ,2.38812,2.38812,2.38812,2.38812, 2.38812,2.38812,2.38812,2.38812,2.38812 ,2.38812,2.38812,2.38812,2.38812, 2.38812,2.38812,2.38738,2.385,2.38322, 2.38161,2.37905,2.37727,2.37528,2.37285 ,2.37068,2.36934,2.36743,2.36482, 2.36305,2.36157,2.35923,2.35745,2.35593 ,2.35363,2.3519,2.34942,2.34721,2.34556 ,2.34443,2.34444,2.34444,2.34444, 2.34444,2.34444,2.34444,2.34444,2.34444 ,2.34444,2.34444,2.34444,2.34444, 2.34444,2.34444,2.34444,2.34444,2.34444 ,2.34444,2.34444,2.34444,2.34444, 2.34444,2.34444,2.34444,2.34622)
FOOTPRINT_POINT_LONGITUDE = (90.4648,90.4648,90.4648,90.4648, 90.4648,90.4648,90.4648,90.4648,90.4648 ,90.4648,90.4648,90.4648,90.4648, 90.4648,90.4648,90.4648,90.4648,90.4648 ,90.4648,90.4648,90.4648,90.4648, 90.4648,90.4648,90.4648,90.4648,90.4648 ,90.4657,90.4675,90.4692,90.4709, 90.4727,90.4744,90.4761,90.4779,90.4796 ,90.4814,90.4831,90.4848,90.4866, 90.4883,90.49,90.4918,90.4935,90.4953, 90.497,90.4987,90.5005,90.5022,90.5039, 90.5057,90.5074,90.5086,90.5086,90.5086 ,90.5086,90.5086,90.5086,90.5086, 90.5086,90.5086,90.5086,90.5086,90.5086 ,90.5085,90.5085,90.5085,90.5085, 90.5085,90.5085,90.5085,90.5085,90.5085 ,90.5085,90.5076,90.5059,90.5042, 90.5024,90.5007,90.4989,90.4972,90.4955 ,90.4937,90.492,90.4902,90.4885,90.4868 ,90.485,90.4833,90.4816,90.4798,90.4781 ,90.4763,90.4746,90.4729,90.4711, 90.4694,90.4677,90.4659,90.4648)
ORBIT_NUMBER = 10
ORBITAL_ECCENTRICITY = 0.717
ORBITAL_INCLINATION = 86.63
ORBITAL_SEMIMAJOR_AXIS = 12956.1
PERIAPSIS_ALTITUDE = 274.15
PERIAPSIS_ARGUMENT_ANGLE = 357.88
PERIAPSIS_TIME = 2004-01-10T14:03:56.000Z
SPACECRAFT_ORIENTATION = (0.0,1.0,0.0)
^MEX_ORIENTATION_DESC = "MEX_ORIENTATION_DESC.TXT"
SPACECRAFT_POINTING_MODE = NADIR
^MEX_POINTING_DESC = "MEX_POINTING_DESC.TXT"
RIGHT_ASCENSION = -1e+32
DECLINATION = -1e+32
OFFSET_ANGLE = -1e+32
SPACECRAFT_SOLAR_DISTANCE = 2.22398e+08
TARGET_NAME = MARS
/* CAMERA DATA ELEMENTS */
BUFFER_MODE_ID = DIRECT
EXPOSURE_DURATION = 3.024
INST_CMPRS_NAME = "DISCRETE COSINE TRANSFORMATION (DCT)"
INST_CMPRS_RATIO = 14.3914
INST_CMPRS_QUALITY = 0
INST_CMPRS_QUANTZ_TBL_ID = 0
INSTRUMENT_TEMPERATURE = 17.2727
MISSING_FRAMES = 0
START_BIT = 0
/* RADIOMETRIC DATA ELEMENTS */
BANDWIDTH = 250.0
CENTER_FILTER_WAVELENGTH = 600.0
RADIANCE_OFFSET = -9.99e+31
RADIANCE_SCALING_FACTOR = -9.99e+31
REFLECTANCE_SCALING_FACTOR = -9.99e+31
MEX:REFLECTANCE_OFFSET = -9.99e+31
/* IMAGE OBJECT DEFINITIONS */
OBJECT = IMAGE
  INTERCHANGE_FORMAT = BINARY
  LINES = 1077
  LINE_SAMPLES = 1077
  SAMPLE_TYPE = UNSIGNED_INTEGER
  SAMPLE_BITS = 8
  BANDS = 1
  BAND_STORAGE_TYPE = BAND_SEQUENTIAL
  MAXIMUM = 5314
  MEAN = 4506.98
  MINIMUM = 3906
  STANDARD_DEVIATION = 78.8766
END_OBJECT = IMAGE
/* MAP OBJECT DEFINITIONS */
OBJECT = IMAGE_MAP_PROJECTION
  ^DATA_SET_MAP_PROJECTION_CATALOG= "DSMAP.CAT"
  A_AXIS_RADIUS = 3396.19
  B_AXIS_RADIUS = 3396.19
  C_AXIS_RADIUS = 3396.19
  CENTER_LATITUDE = 0.0
  CENTER_LONGITUDE = 90.0
  COORDINATE_SYSTEM_NAME = PLANETOGRAPHIC
  COORDINATE_SYSTEM_TYPE = "BODY-FIXED ROTATING"
  EASTERNMOST_LONGITUDE = 90.5086
  FIRST_STANDARD_PARALLEL = "N/A"
  LINE_FIRST_PIXEL = 1
  LINE_LAST_PIXEL = 1077
  LINE_PROJECTION_OFFSET = 56641.0
  MAP_PROJECTION_ROTATION = 0.0
  MAP_PROJECTION_TYPE = SINUSOIDAL
  MAP_RESOLUTION = 23709.8786048756
  MAP_SCALE = 0.0025
  MAXIMUM_LATITUDE = 2.38812
  MINIMUM_LATITUDE = 2.34443
  POSITIVE_LONGITUDE_DIRECTION = EAST
  REFERENCE_LATITUDE = "N/A"
  REFERENCE_LONGITUDE = "N/A"
  SAMPLE_FIRST_PIXEL = 1
  SAMPLE_LAST_PIXEL = 1077
  SAMPLE_PROJECTION_OFFSET = -10989.0
  SECOND_STANDARD_PARALLEL = "N/A"
  WESTERNMOST_LONGITUDE = 90.4648
END_OBJECT = IMAGE_MAP_PROJECTION
/* The JPEG2000 image data file associated with this label. */
OBJECT = COMPRESSED_FILE
  FILE_NAME = "H0010_0126_SR3.JP2"
  RECORD_TYPE = UNDEFINED
  FILE_RECORDS = UNK
  ENCODING_TYPE = "JP2"
  INTERCHANGE_FORMAT = BINARY
  UNCOMPRESSED_FILE_NAME = "H0010_0126_SR3.IMG"
  REQUIRED_STORAGE_BYTES = "1178238"
  ^DESCRIPTION = "JP2INFO.TXT"
END_OBJECT = COMPRESSED_FILE
END
