PDS_VERSION_ID = PDS3
/* FILE DATA ELEMENTS */
RECORD_TYPE = STREAM
/* POINTERS TO DATA OBJECTS */
^COMPRESSED_FILE = "H0010_0136_SR3.JP2"
/* IDENTIFICATION DATA ELEMENTS */
DATA_SET_ID = "MEX-M-HRSC-5-REFDR-MAPPROJECTED-V3.0"
DATA_SET_NAME = "MARS EXPRESS HRSC MAP PROJECTED REFDR V3.0"
DETECTOR_ID = MEX_HRSC_SRC
EVENT_TYPE = "MARS-REGIONAL-MAPPING-Vo-Im-Tc"
INSTRUMENT_HOST_ID = MEX
INSTRUMENT_HOST_NAME = "MARS EXPRESS"
INSTRUMENT_ID = HRSC
INSTRUMENT_NAME = "HIGH RESOLUTION STEREO CAMERA"
MISSION_NAME = "MARS EXPRESS"
MISSION_PHASE_NAME = MC_Phase_0
PROCESSING_LEVEL_ID = 3
PRODUCT_CREATION_TIME = 2016-03-02T10:19:25.000Z
PRODUCT_ID = "H0010_0136_SR3.JP2"
RELEASE_ID = 0001
REVISION_ID = 0000
/* QUALITY DATA ELEMENTS */
DATA_QUALITY_ID = 1
DATA_QUALITY_DESC = "Data calculated based on original SPICE kernels"
/* TIME DATA ELEMENTS */
SPACECRAFT_CLOCK_START_COUNT = "1/0021823325.32303"
SPACECRAFT_CLOCK_STOP_COUNT = "1/0021823574.56834"
IMAGE_TIME = 2004-01-10T14:05:05.899Z
START_TIME = 2004-01-10T14:05:05.898Z
STOP_TIME = 2004-01-10T14:05:05.901Z
/* ORBITAL DATA ELEMENTS */
ASCENDING_NODE_LONGITUDE = 228.73
MAXIMUM_RESOLUTION = 2.582
FOOTPRINT_POINT_LATITUDE = (2.7244,2.72632,2.72867,2.73098,2.7326, 2.73438,2.7356,2.73717,2.73874,2.73992, 2.74114,2.74253,2.74511,2.74733,2.74968 ,2.75116,2.75308,2.75517,2.75701, 2.75827,2.76014,2.76241,2.76376,2.76507 ,2.76734,2.76734,2.76734,2.76734, 2.76734,2.76734,2.76734,2.76734,2.76734 ,2.76734,2.76734,2.76734,2.76734, 2.76734,2.76734,2.76734,2.76734,2.76734 ,2.76734,2.76734,2.76734,2.76734, 2.76734,2.76734,2.76734,2.76595,2.76329 ,2.76137,2.75954,2.75753,2.75596, 2.75422,2.75265,2.75121,2.74929,2.74816 ,2.74632,2.74475,2.7434,2.74188,2.73956 ,2.73843,2.73664,2.73398,2.73211,2.7308 ,2.72927,2.72753,2.72627,2.72422, 2.72343,2.72343,2.72343,2.72343,2.72343 ,2.72343,2.72343,2.72343,2.72344, 2.72344,2.72344,2.72344,2.72344,2.72344 ,2.72344,2.72344,2.72344,2.72344, 2.72344,2.72344,2.72344,2.72344,2.72344 ,2.72344,2.72344,2.7244)
FOOTPRINT_POINT_LONGITUDE = (90.4653,90.4653,90.4653,90.4653, 90.4653,90.4653,90.4653,90.4653,90.4653 ,90.4653,90.4653,90.4653,90.4653, 90.4653,90.4653,90.4653,90.4653,90.4653 ,90.4653,90.4653,90.4654,90.4654, 90.4654,90.4654,90.4654,90.4671,90.4689 ,90.4706,90.4724,90.4741,90.4759, 90.4776,90.4794,90.4811,90.4829,90.4846 ,90.4864,90.4881,90.4899,90.4916, 90.4933,90.4951,90.4968,90.4986,90.5003 ,90.5021,90.5038,90.5056,90.5073, 90.5093,90.5093,90.5093,90.5093,90.5093 ,90.5093,90.5093,90.5093,90.5093, 90.5093,90.5093,90.5093,90.5093,90.5093 ,90.5093,90.5093,90.5093,90.5093, 90.5093,90.5093,90.5093,90.5093,90.5093 ,90.5093,90.5093,90.508,90.5062,90.5045 ,90.5027,90.501,90.4992,90.4975,90.4957 ,90.494,90.4922,90.4905,90.4888,90.487, 90.4853,90.4835,90.4818,90.48,90.4783, 90.4765,90.4748,90.473,90.4713,90.4695, 90.4678,90.466,90.4653)
ORBIT_NUMBER = 10
ORBITAL_ECCENTRICITY = 0.717
ORBITAL_INCLINATION = 86.63
ORBITAL_SEMIMAJOR_AXIS = 12956.1
PERIAPSIS_ALTITUDE = 274.15
PERIAPSIS_ARGUMENT_ANGLE = 357.88
PERIAPSIS_TIME = 2004-01-10T14:03:56.000Z
SPACECRAFT_ORIENTATION = (0.0,1.0,0.0)
^MEX_ORIENTATION_DESC = "MEX_ORIENTATION_DESC.TXT"
SPACECRAFT_POINTING_MODE = NADIR
^MEX_POINTING_DESC = "MEX_POINTING_DESC.TXT"
RIGHT_ASCENSION = -1e+32
DECLINATION = -1e+32
OFFSET_ANGLE = -1e+32
SPACECRAFT_SOLAR_DISTANCE = 2.22398e+08
TARGET_NAME = MARS
/* CAMERA DATA ELEMENTS */
BUFFER_MODE_ID = DIRECT
EXPOSURE_DURATION = 3.024
INST_CMPRS_NAME = "DISCRETE COSINE TRANSFORMATION (DCT)"
INST_CMPRS_RATIO = 14.0387
INST_CMPRS_QUALITY = 0
INST_CMPRS_QUANTZ_TBL_ID = 0
INSTRUMENT_TEMPERATURE = 17.2727
MISSING_FRAMES = 0
START_BIT = 0
/* RADIOMETRIC DATA ELEMENTS */
BANDWIDTH = 250.0
CENTER_FILTER_WAVELENGTH = 600.0
RADIANCE_OFFSET = -9.99e+31
RADIANCE_SCALING_FACTOR = -9.99e+31
REFLECTANCE_SCALING_FACTOR = -9.99e+31
MEX:REFLECTANCE_OFFSET = -9.99e+31
/* IMAGE OBJECT DEFINITIONS */
OBJECT = IMAGE
  INTERCHANGE_FORMAT = BINARY
  LINES = 1082
  LINE_SAMPLES = 1082
  SAMPLE_TYPE = UNSIGNED_INTEGER
  SAMPLE_BITS = 8
  BANDS = 1
  BAND_STORAGE_TYPE = BAND_SEQUENTIAL
  MAXIMUM = 5352
  MEAN = 4513.53
  MINIMUM = 3868
  STANDARD_DEVIATION = 133.933
END_OBJECT = IMAGE
/* MAP OBJECT DEFINITIONS */
OBJECT = IMAGE_MAP_PROJECTION
  ^DATA_SET_MAP_PROJECTION_CATALOG= "DSMAP.CAT"
  A_AXIS_RADIUS = 3396.19
  B_AXIS_RADIUS = 3396.19
  C_AXIS_RADIUS = 3396.19
  CENTER_LATITUDE = 0.0
  CENTER_LONGITUDE = 90.0
  COORDINATE_SYSTEM_NAME = PLANETOGRAPHIC
  COORDINATE_SYSTEM_TYPE = "BODY-FIXED ROTATING"
  EASTERNMOST_LONGITUDE = 90.5093
  FIRST_STANDARD_PARALLEL = "N/A"
  LINE_FIRST_PIXEL = 1
  LINE_LAST_PIXEL = 1082
  LINE_PROJECTION_OFFSET = 65632.0
  MAP_PROJECTION_ROTATION = 0.0
  MAP_PROJECTION_TYPE = SINUSOIDAL
  MAP_RESOLUTION = 23709.8786048756
  MAP_SCALE = 0.0025
  MAXIMUM_LATITUDE = 2.76734
  MINIMUM_LATITUDE = 2.72343
  POSITIVE_LONGITUDE_DIRECTION = EAST
  REFERENCE_LATITUDE = "N/A"
  REFERENCE_LONGITUDE = "N/A"
  SAMPLE_FIRST_PIXEL = 1
  SAMPLE_LAST_PIXEL = 1082
  SAMPLE_PROJECTION_OFFSET = -10999.0
  SECOND_STANDARD_PARALLEL = "N/A"
  WESTERNMOST_LONGITUDE = 90.4653
END_OBJECT = IMAGE_MAP_PROJECTION
/* The JPEG2000 image data file associated with this label. */
OBJECT = COMPRESSED_FILE
  FILE_NAME = "H0010_0136_SR3.JP2"
  RECORD_TYPE = UNDEFINED
  FILE_RECORDS = UNK
  ENCODING_TYPE = "JP2"
  INTERCHANGE_FORMAT = BINARY
  UNCOMPRESSED_FILE_NAME = "H0010_0136_SR3.IMG"
  REQUIRED_STORAGE_BYTES = "1189118"
  ^DESCRIPTION = "JP2INFO.TXT"
END_OBJECT = COMPRESSED_FILE
END
