PDS_VERSION_ID = PDS3
/* FILE DATA ELEMENTS */
RECORD_TYPE = STREAM
/* POINTERS TO DATA OBJECTS */
^COMPRESSED_FILE = "H0010_0146_SR3.JP2"
/* IDENTIFICATION DATA ELEMENTS */
DATA_SET_ID = "MEX-M-HRSC-5-REFDR-MAPPROJECTED-V3.0"
DATA_SET_NAME = "MARS EXPRESS HRSC MAP PROJECTED REFDR V3.0"
DETECTOR_ID = MEX_HRSC_SRC
EVENT_TYPE = "MARS-REGIONAL-MAPPING-Vo-Im-Tc"
INSTRUMENT_HOST_ID = MEX
INSTRUMENT_HOST_NAME = "MARS EXPRESS"
INSTRUMENT_ID = HRSC
INSTRUMENT_NAME = "HIGH RESOLUTION STEREO CAMERA"
MISSION_NAME = "MARS EXPRESS"
MISSION_PHASE_NAME = MC_Phase_0
PROCESSING_LEVEL_ID = 3
PRODUCT_CREATION_TIME = 2016-03-02T10:19:25.000Z
PRODUCT_ID = "H0010_0146_SR3.JP2"
RELEASE_ID = 0001
REVISION_ID = 0000
/* QUALITY DATA ELEMENTS */
DATA_QUALITY_ID = 1
DATA_QUALITY_DESC = "Data calculated based on original SPICE kernels"
/* TIME DATA ELEMENTS */
SPACECRAFT_CLOCK_START_COUNT = "1/0021823325.32303"
SPACECRAFT_CLOCK_STOP_COUNT = "1/0021823574.56834"
IMAGE_TIME = 2004-01-10T14:05:22.250Z
START_TIME = 2004-01-10T14:05:22.248Z
STOP_TIME = 2004-01-10T14:05:22.251Z
/* ORBITAL DATA ELEMENTS */
ASCENDING_NODE_LONGITUDE = 228.73
MAXIMUM_RESOLUTION = 2.616
FOOTPRINT_POINT_LATITUDE = (3.86095,3.86272,3.86435,3.86669,3.8689 ,3.87107,3.87266,3.87394,3.87549, 3.87796,3.87986,3.88242,3.88441,3.88565 ,3.88693,3.88971,3.89192,3.89325, 3.89471,3.8963,3.89767,3.90001,3.90133, 3.9039,3.9039,3.9039,3.9039,3.9039, 3.9039,3.9039,3.9039,3.9039,3.9039, 3.9039,3.9039,3.9039,3.9039,3.9039, 3.9039,3.9039,3.9039,3.9039,3.9039, 3.9039,3.9039,3.9039,3.9039,3.9039, 3.90323,3.90186,3.89987,3.89788,3.89634 ,3.8951,3.89386,3.89192,3.88909,3.88781 ,3.88661,3.88454,3.88268,3.88069, 3.87883,3.87769,3.87601,3.87486,3.873, 3.87044,3.86929,3.86748,3.86509,3.86328 ,3.86138,3.85979,3.85939,3.85939, 3.85939,3.85939,3.85939,3.85939,3.85939 ,3.85939,3.85939,3.85939,3.85939,3.8594 ,3.8594,3.8594,3.8594,3.8594,3.8594, 3.8594,3.8594,3.8594,3.8594,3.8594, 3.8594,3.8594,3.8594,3.86095)
FOOTPRINT_POINT_LONGITUDE = (90.4665,90.4665,90.4665,90.4665, 90.4665,90.4665,90.4665,90.4665,90.4665 ,90.4665,90.4665,90.4665,90.4665, 90.4665,90.4665,90.4665,90.4665,90.4665 ,90.4665,90.4665,90.4665,90.4665, 90.4665,90.467,90.4688,90.4706,90.4723, 90.4741,90.4759,90.4777,90.4794,90.4812 ,90.483,90.4848,90.4865,90.4883,90.4901 ,90.4919,90.4936,90.4954,90.4972, 90.4989,90.5007,90.5025,90.5043,90.506, 90.5078,90.5096,90.5112,90.5112,90.5112 ,90.5112,90.5112,90.5112,90.5112, 90.5112,90.5112,90.5112,90.5112,90.5112 ,90.5112,90.5112,90.5112,90.5112, 90.5112,90.5112,90.5112,90.5112,90.5112 ,90.5112,90.5112,90.5112,90.5112, 90.5112,90.5094,90.5076,90.5058,90.504, 90.5023,90.5005,90.4987,90.4969,90.4952 ,90.4934,90.4916,90.4898,90.4881, 90.4863,90.4845,90.4827,90.481,90.4792, 90.4774,90.4757,90.4739,90.4721,90.4703 ,90.4686,90.4668,90.4665)
ORBIT_NUMBER = 10
ORBITAL_ECCENTRICITY = 0.717
ORBITAL_INCLINATION = 86.63
ORBITAL_SEMIMAJOR_AXIS = 12956.1
PERIAPSIS_ALTITUDE = 274.15
PERIAPSIS_ARGUMENT_ANGLE = 357.88
PERIAPSIS_TIME = 2004-01-10T14:03:56.000Z
SPACECRAFT_ORIENTATION = (0.0,1.0,0.0)
^MEX_ORIENTATION_DESC = "MEX_ORIENTATION_DESC.TXT"
SPACECRAFT_POINTING_MODE = NADIR
^MEX_POINTING_DESC = "MEX_POINTING_DESC.TXT"
RIGHT_ASCENSION = -1e+32
DECLINATION = -1e+32
OFFSET_ANGLE = -1e+32
SPACECRAFT_SOLAR_DISTANCE = 2.22398e+08
TARGET_NAME = MARS
/* CAMERA DATA ELEMENTS */
BUFFER_MODE_ID = DIRECT
EXPOSURE_DURATION = 3.024
INST_CMPRS_NAME = "DISCRETE COSINE TRANSFORMATION (DCT)"
INST_CMPRS_RATIO = 14.141
INST_CMPRS_QUALITY = 0
INST_CMPRS_QUANTZ_TBL_ID = 0
INSTRUMENT_TEMPERATURE = 17.2727
MISSING_FRAMES = 0
START_BIT = 0
/* RADIOMETRIC DATA ELEMENTS */
BANDWIDTH = 250.0
CENTER_FILTER_WAVELENGTH = 600.0
RADIANCE_OFFSET = -9.99e+31
RADIANCE_SCALING_FACTOR = -9.99e+31
REFLECTANCE_SCALING_FACTOR = -9.99e+31
MEX:REFLECTANCE_OFFSET = -9.99e+31
/* IMAGE OBJECT DEFINITIONS */
OBJECT = IMAGE
  INTERCHANGE_FORMAT = BINARY
  LINES = 1096
  LINE_SAMPLES = 1097
  SAMPLE_TYPE = UNSIGNED_INTEGER
  SAMPLE_BITS = 8
  BANDS = 1
  BAND_STORAGE_TYPE = BAND_SEQUENTIAL
  MAXIMUM = 5364
  MEAN = 4543.01
  MINIMUM = 3941
  STANDARD_DEVIATION = 76.4867
END_OBJECT = IMAGE
/* MAP OBJECT DEFINITIONS */
OBJECT = IMAGE_MAP_PROJECTION
  ^DATA_SET_MAP_PROJECTION_CATALOG= "DSMAP.CAT"
  A_AXIS_RADIUS = 3396.19
  B_AXIS_RADIUS = 3396.19
  C_AXIS_RADIUS = 3396.19
  CENTER_LATITUDE = 0.0
  CENTER_LONGITUDE = 90.0
  COORDINATE_SYSTEM_NAME = PLANETOGRAPHIC
  COORDINATE_SYSTEM_TYPE = "BODY-FIXED ROTATING"
  EASTERNMOST_LONGITUDE = 90.5112
  FIRST_STANDARD_PARALLEL = "N/A"
  LINE_FIRST_PIXEL = 1
  LINE_LAST_PIXEL = 1096
  LINE_PROJECTION_OFFSET = 92578.0
  MAP_PROJECTION_ROTATION = 0.0
  MAP_PROJECTION_TYPE = SINUSOIDAL
  MAP_RESOLUTION = 23709.8786048756
  MAP_SCALE = 0.0025
  MAXIMUM_LATITUDE = 3.9039
  MINIMUM_LATITUDE = 3.85939
  POSITIVE_LONGITUDE_DIRECTION = EAST
  REFERENCE_LATITUDE = "N/A"
  REFERENCE_LONGITUDE = "N/A"
  SAMPLE_FIRST_PIXEL = 1
  SAMPLE_LAST_PIXEL = 1097
  SAMPLE_PROJECTION_OFFSET = -11015.0
  SECOND_STANDARD_PARALLEL = "N/A"
  WESTERNMOST_LONGITUDE = 90.4665
END_OBJECT = IMAGE_MAP_PROJECTION
/* The JPEG2000 image data file associated with this label. */
OBJECT = COMPRESSED_FILE
  FILE_NAME = "H0010_0146_SR3.JP2"
  RECORD_TYPE = UNDEFINED
  FILE_RECORDS = UNK
  ENCODING_TYPE = "JP2"
  INTERCHANGE_FORMAT = BINARY
  UNCOMPRESSED_FILE_NAME = "H0010_0146_SR3.IMG"
  REQUIRED_STORAGE_BYTES = "1220961"
  ^DESCRIPTION = "JP2INFO.TXT"
END_OBJECT = COMPRESSED_FILE
END
