PDS_VERSION_ID = PDS3
/* FILE DATA ELEMENTS */
RECORD_TYPE = STREAM
/* POINTERS TO DATA OBJECTS */
^COMPRESSED_FILE = "H0010_0147_SR3.JP2"
/* IDENTIFICATION DATA ELEMENTS */
DATA_SET_ID = "MEX-M-HRSC-5-REFDR-MAPPROJECTED-V3.0"
DATA_SET_NAME = "MARS EXPRESS HRSC MAP PROJECTED REFDR V3.0"
DETECTOR_ID = MEX_HRSC_SRC
EVENT_TYPE = "MARS-REGIONAL-MAPPING-Vo-Im-Tc"
INSTRUMENT_HOST_ID = MEX
INSTRUMENT_HOST_NAME = "MARS EXPRESS"
INSTRUMENT_ID = HRSC
INSTRUMENT_NAME = "HIGH RESOLUTION STEREO CAMERA"
MISSION_NAME = "MARS EXPRESS"
MISSION_PHASE_NAME = MC_Phase_0
PROCESSING_LEVEL_ID = 3
PRODUCT_CREATION_TIME = 2016-03-02T10:19:25.000Z
PRODUCT_ID = "H0010_0147_SR3.JP2"
RELEASE_ID = 0001
REVISION_ID = 0000
/* QUALITY DATA ELEMENTS */
DATA_QUALITY_ID = 1
DATA_QUALITY_DESC = "Data calculated based on original SPICE kernels"
/* TIME DATA ELEMENTS */
SPACECRAFT_CLOCK_START_COUNT = "1/0021823325.32303"
SPACECRAFT_CLOCK_STOP_COUNT = "1/0021823574.56834"
IMAGE_TIME = 2004-01-10T14:05:22.795Z
START_TIME = 2004-01-10T14:05:22.793Z
STOP_TIME = 2004-01-10T14:05:22.796Z
/* ORBITAL DATA ELEMENTS */
ASCENDING_NODE_LONGITUDE = 228.73
MAXIMUM_RESOLUTION = 2.617
FOOTPRINT_POINT_LATITUDE = (3.89949,3.9009,3.90276,3.90409,3.90599 ,3.90736,3.90926,3.91072,3.91266, 3.91456,3.9158,3.91739,3.91951,3.92071, 3.9223,3.92504,3.92685,3.92879,3.93012, 3.93162,3.9333,3.93591,3.93909,3.94042, 3.94174,3.94174,3.94174,3.94174,3.94174 ,3.94174,3.94174,3.94174,3.94174, 3.94174,3.94174,3.94174,3.94174,3.94174 ,3.94174,3.94174,3.94174,3.94174, 3.94174,3.94174,3.94174,3.94174,3.94174 ,3.94174,3.94174,3.94086,3.93869, 3.93613,3.93449,3.9333,3.93135,3.92976, 3.92839,3.92671,3.92441,3.92269,3.9211, 3.91977,3.91782,3.91605,3.91446,3.91185 ,3.9104,3.90805,3.90602,3.90385,3.90239 ,3.90062,3.8985,3.89722,3.89722,3.89722 ,3.89722,3.89722,3.89722,3.89722, 3.89722,3.89722,3.89723,3.89723,3.89723 ,3.89723,3.89723,3.89723,3.89723, 3.89723,3.89723,3.89723,3.89723,3.89723 ,3.89723,3.89723,3.89723,3.89723, 3.89724,3.89949)
FOOTPRINT_POINT_LONGITUDE = (90.4666,90.4666,90.4666,90.4666, 90.4666,90.4666,90.4666,90.4666,90.4666 ,90.4666,90.4666,90.4666,90.4666, 90.4666,90.4666,90.4666,90.4666,90.4666 ,90.4666,90.4666,90.4666,90.4666, 90.4666,90.4666,90.4666,90.4684,90.4702 ,90.4719,90.4737,90.4755,90.4772,90.479 ,90.4808,90.4826,90.4843,90.4861, 90.4879,90.4897,90.4914,90.4932,90.495, 90.4968,90.4985,90.5003,90.5021,90.5039 ,90.5056,90.5074,90.5092,90.5112, 90.5112,90.5112,90.5112,90.5112,90.5112 ,90.5112,90.5112,90.5112,90.5112, 90.5112,90.5112,90.5112,90.5112,90.5112 ,90.5112,90.5112,90.5112,90.5112, 90.5112,90.5112,90.5112,90.5112,90.5112 ,90.5112,90.5094,90.5076,90.5058, 90.5041,90.5023,90.5005,90.4987,90.497, 90.4952,90.4934,90.4917,90.4899,90.4881 ,90.4863,90.4846,90.4828,90.481,90.4792 ,90.4775,90.4757,90.4739,90.4721, 90.4704,90.4686,90.4668,90.4666)
ORBIT_NUMBER = 10
ORBITAL_ECCENTRICITY = 0.717
ORBITAL_INCLINATION = 86.63
ORBITAL_SEMIMAJOR_AXIS = 12956.1
PERIAPSIS_ALTITUDE = 274.15
PERIAPSIS_ARGUMENT_ANGLE = 357.88
PERIAPSIS_TIME = 2004-01-10T14:03:56.000Z
SPACECRAFT_ORIENTATION = (0.0,1.0,0.0)
^MEX_ORIENTATION_DESC = "MEX_ORIENTATION_DESC.TXT"
SPACECRAFT_POINTING_MODE = NADIR
^MEX_POINTING_DESC = "MEX_POINTING_DESC.TXT"
RIGHT_ASCENSION = -1e+32
DECLINATION = -1e+32
OFFSET_ANGLE = -1e+32
SPACECRAFT_SOLAR_DISTANCE = 2.22398e+08
TARGET_NAME = MARS
/* CAMERA DATA ELEMENTS */
BUFFER_MODE_ID = DIRECT
EXPOSURE_DURATION = 3.024
INST_CMPRS_NAME = "DISCRETE COSINE TRANSFORMATION (DCT)"
INST_CMPRS_RATIO = 14.1181
INST_CMPRS_QUALITY = 0
INST_CMPRS_QUANTZ_TBL_ID = 0
INSTRUMENT_TEMPERATURE = 17.2727
MISSING_FRAMES = 0
START_BIT = 0
/* RADIOMETRIC DATA ELEMENTS */
BANDWIDTH = 250.0
CENTER_FILTER_WAVELENGTH = 600.0
RADIANCE_OFFSET = -9.99e+31
RADIANCE_SCALING_FACTOR = -9.99e+31
REFLECTANCE_SCALING_FACTOR = -9.99e+31
MEX:REFLECTANCE_OFFSET = -9.99e+31
/* IMAGE OBJECT DEFINITIONS */
OBJECT = IMAGE
  INTERCHANGE_FORMAT = BINARY
  LINES = 1097
  LINE_SAMPLES = 1097
  SAMPLE_TYPE = UNSIGNED_INTEGER
  SAMPLE_BITS = 8
  BANDS = 1
  BAND_STORAGE_TYPE = BAND_SEQUENTIAL
  MAXIMUM = 5331
  MEAN = 4545.46
  MINIMUM = 4013
  STANDARD_DEVIATION = 77.2948
END_OBJECT = IMAGE
/* MAP OBJECT DEFINITIONS */
OBJECT = IMAGE_MAP_PROJECTION
  ^DATA_SET_MAP_PROJECTION_CATALOG= "DSMAP.CAT"
  A_AXIS_RADIUS = 3396.19
  B_AXIS_RADIUS = 3396.19
  C_AXIS_RADIUS = 3396.19
  CENTER_LATITUDE = 0.0
  CENTER_LONGITUDE = 90.0
  COORDINATE_SYSTEM_NAME = PLANETOGRAPHIC
  COORDINATE_SYSTEM_TYPE = "BODY-FIXED ROTATING"
  EASTERNMOST_LONGITUDE = 90.5112
  FIRST_STANDARD_PARALLEL = "N/A"
  LINE_FIRST_PIXEL = 1
  LINE_LAST_PIXEL = 1097
  LINE_PROJECTION_OFFSET = 93476.0
  MAP_PROJECTION_ROTATION = 0.0
  MAP_PROJECTION_TYPE = SINUSOIDAL
  MAP_RESOLUTION = 23709.8786048756
  MAP_SCALE = 0.0025
  MAXIMUM_LATITUDE = 3.94174
  MINIMUM_LATITUDE = 3.89722
  POSITIVE_LONGITUDE_DIRECTION = EAST
  REFERENCE_LATITUDE = "N/A"
  REFERENCE_LONGITUDE = "N/A"
  SAMPLE_FIRST_PIXEL = 1
  SAMPLE_LAST_PIXEL = 1097
  SAMPLE_PROJECTION_OFFSET = -11015.0
  SECOND_STANDARD_PARALLEL = "N/A"
  WESTERNMOST_LONGITUDE = 90.4666
END_OBJECT = IMAGE_MAP_PROJECTION
/* The JPEG2000 image data file associated with this label. */
OBJECT = COMPRESSED_FILE
  FILE_NAME = "H0010_0147_SR3.JP2"
  RECORD_TYPE = UNDEFINED
  FILE_RECORDS = UNK
  ENCODING_TYPE = "JP2"
  INTERCHANGE_FORMAT = BINARY
  UNCOMPRESSED_FILE_NAME = "H0010_0147_SR3.IMG"
  REQUIRED_STORAGE_BYTES = "1222058"
  ^DESCRIPTION = "JP2INFO.TXT"
END_OBJECT = COMPRESSED_FILE
END
