PDS_VERSION_ID = PDS3
/* FILE DATA ELEMENTS */
RECORD_TYPE = STREAM
/* POINTERS TO DATA OBJECTS */
^COMPRESSED_FILE = "H0010_0158_SR3.JP2"
/* IDENTIFICATION DATA ELEMENTS */
DATA_SET_ID = "MEX-M-HRSC-5-REFDR-MAPPROJECTED-V3.0"
DATA_SET_NAME = "MARS EXPRESS HRSC MAP PROJECTED REFDR V3.0"
DETECTOR_ID = MEX_HRSC_SRC
EVENT_TYPE = "MARS-REGIONAL-MAPPING-Vo-Im-Tc"
INSTRUMENT_HOST_ID = MEX
INSTRUMENT_HOST_NAME = "MARS EXPRESS"
INSTRUMENT_ID = HRSC
INSTRUMENT_NAME = "HIGH RESOLUTION STEREO CAMERA"
MISSION_NAME = "MARS EXPRESS"
MISSION_PHASE_NAME = MC_Phase_0
PROCESSING_LEVEL_ID = 3
PRODUCT_CREATION_TIME = 2016-03-02T10:19:25.000Z
PRODUCT_ID = "H0010_0158_SR3.JP2"
RELEASE_ID = 0001
REVISION_ID = 0000
/* QUALITY DATA ELEMENTS */
DATA_QUALITY_ID = 1
DATA_QUALITY_DESC = "Data calculated based on original SPICE kernels"
/* TIME DATA ELEMENTS */
SPACECRAFT_CLOCK_START_COUNT = "1/0021823325.32303"
SPACECRAFT_CLOCK_STOP_COUNT = "1/0021823574.56834"
IMAGE_TIME = 2004-01-10T14:05:28.790Z
START_TIME = 2004-01-10T14:05:28.789Z
STOP_TIME = 2004-01-10T14:05:28.792Z
/* ORBITAL DATA ELEMENTS */
ASCENDING_NODE_LONGITUDE = 228.73
MAXIMUM_RESOLUTION = 2.629
FOOTPRINT_POINT_LATITUDE = (4.3151,4.31723,4.31865,4.32131,4.32318 ,4.32442,4.32615,4.32828,4.32993,4.3321 ,4.33357,4.33512,4.33716,4.33867, 4.33992,4.34174,4.34343,4.3456,4.34764, 4.34889,4.35128,4.35297,4.35497,4.35715 ,4.35795,4.35795,4.35795,4.35795, 4.35795,4.35795,4.35795,4.35795,4.35795 ,4.35795,4.35795,4.35794,4.35794, 4.35794,4.35794,4.35794,4.35794,4.35794 ,4.35794,4.35794,4.35794,4.35794, 4.35794,4.35794,4.35794,4.35728,4.35519 ,4.35359,4.3519,4.35061,4.34884,4.34653 ,4.34528,4.34346,4.34084,4.33889, 4.33751,4.33627,4.33409,4.3316,4.32956, 4.32809,4.32632,4.32378,4.32165,4.32028 ,4.31881,4.31686,4.31561,4.31415, 4.31321,4.31321,4.31321,4.31322,4.31322 ,4.31322,4.31322,4.31322,4.31322, 4.31322,4.31322,4.31322,4.31322,4.31322 ,4.31322,4.31322,4.31323,4.31323, 4.31323,4.31323,4.31323,4.31323,4.31323 ,4.31323,4.31323,4.3151)
FOOTPRINT_POINT_LONGITUDE = (90.4669,90.4669,90.4669,90.4669, 90.4669,90.4669,90.4669,90.4669,90.4669 ,90.4669,90.4669,90.4669,90.4669, 90.4669,90.4669,90.4669,90.4669,90.4669 ,90.4669,90.4669,90.4669,90.4669, 90.4669,90.4669,90.4678,90.4696,90.4714 ,90.4732,90.4749,90.4767,90.4785, 90.4803,90.4821,90.4839,90.4856,90.4874 ,90.4892,90.491,90.4928,90.4946,90.4963 ,90.4981,90.4999,90.5017,90.5035, 90.5053,90.507,90.5088,90.5106,90.5118, 90.5118,90.5118,90.5118,90.5118,90.5118 ,90.5118,90.5118,90.5118,90.5118, 90.5118,90.5118,90.5118,90.5118,90.5118 ,90.5118,90.5118,90.5118,90.5118, 90.5118,90.5118,90.5118,90.5118,90.5118 ,90.5118,90.5104,90.5086,90.5068,90.505 ,90.5032,90.5015,90.4997,90.4979, 90.4961,90.4943,90.4925,90.4908,90.489, 90.4872,90.4854,90.4836,90.4818,90.4801 ,90.4783,90.4765,90.4747,90.4729, 90.4712,90.4694,90.4676,90.4669)
ORBIT_NUMBER = 10
ORBITAL_ECCENTRICITY = 0.717
ORBITAL_INCLINATION = 86.63
ORBITAL_SEMIMAJOR_AXIS = 12956.1
PERIAPSIS_ALTITUDE = 274.15
PERIAPSIS_ARGUMENT_ANGLE = 357.88
PERIAPSIS_TIME = 2004-01-10T14:03:56.000Z
SPACECRAFT_ORIENTATION = (0.0,1.0,0.0)
^MEX_ORIENTATION_DESC = "MEX_ORIENTATION_DESC.TXT"
SPACECRAFT_POINTING_MODE = NADIR
^MEX_POINTING_DESC = "MEX_POINTING_DESC.TXT"
RIGHT_ASCENSION = -1e+32
DECLINATION = -1e+32
OFFSET_ANGLE = -1e+32
SPACECRAFT_SOLAR_DISTANCE = 2.22398e+08
TARGET_NAME = MARS
/* CAMERA DATA ELEMENTS */
BUFFER_MODE_ID = DIRECT
EXPOSURE_DURATION = 3.024
INST_CMPRS_NAME = "DISCRETE COSINE TRANSFORMATION (DCT)"
INST_CMPRS_RATIO = 14.5645
INST_CMPRS_QUALITY = 0
INST_CMPRS_QUANTZ_TBL_ID = 0
INSTRUMENT_TEMPERATURE = 17.2727
MISSING_FRAMES = 0
START_BIT = 0
/* RADIOMETRIC DATA ELEMENTS */
BANDWIDTH = 250.0
CENTER_FILTER_WAVELENGTH = 600.0
RADIANCE_OFFSET = -9.99e+31
RADIANCE_SCALING_FACTOR = -9.99e+31
REFLECTANCE_SCALING_FACTOR = -9.99e+31
MEX:REFLECTANCE_OFFSET = -9.99e+31
/* IMAGE OBJECT DEFINITIONS */
OBJECT = IMAGE
  INTERCHANGE_FORMAT = BINARY
  LINES = 1101
  LINE_SAMPLES = 1102
  SAMPLE_TYPE = UNSIGNED_INTEGER
  SAMPLE_BITS = 8
  BANDS = 1
  BAND_STORAGE_TYPE = BAND_SEQUENTIAL
  MAXIMUM = 5171
  MEAN = 4469.09
  MINIMUM = 3622
  STANDARD_DEVIATION = 63.513
END_OBJECT = IMAGE
/* MAP OBJECT DEFINITIONS */
OBJECT = IMAGE_MAP_PROJECTION
  ^DATA_SET_MAP_PROJECTION_CATALOG= "DSMAP.CAT"
  A_AXIS_RADIUS = 3396.19
  B_AXIS_RADIUS = 3396.19
  C_AXIS_RADIUS = 3396.19
  CENTER_LATITUDE = 0.0
  CENTER_LONGITUDE = 90.0
  COORDINATE_SYSTEM_NAME = PLANETOGRAPHIC
  COORDINATE_SYSTEM_TYPE = "BODY-FIXED ROTATING"
  EASTERNMOST_LONGITUDE = 90.51179999999999
  FIRST_STANDARD_PARALLEL = "N/A"
  LINE_FIRST_PIXEL = 1
  LINE_LAST_PIXEL = 1101
  LINE_PROJECTION_OFFSET = 103343.0
  MAP_PROJECTION_ROTATION = 0.0
  MAP_PROJECTION_TYPE = SINUSOIDAL
  MAP_RESOLUTION = 23709.8786048756
  MAP_SCALE = 0.0025
  MAXIMUM_LATITUDE = 4.35795
  MINIMUM_LATITUDE = 4.31321
  POSITIVE_LONGITUDE_DIRECTION = EAST
  REFERENCE_LATITUDE = "N/A"
  REFERENCE_LONGITUDE = "N/A"
  SAMPLE_FIRST_PIXEL = 1
  SAMPLE_LAST_PIXEL = 1102
  SAMPLE_PROJECTION_OFFSET = -11017.0
  SECOND_STANDARD_PARALLEL = "N/A"
  WESTERNMOST_LONGITUDE = 90.4669
END_OBJECT = IMAGE_MAP_PROJECTION
/* The JPEG2000 image data file associated with this label. */
OBJECT = COMPRESSED_FILE
  FILE_NAME = "H0010_0158_SR3.JP2"
  RECORD_TYPE = UNDEFINED
  FILE_RECORDS = UNK
  ENCODING_TYPE = "JP2"
  INTERCHANGE_FORMAT = BINARY
  UNCOMPRESSED_FILE_NAME = "H0010_0158_SR3.IMG"
  REQUIRED_STORAGE_BYTES = "1232036"
  ^DESCRIPTION = "JP2INFO.TXT"
END_OBJECT = COMPRESSED_FILE
END
