PDS_VERSION_ID = PDS3
/* FILE DATA ELEMENTS */
RECORD_TYPE = STREAM
/* POINTERS TO DATA OBJECTS */
^COMPRESSED_FILE = "H0010_0178_SR3.JP2"
/* IDENTIFICATION DATA ELEMENTS */
DATA_SET_ID = "MEX-M-HRSC-5-REFDR-MAPPROJECTED-V3.0"
DATA_SET_NAME = "MARS EXPRESS HRSC MAP PROJECTED REFDR V3.0"
DETECTOR_ID = MEX_HRSC_SRC
EVENT_TYPE = "MARS-REGIONAL-MAPPING-Vo-Im-Tc"
INSTRUMENT_HOST_ID = MEX
INSTRUMENT_HOST_NAME = "MARS EXPRESS"
INSTRUMENT_ID = HRSC
INSTRUMENT_NAME = "HIGH RESOLUTION STEREO CAMERA"
MISSION_NAME = "MARS EXPRESS"
MISSION_PHASE_NAME = MC_Phase_0
PROCESSING_LEVEL_ID = 3
PRODUCT_CREATION_TIME = 2016-03-02T10:19:25.000Z
PRODUCT_ID = "H0010_0178_SR3.JP2"
RELEASE_ID = 0001
REVISION_ID = 0000
/* QUALITY DATA ELEMENTS */
DATA_QUALITY_ID = 1
DATA_QUALITY_DESC = "Data calculated based on original SPICE kernels"
/* TIME DATA ELEMENTS */
SPACECRAFT_CLOCK_START_COUNT = "1/0021823325.32303"
SPACECRAFT_CLOCK_STOP_COUNT = "1/0021823574.56834"
IMAGE_TIME = 2004-01-10T14:05:39.691Z
START_TIME = 2004-01-10T14:05:39.689Z
STOP_TIME = 2004-01-10T14:05:39.692Z
/* ORBITAL DATA ELEMENTS */
ASCENDING_NODE_LONGITUDE = 228.73
MAXIMUM_RESOLUTION = 2.653
FOOTPRINT_POINT_LATITUDE = (5.06921,5.07083,5.07199,5.07387, 5.07643,5.07813,5.07943,5.08136,5.08378 ,5.08593,5.08772,5.09005,5.09139, 5.09301,5.0952,5.09735,5.09955,5.10197, 5.10367,5.10506,5.10663,5.10896,5.11111 ,5.11263,5.11402,5.11402,5.11402, 5.11402,5.11402,5.11402,5.11402,5.11402 ,5.11402,5.11402,5.11402,5.11402, 5.11402,5.11402,5.11402,5.11402,5.11402 ,5.11402,5.11402,5.11402,5.11402, 5.11402,5.11402,5.11402,5.11402,5.11402 ,5.11281,5.11115,5.10895,5.10747,5.1051 ,5.10317,5.10173,5.09958,5.09815, 5.09586,5.0938,5.09232,5.08981,5.0882, 5.08654,5.08519,5.08313,5.08174,5.08058 ,5.07816,5.07668,5.07547,5.0739,5.07166 ,5.06951,5.06888,5.06888,5.06888, 5.06888,5.06888,5.06888,5.06888,5.06889 ,5.06889,5.06889,5.06889,5.06889, 5.06889,5.06889,5.06889,5.06889,5.06889 ,5.06889,5.0689,5.0689,5.0689,5.0689, 5.0689,5.0689,5.06921)
FOOTPRINT_POINT_LONGITUDE = (90.4675,90.4675,90.4675,90.4675, 90.4675,90.4675,90.4675,90.4675,90.4675 ,90.4675,90.4675,90.4675,90.4675, 90.4675,90.4675,90.4675,90.4675,90.4675 ,90.4675,90.4675,90.4675,90.4675, 90.4675,90.4675,90.4675,90.4693,90.4711 ,90.4729,90.4747,90.4765,90.4783, 90.4801,90.4819,90.4837,90.4855,90.4874 ,90.4892,90.491,90.4928,90.4946,90.4964 ,90.4982,90.5,90.5018,90.5036,90.5054, 90.5072,90.509,90.5108,90.5126,90.5128, 90.5128,90.5128,90.5128,90.5128,90.5128 ,90.5128,90.5128,90.5128,90.5128, 90.5128,90.5128,90.5128,90.5128,90.5128 ,90.5128,90.5128,90.5128,90.5128, 90.5128,90.5128,90.5128,90.5128,90.5128 ,90.5128,90.5105,90.5087,90.5069, 90.5051,90.5033,90.5015,90.4997,90.4979 ,90.4961,90.4943,90.4925,90.4907, 90.4889,90.4871,90.4853,90.4835,90.4817 ,90.4799,90.4781,90.4763,90.4745, 90.4727,90.4709,90.4691,90.4675)
ORBIT_NUMBER = 10
ORBITAL_ECCENTRICITY = 0.717
ORBITAL_INCLINATION = 86.63
ORBITAL_SEMIMAJOR_AXIS = 12956.1
PERIAPSIS_ALTITUDE = 274.15
PERIAPSIS_ARGUMENT_ANGLE = 357.88
PERIAPSIS_TIME = 2004-01-10T14:03:56.000Z
SPACECRAFT_ORIENTATION = (0.0,1.0,0.0)
^MEX_ORIENTATION_DESC = "MEX_ORIENTATION_DESC.TXT"
SPACECRAFT_POINTING_MODE = NADIR
^MEX_POINTING_DESC = "MEX_POINTING_DESC.TXT"
RIGHT_ASCENSION = -1e+32
DECLINATION = -1e+32
OFFSET_ANGLE = -1e+32
SPACECRAFT_SOLAR_DISTANCE = 2.22398e+08
TARGET_NAME = MARS
/* CAMERA DATA ELEMENTS */
BUFFER_MODE_ID = DIRECT
EXPOSURE_DURATION = 3.024
INST_CMPRS_NAME = "DISCRETE COSINE TRANSFORMATION (DCT)"
INST_CMPRS_RATIO = 14.3636
INST_CMPRS_QUALITY = 0
INST_CMPRS_QUANTZ_TBL_ID = 0
INSTRUMENT_TEMPERATURE = 17.2727
MISSING_FRAMES = 0
START_BIT = 0
/* RADIOMETRIC DATA ELEMENTS */
BANDWIDTH = 250.0
CENTER_FILTER_WAVELENGTH = 600.0
RADIANCE_OFFSET = -9.99e+31
RADIANCE_SCALING_FACTOR = -9.99e+31
REFLECTANCE_SCALING_FACTOR = -9.99e+31
MEX:REFLECTANCE_OFFSET = -9.99e+31
/* IMAGE OBJECT DEFINITIONS */
OBJECT = IMAGE
  INTERCHANGE_FORMAT = BINARY
  LINES = 1111
  LINE_SAMPLES = 1112
  SAMPLE_TYPE = UNSIGNED_INTEGER
  SAMPLE_BITS = 8
  BANDS = 1
  BAND_STORAGE_TYPE = BAND_SEQUENTIAL
  MAXIMUM = 5284
  MEAN = 4532.14
  MINIMUM = 3905
  STANDARD_DEVIATION = 65.5135
END_OBJECT = IMAGE
/* MAP OBJECT DEFINITIONS */
OBJECT = IMAGE_MAP_PROJECTION
  ^DATA_SET_MAP_PROJECTION_CATALOG= "DSMAP.CAT"
  A_AXIS_RADIUS = 3396.19
  B_AXIS_RADIUS = 3396.19
  C_AXIS_RADIUS = 3396.19
  CENTER_LATITUDE = 0.0
  CENTER_LONGITUDE = 90.0
  COORDINATE_SYSTEM_NAME = PLANETOGRAPHIC
  COORDINATE_SYSTEM_TYPE = "BODY-FIXED ROTATING"
  EASTERNMOST_LONGITUDE = 90.5128
  FIRST_STANDARD_PARALLEL = "N/A"
  LINE_FIRST_PIXEL = 1
  LINE_LAST_PIXEL = 1111
  LINE_PROJECTION_OFFSET = 121269.0
  MAP_PROJECTION_ROTATION = 0.0
  MAP_PROJECTION_TYPE = SINUSOIDAL
  MAP_RESOLUTION = 23709.8786048756
  MAP_SCALE = 0.0025
  MAXIMUM_LATITUDE = 5.11402
  MINIMUM_LATITUDE = 5.06888
  POSITIVE_LONGITUDE_DIRECTION = EAST
  REFERENCE_LATITUDE = "N/A"
  REFERENCE_LONGITUDE = "N/A"
  SAMPLE_FIRST_PIXEL = 1
  SAMPLE_LAST_PIXEL = 1112
  SAMPLE_PROJECTION_OFFSET = -11020.0
  SECOND_STANDARD_PARALLEL = "N/A"
  WESTERNMOST_LONGITUDE = 90.4675
END_OBJECT = IMAGE_MAP_PROJECTION
/* The JPEG2000 image data file associated with this label. */
OBJECT = COMPRESSED_FILE
  FILE_NAME = "H0010_0178_SR3.JP2"
  RECORD_TYPE = UNDEFINED
  FILE_RECORDS = UNK
  ENCODING_TYPE = "JP2"
  INTERCHANGE_FORMAT = BINARY
  UNCOMPRESSED_FILE_NAME = "H0010_0178_SR3.IMG"
  REQUIRED_STORAGE_BYTES = "1254336"
  ^DESCRIPTION = "JP2INFO.TXT"
END_OBJECT = COMPRESSED_FILE
END
