PDS_VERSION_ID = PDS3
/* FILE DATA ELEMENTS */
RECORD_TYPE = STREAM
/* POINTERS TO DATA OBJECTS */
^COMPRESSED_FILE = "H0010_0182_SR3.JP2"
/* IDENTIFICATION DATA ELEMENTS */
DATA_SET_ID = "MEX-M-HRSC-5-REFDR-MAPPROJECTED-V3.0"
DATA_SET_NAME = "MARS EXPRESS HRSC MAP PROJECTED REFDR V3.0"
DETECTOR_ID = MEX_HRSC_SRC
EVENT_TYPE = "MARS-REGIONAL-MAPPING-Vo-Im-Tc"
INSTRUMENT_HOST_ID = MEX
INSTRUMENT_HOST_NAME = "MARS EXPRESS"
INSTRUMENT_ID = HRSC
INSTRUMENT_NAME = "HIGH RESOLUTION STEREO CAMERA"
MISSION_NAME = "MARS EXPRESS"
MISSION_PHASE_NAME = MC_Phase_0
PROCESSING_LEVEL_ID = 3
PRODUCT_CREATION_TIME = 2016-03-02T10:19:25.000Z
PRODUCT_ID = "H0010_0182_SR3.JP2"
RELEASE_ID = 0001
REVISION_ID = 0000
/* QUALITY DATA ELEMENTS */
DATA_QUALITY_ID = 1
DATA_QUALITY_DESC = "Data calculated based on original SPICE kernels"
/* TIME DATA ELEMENTS */
SPACECRAFT_CLOCK_START_COUNT = "1/0021823325.32303"
SPACECRAFT_CLOCK_STOP_COUNT = "1/0021823574.56834"
IMAGE_TIME = 2004-01-10T14:05:41.871Z
START_TIME = 2004-01-10T14:05:41.869Z
STOP_TIME = 2004-01-10T14:05:41.872Z
/* ORBITAL DATA ELEMENTS */
ASCENDING_NODE_LONGITUDE = 228.73
MAXIMUM_RESOLUTION = 2.658
FOOTPRINT_POINT_LATITUDE = (5.22026,5.2216,5.22394,5.22605,5.22748 ,5.22941,5.23125,5.23274,5.23444, 5.23628,5.23835,5.23965,5.24207,5.24378 ,5.24575,5.24764,5.25038,5.2519,5.2541, 5.25612,5.25846,5.26007,5.2625,5.26393, 5.2651,5.2651,5.2651,5.2651,5.2651, 5.2651,5.2651,5.2651,5.2651,5.2651, 5.2651,5.2651,5.2651,5.2651,5.2651, 5.2651,5.2651,5.2651,5.26509,5.26509, 5.26509,5.26509,5.26509,5.26509,5.26509 ,5.26473,5.26325,5.26123,5.25948, 5.25714,5.25557,5.25342,5.24983,5.24704 ,5.24516,5.24331,5.24174,5.24049,5.2386 ,5.23743,5.23573,5.23353,5.23132, 5.22957,5.22841,5.22683,5.22558,5.22396 ,5.22257,5.22145,5.21987,5.21988, 5.21988,5.21988,5.21988,5.21988,5.21988 ,5.21988,5.21988,5.21988,5.21988, 5.21989,5.21989,5.21989,5.21989,5.21989 ,5.21989,5.21989,5.21989,5.21989, 5.21989,5.21989,5.2199,5.2199,5.2199, 5.22026)
FOOTPRINT_POINT_LONGITUDE = (90.4676,90.4676,90.4676,90.4676, 90.4676,90.4676,90.4676,90.4676,90.4676 ,90.4676,90.4676,90.4676,90.4676, 90.4676,90.4676,90.4676,90.4676,90.4676 ,90.4676,90.4676,90.4676,90.4676, 90.4676,90.4676,90.4676,90.4695,90.4713 ,90.4731,90.4749,90.4767,90.4785, 90.4803,90.4821,90.4839,90.4857,90.4875 ,90.4893,90.4911,90.4929,90.4947, 90.4965,90.4983,90.5001,90.5019,90.5037 ,90.5055,90.5073,90.5092,90.511,90.513, 90.513,90.513,90.513,90.513,90.513, 90.513,90.513,90.513,90.513,90.513, 90.513,90.513,90.513,90.513,90.513, 90.513,90.513,90.513,90.513,90.513, 90.513,90.513,90.513,90.513,90.5125, 90.5107,90.5089,90.5071,90.5053,90.5035 ,90.5017,90.4999,90.4981,90.4963, 90.4945,90.4927,90.4909,90.4891,90.4873 ,90.4855,90.4836,90.4818,90.48,90.4782, 90.4764,90.4746,90.4728,90.471,90.4692, 90.4676)
ORBIT_NUMBER = 10
ORBITAL_ECCENTRICITY = 0.717
ORBITAL_INCLINATION = 86.63
ORBITAL_SEMIMAJOR_AXIS = 12956.1
PERIAPSIS_ALTITUDE = 274.15
PERIAPSIS_ARGUMENT_ANGLE = 357.88
PERIAPSIS_TIME = 2004-01-10T14:03:56.000Z
SPACECRAFT_ORIENTATION = (0.0,1.0,0.0)
^MEX_ORIENTATION_DESC = "MEX_ORIENTATION_DESC.TXT"
SPACECRAFT_POINTING_MODE = NADIR
^MEX_POINTING_DESC = "MEX_POINTING_DESC.TXT"
RIGHT_ASCENSION = -1e+32
DECLINATION = -1e+32
OFFSET_ANGLE = -1e+32
SPACECRAFT_SOLAR_DISTANCE = 2.22398e+08
TARGET_NAME = MARS
/* CAMERA DATA ELEMENTS */
BUFFER_MODE_ID = DIRECT
EXPOSURE_DURATION = 3.024
INST_CMPRS_NAME = "DISCRETE COSINE TRANSFORMATION (DCT)"
INST_CMPRS_RATIO = 14.4902
INST_CMPRS_QUALITY = 0
INST_CMPRS_QUANTZ_TBL_ID = 0
INSTRUMENT_TEMPERATURE = 17.2727
MISSING_FRAMES = 0
START_BIT = 0
/* RADIOMETRIC DATA ELEMENTS */
BANDWIDTH = 250.0
CENTER_FILTER_WAVELENGTH = 600.0
RADIANCE_OFFSET = -9.99e+31
RADIANCE_SCALING_FACTOR = -9.99e+31
REFLECTANCE_SCALING_FACTOR = -9.99e+31
MEX:REFLECTANCE_OFFSET = -9.99e+31
/* IMAGE OBJECT DEFINITIONS */
OBJECT = IMAGE
  INTERCHANGE_FORMAT = BINARY
  LINES = 1113
  LINE_SAMPLES = 1114
  SAMPLE_TYPE = UNSIGNED_INTEGER
  SAMPLE_BITS = 8
  BANDS = 1
  BAND_STORAGE_TYPE = BAND_SEQUENTIAL
  MAXIMUM = 5225
  MEAN = 4503.7
  MINIMUM = 3971
  STANDARD_DEVIATION = 72.4602
END_OBJECT = IMAGE
/* MAP OBJECT DEFINITIONS */
OBJECT = IMAGE_MAP_PROJECTION
  ^DATA_SET_MAP_PROJECTION_CATALOG= "DSMAP.CAT"
  A_AXIS_RADIUS = 3396.19
  B_AXIS_RADIUS = 3396.19
  C_AXIS_RADIUS = 3396.19
  CENTER_LATITUDE = 0.0
  CENTER_LONGITUDE = 90.0
  COORDINATE_SYSTEM_NAME = PLANETOGRAPHIC
  COORDINATE_SYSTEM_TYPE = "BODY-FIXED ROTATING"
  EASTERNMOST_LONGITUDE = 90.51300000000001
  FIRST_STANDARD_PARALLEL = "N/A"
  LINE_FIRST_PIXEL = 1
  LINE_LAST_PIXEL = 1113
  LINE_PROJECTION_OFFSET = 124851.0
  MAP_PROJECTION_ROTATION = 0.0
  MAP_PROJECTION_TYPE = SINUSOIDAL
  MAP_RESOLUTION = 23709.8786048756
  MAP_SCALE = 0.0025
  MAXIMUM_LATITUDE = 5.2651
  MINIMUM_LATITUDE = 5.21987
  POSITIVE_LONGITUDE_DIRECTION = EAST
  REFERENCE_LATITUDE = "N/A"
  REFERENCE_LONGITUDE = "N/A"
  SAMPLE_FIRST_PIXEL = 1
  SAMPLE_LAST_PIXEL = 1114
  SAMPLE_PROJECTION_OFFSET = -11020.0
  SECOND_STANDARD_PARALLEL = "N/A"
  WESTERNMOST_LONGITUDE = 90.4676
END_OBJECT = IMAGE_MAP_PROJECTION
/* The JPEG2000 image data file associated with this label. */
OBJECT = COMPRESSED_FILE
  FILE_NAME = "H0010_0182_SR3.JP2"
  RECORD_TYPE = UNDEFINED
  FILE_RECORDS = UNK
  ENCODING_TYPE = "JP2"
  INTERCHANGE_FORMAT = BINARY
  UNCOMPRESSED_FILE_NAME = "H0010_0182_SR3.IMG"
  REQUIRED_STORAGE_BYTES = "1258820"
  ^DESCRIPTION = "JP2INFO.TXT"
END_OBJECT = COMPRESSED_FILE
END
