PDS_VERSION_ID = PDS3
/* FILE DATA ELEMENTS */
RECORD_TYPE = STREAM
/* POINTERS TO DATA OBJECTS */
^COMPRESSED_FILE = "H0016_0008_GR3.JP2"
/* IDENTIFICATION DATA ELEMENTS */
DATA_SET_ID = "MEX-M-HRSC-5-REFDR-MAPPROJECTED-V3.0"
DATA_SET_NAME = "MARS EXPRESS HRSC MAP PROJECTED REFDR V3.0"
DETECTOR_ID = MEX_HRSC_GREEN
EVENT_TYPE = "MARS-LOCAL-SYSTEMTEST-Im-Tc"
INSTRUMENT_HOST_ID = MEX
INSTRUMENT_HOST_NAME = "MARS EXPRESS"
INSTRUMENT_ID = HRSC
INSTRUMENT_NAME = "HIGH RESOLUTION STEREO CAMERA"
MISSION_NAME = "MARS EXPRESS"
MISSION_PHASE_NAME = MC_Phase_0
PROCESSING_LEVEL_ID = 3
PRODUCT_CREATION_TIME = 2016-03-02T11:36:00.000Z
PRODUCT_ID = "H0016_0008_GR3.JP2"
RELEASE_ID = 0002
REVISION_ID = 0000
/* QUALITY DATA ELEMENTS */
DATA_QUALITY_ID = 1
DATA_QUALITY_DESC = "Data calculated based on original SPICE kernels"
/* TIME DATA ELEMENTS */
SPACECRAFT_CLOCK_START_COUNT = "1/0022048314.32186"
SPACECRAFT_CLOCK_STOP_COUNT = "1/0022048695.32459"
START_TIME = 2004-01-13T04:32:32.235Z
STOP_TIME = 2004-01-13T04:38:10.714Z
/* ORBITAL DATA ELEMENTS */
ASCENDING_NODE_LONGITUDE = 228.62
MAXIMUM_RESOLUTION = 85.3
FOOTPRINT_POINT_LATITUDE = (-5.56181,-5.55221,-5.05445,-4.55722, -4.07569,-3.59626,-3.11691,-2.39792, -1.91875,-1.44534,-0.984153,-0.523169, -0.0624079,0.398108,0.858342,1.31829, 1.77793,2.23722,2.69615,3.15471,3.61289 ,4.07057,4.5278,4.98454,5.44078,5.89635 ,6.35146,6.80596,7.26039,7.714,8.39328, 8.84628,9.52592,10.2044,10.6547,11.1025 ,11.5505,11.9965,12.4403,12.8831, 13.3238,13.7638,14.204,14.6438,15.083, 15.5216,15.9594,16.3963,16.8322,17.3157 ,17.3138,16.8764,16.441,16.0047,15.5673 ,15.1289,14.6898,14.2498,13.8093, 13.3675,12.9255,12.4825,12.0384,11.5929 ,11.1462,10.6973,10.2467,9.79582, 9.34349,8.89114,8.21329,7.76066,7.30755 ,6.85391,6.39956,5.94473,5.48927, 5.03328,4.57675,4.11972,3.66211,3.20408 ,2.74564,2.2868,1.82755,1.36798, 0.908086,0.447862,-0.0126438,-0.473358, -0.934315,-1.39541,-1.86681,-2.34596, -2.82534,-3.30479,-3.78428,-4.26398, -4.75238,-5.56181)
FOOTPRINT_POINT_LONGITUDE = (256.806,256.109,256.111,256.111, 256.111,256.111,256.111,256.111,256.11, 256.109,256.108,256.107,256.106,256.105 ,256.103,256.101,256.099,256.097, 256.094,256.092,256.089,256.086,256.083 ,256.08,256.076,256.072,256.068,256.064 ,256.061,256.057,256.051,256.048, 256.047,256.047,256.044,256.038,256.034 ,256.027,256.017,256.007,255.994, 255.982,255.972,255.962,255.953,255.945 ,255.936,255.928,255.92,256.321,256.934 ,257.231,257.221,257.21,257.2,257.19, 257.18,257.17,257.16,257.15,257.14, 257.13,257.12,257.112,257.105,257.101, 257.099,257.097,257.096,257.093,257.087 ,257.082,257.078,257.073,257.069, 257.065,257.061,257.058,257.054,257.051 ,257.049,257.046,257.044,257.042,257.04 ,257.038,257.037,257.036,257.035, 257.034,257.033,257.032,257.031,257.031 ,257.031,257.031,257.031,257.032, 257.032,256.806)
ORBIT_NUMBER = 16
ORBITAL_ECCENTRICITY = 0.675
ORBITAL_INCLINATION = 86.65
ORBITAL_SEMIMAJOR_AXIS = 11305.6
PERIAPSIS_ALTITUDE = 273.65
PERIAPSIS_ARGUMENT_ANGLE = 356.98
PERIAPSIS_TIME = 2004-01-13T04:33:06.000Z
SPACECRAFT_ORIENTATION = (0.0,1.0,0.0)
^MEX_ORIENTATION_DESC = "MEX_ORIENTATION_DESC.TXT"
SPACECRAFT_POINTING_MODE = "UNK"
^MEX_POINTING_DESC = "MEX_POINTING_DESC.TXT"
RIGHT_ASCENSION = 1e+32
DECLINATION = 1e+32
OFFSET_ANGLE = 1e+32
SPACECRAFT_SOLAR_DISTANCE = 2.22901e+08
TARGET_NAME = MARS
/* CAMERA DATA ELEMENTS */
DETECTOR_TEMPERATURE = 20.4095
FOCAL_PLANE_TEMPERATURE = 9.3989
INST_CMPRS_NAME = "DISCRETE COSINE TRANSFORMATION (DCT)"
INST_CMPRS_RATIO = 27.4832
INST_CMPRS_QUALITY = 0
INST_CMPRS_QUANTZ_TBL_ID = 0
INSTRUMENT_TEMPERATURE = 12.8652
LENS_TEMPERATURE = 9.6028
MACROPIXEL_SIZE = 8
MISSING_FRAMES = 0
PIXEL_SUBSAMPLING_FLAG = N
SIGNAL_CHAIN_ID = 2
/* RADIOMETRIC DATA ELEMENTS */
BANDWIDTH = 88.0
CENTER_FILTER_WAVELENGTH = 538.0
RADIANCE_OFFSET = 1.38361
RADIANCE_SCALING_FACTOR = 0.0092241
REFLECTANCE_SCALING_FACTOR = 0.000394584
MEX:REFLECTANCE_OFFSET = 0.0591876
/* IMAGE OBJECT DEFINITIONS */
OBJECT = IMAGE
  INTERCHANGE_FORMAT = BINARY
  LINES = 13643
  LINE_SAMPLES = 815
  SAMPLE_TYPE = UNSIGNED_INTEGER
  SAMPLE_BITS = 8
  BANDS = 1
  BAND_STORAGE_TYPE = BAND_SEQUENTIAL
  MAXIMUM = 88
  MEAN = 64.7452
  MINIMUM = 22
  STANDARD_DEVIATION = 6.2966
END_OBJECT = IMAGE
/* MAP OBJECT DEFINITIONS */
OBJECT = IMAGE_MAP_PROJECTION
  ^DATA_SET_MAP_PROJECTION_CATALOG= "DSMAP.CAT"
  A_AXIS_RADIUS = 3396.0
  B_AXIS_RADIUS = 3396.0
  C_AXIS_RADIUS = 3396.0
  CENTER_LATITUDE = 0.0
  CENTER_LONGITUDE = 257.0
  COORDINATE_SYSTEM_NAME = PLANETOGRAPHIC
  COORDINATE_SYSTEM_TYPE = "BODY-FIXED ROTATING"
  EASTERNMOST_LONGITUDE = 257.231
  FIRST_STANDARD_PARALLEL = "N/A"
  LINE_FIRST_PIXEL = 1
  LINE_LAST_PIXEL = 13643
  LINE_PROJECTION_OFFSET = 10368.6875
  MAP_PROJECTION_ROTATION = 0.0
  MAP_PROJECTION_TYPE = SINUSOIDAL
  MAP_RESOLUTION = 592.713803866667
  MAP_SCALE = 0.1
  MAXIMUM_LATITUDE = 17.3157
  MINIMUM_LATITUDE = -5.56181
  POSITIVE_LONGITUDE_DIRECTION = EAST
  REFERENCE_LATITUDE = "N/A"
  REFERENCE_LONGITUDE = "N/A"
  SAMPLE_FIRST_PIXEL = 1
  SAMPLE_LAST_PIXEL = 815
  SAMPLE_PROJECTION_OFFSET = 650.8125
  SECOND_STANDARD_PARALLEL = "N/A"
  WESTERNMOST_LONGITUDE = 255.92
END_OBJECT = IMAGE_MAP_PROJECTION
/* The JPEG2000 image data file associated with this label. */
OBJECT = COMPRESSED_FILE
  FILE_NAME = "H0016_0008_GR3.JP2"
  RECORD_TYPE = UNDEFINED
  FILE_RECORDS = UNK
  ENCODING_TYPE = "JP2"
  INTERCHANGE_FORMAT = BINARY
  UNCOMPRESSED_FILE_NAME = "H0016_0008_GR3.IMG"
  REQUIRED_STORAGE_BYTES = "11136975"
  ^DESCRIPTION = "JP2INFO.TXT"
END_OBJECT = COMPRESSED_FILE
END
