PDS_VERSION_ID = PDS3
/* FILE DATA ELEMENTS */
RECORD_TYPE = STREAM
/* POINTERS TO DATA OBJECTS */
^COMPRESSED_FILE = "H0016_0008_S13.JP2"
/* IDENTIFICATION DATA ELEMENTS */
DATA_SET_ID = "MEX-M-HRSC-5-REFDR-MAPPROJECTED-V3.0"
DATA_SET_NAME = "MARS EXPRESS HRSC MAP PROJECTED REFDR V3.0"
DETECTOR_ID = MEX_HRSC_S1
EVENT_TYPE = "MARS-LOCAL-SYSTEMTEST-Im-Tc"
INSTRUMENT_HOST_ID = MEX
INSTRUMENT_HOST_NAME = "MARS EXPRESS"
INSTRUMENT_ID = HRSC
INSTRUMENT_NAME = "HIGH RESOLUTION STEREO CAMERA"
MISSION_NAME = "MARS EXPRESS"
MISSION_PHASE_NAME = MC_Phase_0
PROCESSING_LEVEL_ID = 3
PRODUCT_CREATION_TIME = 2016-03-02T11:36:00.000Z
PRODUCT_ID = "H0016_0008_S13.JP2"
RELEASE_ID = 0002
REVISION_ID = 0000
/* QUALITY DATA ELEMENTS */
DATA_QUALITY_ID = 1
DATA_QUALITY_DESC = "Data calculated based on original SPICE kernels"
/* TIME DATA ELEMENTS */
SPACECRAFT_CLOCK_START_COUNT = "1/0022048314.32186"
SPACECRAFT_CLOCK_STOP_COUNT = "1/0022048695.32459"
START_TIME = 2004-01-13T04:32:53.113Z
STOP_TIME = 2004-01-13T04:38:31.374Z
/* ORBITAL DATA ELEMENTS */
ASCENDING_NODE_LONGITUDE = 228.62
MAXIMUM_RESOLUTION = 22.6
FOOTPRINT_POINT_LATITUDE = (-5.44305,-5.443,-5.15278,-4.67092, -4.19112,-3.71134,-2.9926,-2.52736, -2.06698,-1.60713,-1.1474,-0.688528, -0.230311,0.227162,0.683746,1.13959, 1.82474,2.27845,2.7313,3.18332,3.6347, 4.08467,4.53362,4.98161,5.42861,5.8735, 6.31815,6.98438,7.42832,7.87006,8.31029 ,8.98669,9.66215,10.1115,10.5558, 10.9825,11.4225,11.8537,12.2748,12.6881 ,13.0938,13.4992,13.9109,14.3201, 14.7333,15.3537,15.7668,16.386,16.7959, 16.8075,16.8063,16.8032,16.3947,15.9846 ,15.5718,15.1581,14.5378,14.1235, 13.7084,13.2903,12.6651,12.0369,11.6146 ,11.1875,10.7507,10.3075,9.64061, 8.96504,8.52388,7.86562,7.42522,6.98455 ,6.54241,6.09938,5.65529,5.20945, 4.76329,4.31563,3.86631,3.41606,2.96487 ,2.51273,2.05972,1.60581,1.14791, 0.692121,0.235568,-0.221771,-0.6797, -1.13843,-1.59724,-2.05648,-2.51701, -2.9822,-3.46179,-3.94169,-4.66216, -4.90898,-5.38437,-5.44305)
FOOTPRINT_POINT_LONGITUDE = (256.666,256.414,256.1,256.101,256.1, 256.1,256.099,256.098,256.097,256.096, 256.094,256.093,256.091,256.089,256.087 ,256.085,256.081,256.078,256.075, 256.072,256.069,256.065,256.061,256.057 ,256.053,256.049,256.044,256.037, 256.033,256.028,256.023,256.02,256.018, 256.016,256.014,256.005,256.002,255.995 ,255.986,255.975,255.962,255.948, 255.937,255.926,255.915,255.901,255.892 ,255.878,255.868,256.463,256.91,257.266 ,257.254,257.243,257.233,257.222, 257.206,257.196,257.185,257.175,257.159 ,257.144,257.135,257.127,257.122, 257.119,257.114,257.112,257.107,257.099 ,257.094,257.089,257.084,257.08,257.075 ,257.071,257.067,257.064,257.06,257.057 ,257.054,257.052,257.049,257.047, 257.045,257.043,257.041,257.04,257.038, 257.037,257.036,257.035,257.034,257.034 ,257.033,257.033,257.033,257.035, 257.033,256.666)
ORBIT_NUMBER = 16
ORBITAL_ECCENTRICITY = 0.675
ORBITAL_INCLINATION = 86.65
ORBITAL_SEMIMAJOR_AXIS = 11305.6
PERIAPSIS_ALTITUDE = 273.65
PERIAPSIS_ARGUMENT_ANGLE = 356.98
PERIAPSIS_TIME = 2004-01-13T04:33:06.000Z
SPACECRAFT_ORIENTATION = (0.0,1.0,0.0)
^MEX_ORIENTATION_DESC = "MEX_ORIENTATION_DESC.TXT"
SPACECRAFT_POINTING_MODE = "UNK"
^MEX_POINTING_DESC = "MEX_POINTING_DESC.TXT"
RIGHT_ASCENSION = 1e+32
DECLINATION = 1e+32
OFFSET_ANGLE = 1e+32
SPACECRAFT_SOLAR_DISTANCE = 2.22901e+08
TARGET_NAME = MARS
/* CAMERA DATA ELEMENTS */
DETECTOR_TEMPERATURE = 19.5939
FOCAL_PLANE_TEMPERATURE = 9.3989
INST_CMPRS_NAME = "DISCRETE COSINE TRANSFORMATION (DCT)"
INST_CMPRS_RATIO = 10.2095
INST_CMPRS_QUALITY = 0
INST_CMPRS_QUANTZ_TBL_ID = 0
INSTRUMENT_TEMPERATURE = 12.8652
LENS_TEMPERATURE = 9.6028
MACROPIXEL_SIZE = 2
MISSING_FRAMES = 1
PIXEL_SUBSAMPLING_FLAG = N
SIGNAL_CHAIN_ID = 1
/* RADIOMETRIC DATA ELEMENTS */
BANDWIDTH = 180.0
CENTER_FILTER_WAVELENGTH = 677.0
RADIANCE_OFFSET = 4.76225
RADIANCE_SCALING_FACTOR = 0.0361461
REFLECTANCE_SCALING_FACTOR = 0.000936979
MEX:REFLECTANCE_OFFSET = 0.123447
/* IMAGE OBJECT DEFINITIONS */
OBJECT = IMAGE
  INTERCHANGE_FORMAT = BINARY
  LINES = 54569
  LINE_SAMPLES = 3257
  SAMPLE_TYPE = UNSIGNED_INTEGER
  SAMPLE_BITS = 8
  BANDS = 1
  BAND_STORAGE_TYPE = BAND_SEQUENTIAL
  MAXIMUM = 95
  MEAN = 73.59
  MINIMUM = 21
  STANDARD_DEVIATION = 7.12712
END_OBJECT = IMAGE
/* MAP OBJECT DEFINITIONS */
OBJECT = IMAGE_MAP_PROJECTION
  ^DATA_SET_MAP_PROJECTION_CATALOG= "DSMAP.CAT"
  A_AXIS_RADIUS = 3396.0
  B_AXIS_RADIUS = 3396.0
  C_AXIS_RADIUS = 3396.0
  CENTER_LATITUDE = 0.0
  CENTER_LONGITUDE = 257.0
  COORDINATE_SYSTEM_NAME = PLANETOGRAPHIC
  COORDINATE_SYSTEM_TYPE = "BODY-FIXED ROTATING"
  EASTERNMOST_LONGITUDE = 257.266
  FIRST_STANDARD_PARALLEL = "N/A"
  LINE_FIRST_PIXEL = 1
  LINE_LAST_PIXEL = 54569
  LINE_PROJECTION_OFFSET = 41476.25
  MAP_PROJECTION_ROTATION = 0.0
  MAP_PROJECTION_TYPE = SINUSOIDAL
  MAP_RESOLUTION = 2370.85521546667
  MAP_SCALE = 0.025
  MAXIMUM_LATITUDE = 16.8075
  MINIMUM_LATITUDE = -5.44305
  POSITIVE_LONGITUDE_DIRECTION = EAST
  REFERENCE_LATITUDE = "N/A"
  REFERENCE_LONGITUDE = "N/A"
  SAMPLE_FIRST_PIXEL = 1
  SAMPLE_LAST_PIXEL = 3257
  SAMPLE_PROJECTION_OFFSET = 2604.75
  SECOND_STANDARD_PARALLEL = "N/A"
  WESTERNMOST_LONGITUDE = 255.868
END_OBJECT = IMAGE_MAP_PROJECTION
/* The JPEG2000 image data file associated with this label. */
OBJECT = COMPRESSED_FILE
  FILE_NAME = "H0016_0008_S13.JP2"
  RECORD_TYPE = UNDEFINED
  FILE_RECORDS = UNK
  ENCODING_TYPE = "JP2"
  INTERCHANGE_FORMAT = BINARY
  UNCOMPRESSED_FILE_NAME = "H0016_0008_S13.IMG"
  REQUIRED_STORAGE_BYTES = "177754032"
  ^DESCRIPTION = "JP2INFO.TXT"
END_OBJECT = COMPRESSED_FILE
END
