PDS_VERSION_ID = PDS3
/* FILE DATA ELEMENTS */
RECORD_TYPE = STREAM
/* POINTERS TO DATA OBJECTS */
^COMPRESSED_FILE = "H0018_0004_SR3.JP2"
/* IDENTIFICATION DATA ELEMENTS */
DATA_SET_ID = "MEX-M-HRSC-5-REFDR-MAPPROJECTED-V3.0"
DATA_SET_NAME = "MARS EXPRESS HRSC MAP PROJECTED REFDR V3.0"
DETECTOR_ID = MEX_HRSC_SRC
EVENT_TYPE = "MARS-REGIONAL-STEREO-Vo-Fl-La"
INSTRUMENT_HOST_ID = MEX
INSTRUMENT_HOST_NAME = "MARS EXPRESS"
INSTRUMENT_ID = HRSC
INSTRUMENT_NAME = "HIGH RESOLUTION STEREO CAMERA"
MISSION_NAME = "MARS EXPRESS"
MISSION_PHASE_NAME = MC_Phase_1
PROCESSING_LEVEL_ID = 3
PRODUCT_CREATION_TIME = 2016-03-02T11:36:00.000Z
PRODUCT_ID = "H0018_0004_SR3.JP2"
RELEASE_ID = 0002
REVISION_ID = 0000
/* QUALITY DATA ELEMENTS */
DATA_QUALITY_ID = 1
DATA_QUALITY_DESC = "Data calculated based on original SPICE kernels"
/* TIME DATA ELEMENTS */
SPACECRAFT_CLOCK_START_COUNT = "1/0022120402.32199"
SPACECRAFT_CLOCK_STOP_COUNT = "1/0022120757.49217"
IMAGE_TIME = 2004-01-14T00:35:32.750Z
START_TIME = 2004-01-14T00:35:32.747Z
STOP_TIME = 2004-01-14T00:35:32.753Z
/* ORBITAL DATA ELEMENTS */
ASCENDING_NODE_LONGITUDE = 228.59
MAXIMUM_RESOLUTION = 2.634
FOOTPRINT_POINT_LATITUDE = (-9.321,-9.31931,-9.31677,-9.31419, -9.31165,-9.31001,-9.30796,-9.30613, -9.30489,-9.30346,-9.30119,-9.29972, -9.29723,-9.29518,-9.29371,-9.29153, -9.28953,-9.28797,-9.28592,-9.2845, -9.28223,-9.28063,-9.27885,-9.27822, -9.27822,-9.27822,-9.27822,-9.27822, -9.27822,-9.27822,-9.27822,-9.27822, -9.27822,-9.27822,-9.27822,-9.27822, -9.27822,-9.27822,-9.27822,-9.27822, -9.27822,-9.27822,-9.27822,-9.27822, -9.27822,-9.27822,-9.27822,-9.27822, -9.2808,-9.28254,-9.2837,-9.28632, -9.28828,-9.29082,-9.29256,-9.29411, -9.29594,-9.29718,-9.29852,-9.29981, -9.30124,-9.30262,-9.30435,-9.3068, -9.30831,-9.30951,-9.31116,-9.31299, -9.31526,-9.31695,-9.31811,-9.31953, -9.32149,-9.32305,-9.32305,-9.32305, -9.32305,-9.32305,-9.32305,-9.32305, -9.32305,-9.32305,-9.32305,-9.32305, -9.32305,-9.32305,-9.32305,-9.32305, -9.32305,-9.32305,-9.32305,-9.32305, -9.32305,-9.32305,-9.32305,-9.32305, -9.32305,-9.32305,-9.32305,-9.321)
FOOTPRINT_POINT_LONGITUDE = (323.137,323.137,323.137,323.137, 323.137,323.137,323.137,323.137,323.137 ,323.137,323.137,323.137,323.137, 323.137,323.137,323.137,323.137,323.137 ,323.137,323.137,323.137,323.137, 323.137,323.14,323.141,323.143,323.145, 323.147,323.149,323.15,323.152,323.154, 323.156,323.157,323.159,323.161,323.163 ,323.164,323.166,323.168,323.17,323.171 ,323.173,323.175,323.177,323.178,323.18 ,323.182,323.183,323.183,323.183, 323.183,323.183,323.183,323.183,323.183 ,323.183,323.183,323.183,323.183, 323.183,323.183,323.183,323.183,323.183 ,323.183,323.183,323.183,323.183, 323.183,323.183,323.183,323.183,323.183 ,323.181,323.179,323.178,323.176, 323.175,323.172,323.171,323.169,323.167 ,323.166,323.164,323.162,323.159, 323.157,323.155,323.154,323.152,323.149 ,323.148,323.146,323.144,323.143, 323.141,323.139,323.138,323.137)
ORBIT_NUMBER = 18
ORBITAL_ECCENTRICITY = 0.674
ORBITAL_INCLINATION = 86.66
ORBITAL_SEMIMAJOR_AXIS = 11272.7
PERIAPSIS_ALTITUDE = 274.78
PERIAPSIS_ARGUMENT_ANGLE = 356.7
PERIAPSIS_TIME = 2004-01-14T00:37:00.000Z
SPACECRAFT_ORIENTATION = (0.0,1.0,0.0)
^MEX_ORIENTATION_DESC = "MEX_ORIENTATION_DESC.TXT"
SPACECRAFT_POINTING_MODE = NADIR
^MEX_POINTING_DESC = "MEX_POINTING_DESC.TXT"
RIGHT_ASCENSION = -1e+32
DECLINATION = -1e+32
OFFSET_ANGLE = -1e+32
SPACECRAFT_SOLAR_DISTANCE = 2.23064e+08
TARGET_NAME = MARS
/* CAMERA DATA ELEMENTS */
BUFFER_MODE_ID = BUFFER_8
EXPOSURE_DURATION = 5.04
INST_CMPRS_NAME = NONE
INST_CMPRS_RATIO = 1.0
INST_CMPRS_QUALITY = -2147483648
INST_CMPRS_QUANTZ_TBL_ID = -2147483648
INSTRUMENT_TEMPERATURE = 11.2121
MISSING_FRAMES = 0
START_BIT = 0
/* RADIOMETRIC DATA ELEMENTS */
BANDWIDTH = 250.0
CENTER_FILTER_WAVELENGTH = 600.0
RADIANCE_OFFSET = -9.99e+31
RADIANCE_SCALING_FACTOR = -9.99e+31
REFLECTANCE_SCALING_FACTOR = -9.99e+31
MEX:REFLECTANCE_OFFSET = -9.99e+31
/* IMAGE OBJECT DEFINITIONS */
OBJECT = IMAGE
  INTERCHANGE_FORMAT = BINARY
  LINES = 1105
  LINE_SAMPLES = 1116
  SAMPLE_TYPE = UNSIGNED_INTEGER
  SAMPLE_BITS = 8
  BANDS = 1
  BAND_STORAGE_TYPE = BAND_SEQUENTIAL
  MAXIMUM = 6882
  MEAN = 6316.84
  MINIMUM = 5252
  STANDARD_DEVIATION = 106.516
END_OBJECT = IMAGE
/* MAP OBJECT DEFINITIONS */
OBJECT = IMAGE_MAP_PROJECTION
  ^DATA_SET_MAP_PROJECTION_CATALOG= "DSMAP.CAT"
  A_AXIS_RADIUS = 3396.19
  B_AXIS_RADIUS = 3396.19
  C_AXIS_RADIUS = 3396.19
  CENTER_LATITUDE = 0.0
  CENTER_LONGITUDE = 323.0
  COORDINATE_SYSTEM_NAME = PLANETOGRAPHIC
  COORDINATE_SYSTEM_TYPE = "BODY-FIXED ROTATING"
  EASTERNMOST_LONGITUDE = 323.183
  FIRST_STANDARD_PARALLEL = "N/A"
  LINE_FIRST_PIXEL = 1
  LINE_LAST_PIXEL = 1105
  LINE_PROJECTION_OFFSET = -219950.0
  MAP_PROJECTION_ROTATION = 0.0
  MAP_PROJECTION_TYPE = SINUSOIDAL
  MAP_RESOLUTION = 23709.8786048756
  MAP_SCALE = 0.0025
  MAXIMUM_LATITUDE = -9.278219999999999
  MINIMUM_LATITUDE = -9.32305
  POSITIVE_LONGITUDE_DIRECTION = EAST
  REFERENCE_LATITUDE = "N/A"
  REFERENCE_LONGITUDE = "N/A"
  SAMPLE_FIRST_PIXEL = 1
  SAMPLE_LAST_PIXEL = 1116
  SAMPLE_PROJECTION_OFFSET = -3182.0
  SECOND_STANDARD_PARALLEL = "N/A"
  WESTERNMOST_LONGITUDE = 323.137
END_OBJECT = IMAGE_MAP_PROJECTION
/* The JPEG2000 image data file associated with this label. */
OBJECT = COMPRESSED_FILE
  FILE_NAME = "H0018_0004_SR3.JP2"
  RECORD_TYPE = UNDEFINED
  FILE_RECORDS = UNK
  ENCODING_TYPE = "JP2"
  INTERCHANGE_FORMAT = BINARY
  UNCOMPRESSED_FILE_NAME = "H0018_0004_SR3.IMG"
  REQUIRED_STORAGE_BYTES = "1252152"
  ^DESCRIPTION = "JP2INFO.TXT"
END_OBJECT = COMPRESSED_FILE
END
