PDS_VERSION_ID = PDS3
/* FILE DATA ELEMENTS */
RECORD_TYPE = STREAM
/* POINTERS TO DATA OBJECTS */
^COMPRESSED_FILE = "H0022_0000_ND3.JP2"
/* IDENTIFICATION DATA ELEMENTS */
DATA_SET_ID = "MEX-M-HRSC-5-REFDR-MAPPROJECTED-V3.0"
DATA_SET_NAME = "MARS EXPRESS HRSC MAP PROJECTED REFDR V3.0"
DETECTOR_ID = MEX_HRSC_NADIR
EVENT_TYPE = "MARS-REGIONAL-MAPPING-Vo-Fl-Pf"
INSTRUMENT_HOST_ID = MEX
INSTRUMENT_HOST_NAME = "MARS EXPRESS"
INSTRUMENT_ID = HRSC
INSTRUMENT_NAME = "HIGH RESOLUTION STEREO CAMERA"
MISSION_NAME = "MARS EXPRESS"
MISSION_PHASE_NAME = MC_Phase_1
PROCESSING_LEVEL_ID = 3
PRODUCT_CREATION_TIME = 2016-03-02T11:36:00.000Z
PRODUCT_ID = "H0022_0000_ND3.JP2"
RELEASE_ID = 0002
REVISION_ID = 0000
/* QUALITY DATA ELEMENTS */
DATA_QUALITY_ID = 1
DATA_QUALITY_DESC = "Data calculated based on original SPICE kernels"
/* TIME DATA ELEMENTS */
SPACECRAFT_CLOCK_START_COUNT = "1/0022263021.32357"
SPACECRAFT_CLOCK_STOP_COUNT = "1/0022263684.65219"
START_TIME = 2004-01-15T16:12:22.988Z
STOP_TIME = 2004-01-15T16:21:04.984Z
/* ORBITAL DATA ELEMENTS */
ASCENDING_NODE_LONGITUDE = 228.51
MAXIMUM_RESOLUTION = 12.9
FOOTPRINT_POINT_LATITUDE = (-50.1781,-50.1519,-50.1281,-50.0952, -49.5915,-49.1209,-48.194,-47.2888, -46.4031,-45.5356,-44.6874,-43.8571, -43.0441,-42.2469,-41.4656,-40.7007, -39.9499,-39.214,-38.492,-37.7818, -37.0853,-36.4019,-35.7304,-35.0701, -34.421,-33.7771,-33.149,-32.5299, -31.9205,-31.3226,-30.7335,-30.1518, -29.5765,-29.0135,-28.1809,-27.3649, -26.8277,-26.3009,-25.7788,-25.264, -24.7544,-24.252,-23.7529,-23.2632, -22.5337,-22.0566,-21.345,-20.1838, -19.2812,-18.6066,-18.6032,-19.2795, -20.1828,-20.6476,-21.3448,-21.8176, -22.2957,-22.7731,-23.2644,-23.7546, -24.254,-24.7571,-25.267,-25.7825, -26.3051,-26.8327,-27.3704,-28.1875, -29.0214,-29.5852,-30.1615,-30.7443, -31.3344,-31.9335,-32.5443,-33.1648, -33.7943,-34.4396,-35.0904,-35.7525, -36.4262,-37.1116,-37.8102,-38.523, -39.2477,-39.9865,-40.7408,-41.5088, -42.294,-43.0954,-43.9129,-44.7482, -45.602,-46.4753,-47.368,-48.2807, -49.2155,-49.6908,-50.1716,-50.1781)
FOOTPRINT_POINT_LONGITUDE = (101.813,100.536,99.7299,98.8379, 98.3145,98.3978,98.5448,98.684,98.8152, 98.9275,99.0387,99.1379,99.2304,99.318, 99.3994,99.4718,99.5445,99.6125,99.6737 ,99.7317,99.7869,99.8346,99.8872, 99.9326,99.9725,100.012,100.051,100.087 ,100.122,100.154,100.185,100.215, 100.243,100.269,100.307,100.341,100.362 ,100.383,100.402,100.421,100.439, 100.456,100.472,100.486,100.508,100.521 ,100.54,100.569,100.59,100.604,101.224, 101.799,101.811,101.816,101.826,101.832 ,101.839,101.846,101.853,101.861, 101.868,101.875,101.885,101.894,101.903 ,101.913,101.923,101.939,101.955, 101.966,101.978,101.991,102.005,102.011 ,102.03,102.041,102.059,102.076,102.086 ,102.107,102.125,102.143,102.163, 102.183,102.205,102.227,102.251,102.276 ,102.306,102.333,102.358,102.388,102.42 ,102.454,102.491,102.529,102.568, 102.587,102.61,101.813)
ORBIT_NUMBER = 22
ORBITAL_ECCENTRICITY = 0.667
ORBITAL_INCLINATION = 86.65
ORBITAL_SEMIMAJOR_AXIS = 11036.1
PERIAPSIS_ALTITUDE = 273.43
PERIAPSIS_ARGUMENT_ANGLE = 356.05
PERIAPSIS_TIME = 2004-01-15T16:24:40.000Z
SPACECRAFT_ORIENTATION = (0.0,1.0,0.0)
^MEX_ORIENTATION_DESC = "MEX_ORIENTATION_DESC.TXT"
SPACECRAFT_POINTING_MODE = NADIR
^MEX_POINTING_DESC = "MEX_POINTING_DESC.TXT"
RIGHT_ASCENSION = -1e+32
DECLINATION = -1e+32
OFFSET_ANGLE = -1e+32
SPACECRAFT_SOLAR_DISTANCE = 2.23386e+08
TARGET_NAME = MARS
/* CAMERA DATA ELEMENTS */
DETECTOR_TEMPERATURE = 17.351
FOCAL_PLANE_TEMPERATURE = 9.3989
INST_CMPRS_NAME = "DISCRETE COSINE TRANSFORMATION (DCT)"
INST_CMPRS_RATIO = 6.93447
INST_CMPRS_QUALITY = 0
INST_CMPRS_QUANTZ_TBL_ID = 0
INSTRUMENT_TEMPERATURE = 10.8262
LENS_TEMPERATURE = 9.6028
MACROPIXEL_SIZE = 1
MISSING_FRAMES = 2
PIXEL_SUBSAMPLING_FLAG = N
SIGNAL_CHAIN_ID = 0
/* RADIOMETRIC DATA ELEMENTS */
BANDWIDTH = 177.0
CENTER_FILTER_WAVELENGTH = 677.5
RADIANCE_OFFSET = 4.75506
RADIANCE_SCALING_FACTOR = 0.0210795
REFLECTANCE_SCALING_FACTOR = 0.00055879
MEX:REFLECTANCE_OFFSET = 0.12605
/* IMAGE OBJECT DEFINITIONS */
OBJECT = IMAGE
  INTERCHANGE_FORMAT = BINARY
  LINES = 149778
  LINE_SAMPLES = 13487
  SAMPLE_TYPE = UNSIGNED_INTEGER
  SAMPLE_BITS = 8
  BANDS = 1
  BAND_STORAGE_TYPE = BAND_SEQUENTIAL
  MAXIMUM = 208
  MEAN = 140.124
  MINIMUM = 85
  STANDARD_DEVIATION = 16.9258
END_OBJECT = IMAGE
/* MAP OBJECT DEFINITIONS */
OBJECT = IMAGE_MAP_PROJECTION
  ^DATA_SET_MAP_PROJECTION_CATALOG= "DSMAP.CAT"
  A_AXIS_RADIUS = 3396.0
  B_AXIS_RADIUS = 3396.0
  C_AXIS_RADIUS = 3396.0
  CENTER_LATITUDE = 0.0
  CENTER_LONGITUDE = 101.0
  COORDINATE_SYSTEM_NAME = PLANETOGRAPHIC
  COORDINATE_SYSTEM_TYPE = "BODY-FIXED ROTATING"
  EASTERNMOST_LONGITUDE = 102.61
  FIRST_STANDARD_PARALLEL = "N/A"
  LINE_FIRST_PIXEL = 1
  LINE_LAST_PIXEL = 149778
  LINE_PROJECTION_OFFSET = -88196.0
  MAP_PROJECTION_ROTATION = 0.0
  MAP_PROJECTION_TYPE = SINUSOIDAL
  MAP_RESOLUTION = 4741.71043093333
  MAP_SCALE = 0.0125
  MAXIMUM_LATITUDE = -18.6032
  MINIMUM_LATITUDE = -50.1781
  POSITIVE_LONGITUDE_DIRECTION = EAST
  REFERENCE_LATITUDE = "N/A"
  REFERENCE_LONGITUDE = "N/A"
  SAMPLE_FIRST_PIXEL = 1
  SAMPLE_LAST_PIXEL = 13487
  SAMPLE_PROJECTION_OFFSET = 8501.0
  SECOND_STANDARD_PARALLEL = "N/A"
  WESTERNMOST_LONGITUDE = 98.3145
END_OBJECT = IMAGE_MAP_PROJECTION
/* The JPEG2000 image data file associated with this label. */
OBJECT = COMPRESSED_FILE
  FILE_NAME = "H0022_0000_ND3.JP2"
  RECORD_TYPE = UNDEFINED
  FILE_RECORDS = UNK
  ENCODING_TYPE = "JP2"
  INTERCHANGE_FORMAT = BINARY
  UNCOMPRESSED_FILE_NAME = "H0022_0000_ND3.IMG"
  REQUIRED_STORAGE_BYTES = "2020096347"
  ^DESCRIPTION = "JP2INFO.TXT"
END_OBJECT = COMPRESSED_FILE
END
